BEGIN:VCALENDAR
VERSION:2.0
PRODID:-//Compañía Nacional de Teatro Clásico - ECPv6.15.16//NONSGML v1.0//EN
CALSCALE:GREGORIAN
METHOD:PUBLISH
X-ORIGINAL-URL:https://teatroclasico.inaem.gob.es
X-WR-CALDESC:Eventos para Compañía Nacional de Teatro Clásico
REFRESH-INTERVAL;VALUE=DURATION:PT1H
X-Robots-Tag:noindex
X-PUBLISHED-TTL:PT1H
BEGIN:VTIMEZONE
TZID:Europe/Helsinki
BEGIN:DAYLIGHT
TZOFFSETFROM:+0200
TZOFFSETTO:+0300
TZNAME:EEST
DTSTART:20160327T010000
END:DAYLIGHT
BEGIN:STANDARD
TZOFFSETFROM:+0300
TZOFFSETTO:+0200
TZNAME:EET
DTSTART:20161030T010000
END:STANDARD
BEGIN:DAYLIGHT
TZOFFSETFROM:+0200
TZOFFSETTO:+0300
TZNAME:EEST
DTSTART:20170326T010000
END:DAYLIGHT
BEGIN:STANDARD
TZOFFSETFROM:+0300
TZOFFSETTO:+0200
TZNAME:EET
DTSTART:20171029T010000
END:STANDARD
BEGIN:DAYLIGHT
TZOFFSETFROM:+0200
TZOFFSETTO:+0300
TZNAME:EEST
DTSTART:20180325T010000
END:DAYLIGHT
BEGIN:STANDARD
TZOFFSETFROM:+0300
TZOFFSETTO:+0200
TZNAME:EET
DTSTART:20181028T010000
END:STANDARD
BEGIN:DAYLIGHT
TZOFFSETFROM:+0200
TZOFFSETTO:+0300
TZNAME:EEST
DTSTART:20190331T010000
END:DAYLIGHT
BEGIN:STANDARD
TZOFFSETFROM:+0300
TZOFFSETTO:+0200
TZNAME:EET
DTSTART:20191027T010000
END:STANDARD
END:VTIMEZONE
BEGIN:VEVENT
DTSTART;VALUE=DATE:20170407
DTEND;VALUE=DATE:20170508
DTSTAMP:20260425T182047
CREATED:20160622T095051Z
LAST-MODIFIED:20180626T214601Z
UID:6201-1491523200-1494201599@teatroclasico.inaem.gob.es
SUMMARY:Sueños - Madrid
DESCRIPTION:
URL:https://teatroclasico.inaem.gob.es/evento/los-suenos-madrid/
LOCATION:Teatro de la Comedia\, Madrid\, Madrid\, España
CATEGORIES:Programación,Teatro de la Comedia,Temporada 2016 / 2017
ATTACH;FMTTYPE=image/jpeg:https://teatroclasico.inaem.gob.es/wp-content/uploads/2016/06/Sueños-banner-recortado-web.jpg
ORGANIZER;CN="Compa%C3%B1%C3%ADa Nacional de Teatro Cl%C3%A1sico":MAILTO:teatro.clasico@inaem.mcu.es
END:VEVENT
BEGIN:VEVENT
DTSTART;VALUE=DATE:20170420
DTEND;VALUE=DATE:20170421
DTSTAMP:20260425T182047
CREATED:20160622T132753Z
LAST-MODIFIED:20180626T214601Z
UID:6266-1492646400-1492732799@teatroclasico.inaem.gob.es
SUMMARY:Sueños - Encuentro con el público
DESCRIPTION:
URL:https://teatroclasico.inaem.gob.es/evento/los-suenos-encuentro-con-el-publico/
LOCATION:Teatro de la Comedia\, Madrid\, Madrid\, España
CATEGORIES:Programación,Teatro de la Comedia,Temporada 2016 / 2017
ATTACH;FMTTYPE=image/jpeg:https://teatroclasico.inaem.gob.es/wp-content/uploads/2016/06/Sueños-banner-recortado-web.jpg
ORGANIZER;CN="Compa%C3%B1%C3%ADa Nacional de Teatro Cl%C3%A1sico":MAILTO:teatro.clasico@inaem.mcu.es
END:VEVENT
BEGIN:VEVENT
DTSTART;VALUE=DATE:20170420
DTEND;VALUE=DATE:20170424
DTSTAMP:20260425T182047
CREATED:20160622T095017Z
LAST-MODIFIED:20180626T214601Z
UID:5975-1492646400-1492991999@teatroclasico.inaem.gob.es
SUMMARY:El perro del hortelano - Valencia
DESCRIPTION:
URL:https://teatroclasico.inaem.gob.es/evento/el-perro-del-hortelano-valencia-2017/
LOCATION:Teatro Principal de Valencia\, Carrer de les Barques\, 15\, Valencia\, 46002
CATEGORIES:Programación,Temporada 2016 / 2017
ATTACH;FMTTYPE=image/jpeg:https://teatroclasico.inaem.gob.es/wp-content/uploads/2016/06/perrodelhortelano.jpg
ORGANIZER;CN="Compa%C3%B1%C3%ADa Nacional de Teatro Cl%C3%A1sico":MAILTO:teatro.clasico@inaem.mcu.es
END:VEVENT
BEGIN:VEVENT
DTSTART;VALUE=DATE:20170505
DTEND;VALUE=DATE:20170508
DTSTAMP:20260425T182047
CREATED:20160622T095031Z
LAST-MODIFIED:20180626T214601Z
UID:5979-1493942400-1494201599@teatroclasico.inaem.gob.es
SUMMARY:El perro del hortelano - Pamplona
DESCRIPTION:
URL:https://teatroclasico.inaem.gob.es/evento/el-perro-del-hortelano-pamplona/
LOCATION:Teatro Gayarre\, Av de Carlos III\, 1\, Pamplona\, Navarra\, 31002\, España
CATEGORIES:Programación,Temporada 2016 / 2017
ATTACH;FMTTYPE=image/jpeg:https://teatroclasico.inaem.gob.es/wp-content/uploads/2016/06/perrodelhortelano.jpg
ORGANIZER;CN="Compa%C3%B1%C3%ADa Nacional de Teatro Cl%C3%A1sico":MAILTO:teatro.clasico@inaem.mcu.es
END:VEVENT
BEGIN:VEVENT
DTSTART;VALUE=DATE:20170519
DTEND;VALUE=DATE:20170612
DTSTAMP:20260425T182047
CREATED:20160622T095028Z
LAST-MODIFIED:20180626T214600Z
UID:6203-1495152000-1497225599@teatroclasico.inaem.gob.es
SUMMARY:Fuente Ovejuna - Madrid
DESCRIPTION:
URL:https://teatroclasico.inaem.gob.es/evento/fuente-ovejuna-madrid/
LOCATION:Teatro de la Comedia\, Madrid\, Madrid\, España
CATEGORIES:Programación,Teatro de la Comedia,Temporada 2016 / 2017
ATTACH;FMTTYPE=image/jpeg:https://teatroclasico.inaem.gob.es/wp-content/uploads/2016/06/fuenteovejuna.jpg
ORGANIZER;CN="Compa%C3%B1%C3%ADa Nacional de Teatro Cl%C3%A1sico":MAILTO:teatro.clasico@inaem.mcu.es
END:VEVENT
BEGIN:VEVENT
DTSTART;VALUE=DATE:20170526
DTEND;VALUE=DATE:20170528
DTSTAMP:20260425T182047
CREATED:20160622T095019Z
LAST-MODIFIED:20180626T214600Z
UID:5978-1495756800-1495929599@teatroclasico.inaem.gob.es
SUMMARY:El perro del hortelano - Mallorca
DESCRIPTION:
URL:https://teatroclasico.inaem.gob.es/evento/el-perro-del-hortelano-mallorca-2017/
LOCATION:Teatre Principal de Mallorca\, Carrer de la Riera\, 2 A\, Palma\, Baleares\, 07003\, España
CATEGORIES:Programación,Temporada 2016 / 2017
ATTACH;FMTTYPE=image/jpeg:https://teatroclasico.inaem.gob.es/wp-content/uploads/2016/06/perrodelhortelano.jpg
ORGANIZER;CN="Compa%C3%B1%C3%ADa Nacional de Teatro Cl%C3%A1sico":MAILTO:teatro.clasico@inaem.mcu.es
END:VEVENT
BEGIN:VEVENT
DTSTART;VALUE=DATE:20170529
DTEND;VALUE=DATE:20170530
DTSTAMP:20260425T182047
CREATED:20160621T175253Z
LAST-MODIFIED:20180626T214600Z
UID:6218-1496016000-1496102399@teatroclasico.inaem.gob.es
SUMMARY:Inquisición - Madrid
DESCRIPTION:
URL:https://teatroclasico.inaem.gob.es/evento/inquisicion-madrid/
LOCATION:Teatro de la Comedia\, Madrid\, Madrid\, España
CATEGORIES:Programación,Teatro de la Comedia,Temporada 2016 / 2017
ATTACH;FMTTYPE=image/jpeg:https://teatroclasico.inaem.gob.es/wp-content/uploads/2016/06/inquisicion.jpg
ORGANIZER;CN="Compa%C3%B1%C3%ADa Nacional de Teatro Cl%C3%A1sico":MAILTO:teatro.clasico@inaem.mcu.es
END:VEVENT
BEGIN:VEVENT
DTSTART;VALUE=DATE:20170601
DTEND;VALUE=DATE:20170602
DTSTAMP:20260425T182047
CREATED:20160622T134235Z
LAST-MODIFIED:20180626T214600Z
UID:6270-1496275200-1496361599@teatroclasico.inaem.gob.es
SUMMARY:Fuente Ovejuna - Encuentro con el público
DESCRIPTION:
URL:https://teatroclasico.inaem.gob.es/evento/fuente-ovejuna-encuentro-con-el-publico/
LOCATION:Teatro de la Comedia\, Madrid\, Madrid\, España
CATEGORIES:Programación,Teatro de la Comedia,Temporada 2016 / 2017
ATTACH;FMTTYPE=image/jpeg:https://teatroclasico.inaem.gob.es/wp-content/uploads/2016/06/fuenteovejuna.jpg
ORGANIZER;CN="Compa%C3%B1%C3%ADa Nacional de Teatro Cl%C3%A1sico":MAILTO:teatro.clasico@inaem.mcu.es
END:VEVENT
BEGIN:VEVENT
DTSTART;VALUE=DATE:20170616
DTEND;VALUE=DATE:20170617
DTSTAMP:20260425T182047
CREATED:20170503T190832Z
LAST-MODIFIED:20180626T214600Z
UID:7170-1497571200-1497657599@teatroclasico.inaem.gob.es
SUMMARY:Fuente Ovejuna - Festival de Teatro Clásico de Cáceres
DESCRIPTION:
URL:https://teatroclasico.inaem.gob.es/evento/fuente-ovejuna-festival-de-teatro-clasico-de-caceres/
LOCATION:Festival de Teatro Clásico de Cáceres\, Cáceres\, España
CATEGORIES:En gira,Programación,Temporada 2016 / 2017
ATTACH;FMTTYPE=image/jpeg:https://teatroclasico.inaem.gob.es/wp-content/uploads/2016/06/fuenteovejuna.jpg
ORGANIZER;CN="Compa%C3%B1%C3%ADa Nacional de Teatro Cl%C3%A1sico":MAILTO:teatro.clasico@inaem.mcu.es
END:VEVENT
BEGIN:VEVENT
DTSTART;VALUE=DATE:20170706
DTEND;VALUE=DATE:20170717
DTSTAMP:20260425T182047
CREATED:20170503T174536Z
LAST-MODIFIED:20180626T214600Z
UID:7158-1499299200-1500249599@teatroclasico.inaem.gob.es
SUMMARY:La dama duende - Hospital de San Juan
DESCRIPTION:
URL:https://teatroclasico.inaem.gob.es/evento/la-dama-duende-hospital-de-san-juan/
LOCATION:Hospital de San Juan\, C/ San Agustín\, s/n\, Almagro (Festival de Teatro Clásico)\, Ciudad Real\, 13270\, España
CATEGORIES:En gira,Programación,Temporada 2016 / 2017
ATTACH;FMTTYPE=image/png:https://teatroclasico.inaem.gob.es/wp-content/uploads/2015/09/cntc.png
ORGANIZER;CN="Compa%C3%B1%C3%ADa Nacional de Teatro Cl%C3%A1sico":MAILTO:teatro.clasico@inaem.mcu.es
END:VEVENT
BEGIN:VEVENT
DTSTART;VALUE=DATE:20170709
DTEND;VALUE=DATE:20170710
DTSTAMP:20260425T182047
CREATED:20170503T181502Z
LAST-MODIFIED:20180626T214600Z
UID:7162-1499558400-1499644799@teatroclasico.inaem.gob.es
SUMMARY:La judía de Toledo - AUREA
DESCRIPTION:
URL:https://teatroclasico.inaem.gob.es/evento/la-judia-de-toledo-aurea/
LOCATION:AUREA – Antigua Universidad Renacentista\, Ronda de Santo Domingo\, 7\, Almagro\, Ciudad Real\, 13270\, España
CATEGORIES:En gira,Programación,Temporada 2016 / 2017
ATTACH;FMTTYPE=image/jpeg:https://teatroclasico.inaem.gob.es/wp-content/uploads/2016/06/judiadetoledo.jpg
ORGANIZER;CN="Compa%C3%B1%C3%ADa Nacional de Teatro Cl%C3%A1sico":MAILTO:teatro.clasico@inaem.mcu.es
END:VEVENT
BEGIN:VEVENT
DTSTART;VALUE=DATE:20170714
DTEND;VALUE=DATE:20170715
DTSTAMP:20260425T182047
CREATED:20170503T191525Z
LAST-MODIFIED:20180626T214600Z
UID:7172-1499990400-1500076799@teatroclasico.inaem.gob.es
SUMMARY:Fuente Ovejuna - Festival de Teatro Clásico de Olmedo
DESCRIPTION:
URL:https://teatroclasico.inaem.gob.es/evento/fuente-ovejuna-festival-de-teatro-clasico-de-olmedo/
LOCATION:Festival de Teatro Clásico de Olmedo\, Olmedo\, España
CATEGORIES:En gira,Programación,Temporada 2016 / 2017
ATTACH;FMTTYPE=image/jpeg:https://teatroclasico.inaem.gob.es/wp-content/uploads/2016/06/fuenteovejuna.jpg
ORGANIZER;CN="Compa%C3%B1%C3%ADa Nacional de Teatro Cl%C3%A1sico":MAILTO:teatro.clasico@inaem.mcu.es
END:VEVENT
BEGIN:VEVENT
DTSTART;VALUE=DATE:20170714
DTEND;VALUE=DATE:20170717
DTSTAMP:20260425T182047
CREATED:20170503T183319Z
LAST-MODIFIED:20180626T214600Z
UID:7166-1499990400-1500249599@teatroclasico.inaem.gob.es
SUMMARY:Sueños - AUREA
DESCRIPTION:
URL:https://teatroclasico.inaem.gob.es/evento/suenos-aurea/
LOCATION:AUREA – Antigua Universidad Renacentista\, Ronda de Santo Domingo\, 7\, Almagro\, Ciudad Real\, 13270\, España
CATEGORIES:En gira,Programación,Temporada 2016 / 2017
ATTACH;FMTTYPE=image/jpeg:https://teatroclasico.inaem.gob.es/wp-content/uploads/2016/06/Sueños-banner-recortado-web.jpg
ORGANIZER;CN="Compa%C3%B1%C3%ADa Nacional de Teatro Cl%C3%A1sico":MAILTO:teatro.clasico@inaem.mcu.es
END:VEVENT
BEGIN:VEVENT
DTSTART;VALUE=DATE:20170719
DTEND;VALUE=DATE:20170724
DTSTAMP:20260425T182047
CREATED:20160622T140659Z
LAST-MODIFIED:20180626T214600Z
UID:6271-1500422400-1500854399@teatroclasico.inaem.gob.es
SUMMARY:Fuenteovejuna - Almagro
DESCRIPTION:
URL:https://teatroclasico.inaem.gob.es/evento/fuenteovejuna-almagro/
LOCATION:Festival de Teatro Clásico\, Calle Bernardas\, nº 2\, Almagro\, Ciudad Real\, 13270\, España
CATEGORIES:En gira,Programación,Temporada 2016 / 2017
ATTACH;FMTTYPE=image/jpeg:https://teatroclasico.inaem.gob.es/wp-content/uploads/2016/06/fuenteovejuna.jpg
ORGANIZER;CN="Compa%C3%B1%C3%ADa Nacional de Teatro Cl%C3%A1sico":MAILTO:teatro.clasico@inaem.mcu.es
END:VEVENT
BEGIN:VEVENT
DTSTART;VALUE=DATE:20170719
DTEND;VALUE=DATE:20170724
DTSTAMP:20260425T182047
CREATED:20170503T190153Z
LAST-MODIFIED:20180626T214600Z
UID:7168-1500422400-1500854399@teatroclasico.inaem.gob.es
SUMMARY:Fuente Ovejuna - AUREA
DESCRIPTION:
URL:https://teatroclasico.inaem.gob.es/evento/fuente-ovejuna-aurea/
LOCATION:AUREA – Antigua Universidad Renacentista\, Ronda de Santo Domingo\, 7\, Almagro\, Ciudad Real\, 13270\, España
CATEGORIES:En gira,Programación,Temporada 2016 / 2017
ATTACH;FMTTYPE=image/jpeg:https://teatroclasico.inaem.gob.es/wp-content/uploads/2016/06/fuenteovejuna.jpg
ORGANIZER;CN="Compa%C3%B1%C3%ADa Nacional de Teatro Cl%C3%A1sico":MAILTO:teatro.clasico@inaem.mcu.es
END:VEVENT
BEGIN:VEVENT
DTSTART;VALUE=DATE:20170721
DTEND;VALUE=DATE:20170731
DTSTAMP:20260425T182047
CREATED:20170503T193040Z
LAST-MODIFIED:20180626T214600Z
UID:7175-1500595200-1501459199@teatroclasico.inaem.gob.es
SUMMARY:El perro del hortelano - Hospital de San Juan
DESCRIPTION:
URL:https://teatroclasico.inaem.gob.es/evento/el-perro-del-hortelano-hospital-de-san-juan/
LOCATION:Hospital de San Juan\, C/ San Agustín\, s/n\, Almagro (Festival de Teatro Clásico)\, Ciudad Real\, 13270\, España
CATEGORIES:En gira,Programación,Temporada 2016 / 2017
ATTACH;FMTTYPE=image/jpeg:https://teatroclasico.inaem.gob.es/wp-content/uploads/2016/06/perrodelhortelano.jpg
ORGANIZER;CN="Compa%C3%B1%C3%ADa Nacional de Teatro Cl%C3%A1sico":MAILTO:teatro.clasico@inaem.mcu.es
END:VEVENT
BEGIN:VEVENT
DTSTART;VALUE=DATE:20171005
DTEND;VALUE=DATE:20171211
DTSTAMP:20260425T182047
CREATED:20170906T113028Z
LAST-MODIFIED:20180626T214600Z
UID:7476-1507161600-1512950399@teatroclasico.inaem.gob.es
SUMMARY:La dama duende - Madrid
DESCRIPTION:
URL:https://teatroclasico.inaem.gob.es/evento/la-dama-duende/
LOCATION:Teatro de la Comedia\, Madrid\, Madrid\, España
CATEGORIES:Programación,Teatro de la Comedia,Temporada 2017 / 2018
ATTACH;FMTTYPE=image/jpeg:https://teatroclasico.inaem.gob.es/wp-content/uploads/2017/09/la-dama-duende.jpg
ORGANIZER;CN="Compa%C3%B1%C3%ADa Nacional de Teatro Cl%C3%A1sico":MAILTO:teatro.clasico@inaem.mcu.es
END:VEVENT
BEGIN:VEVENT
DTSTART;VALUE=DATE:20171019
DTEND;VALUE=DATE:20171030
DTSTAMP:20260425T182047
CREATED:20170906T113037Z
LAST-MODIFIED:20180626T214600Z
UID:7489-1508371200-1509321599@teatroclasico.inaem.gob.es
SUMMARY:Barrio de las letras - Madrid
DESCRIPTION:
URL:https://teatroclasico.inaem.gob.es/evento/barrio-de-las-letras-madrid/
LOCATION:Teatro de la Comedia\, Madrid\, Madrid\, España
CATEGORIES:Programación,Teatro de la Comedia,Temporada 2017 / 2018
ATTACH;FMTTYPE=image/jpeg:https://teatroclasico.inaem.gob.es/wp-content/uploads/2017/09/barrio-de-las-letras.jpg
ORGANIZER;CN="Compa%C3%B1%C3%ADa Nacional de Teatro Cl%C3%A1sico":MAILTO:teatro.clasico@inaem.mcu.es
END:VEVENT
BEGIN:VEVENT
DTSTART;VALUE=DATE:20171115
DTEND;VALUE=DATE:20171116
DTSTAMP:20260425T182047
CREATED:20170906T113000Z
LAST-MODIFIED:20180626T214600Z
UID:7490-1510704000-1510790399@teatroclasico.inaem.gob.es
SUMMARY:La voz de nuestros clásicos - Bruselas
DESCRIPTION:
URL:https://teatroclasico.inaem.gob.es/evento/la-vo-de-nuestros-clasicos-bruselas/
LOCATION:Bruselas\, Bruselas\, Bélgica
CATEGORIES:En gira,Programación,Temporada 2017 / 2018
ATTACH;FMTTYPE=image/jpeg:https://teatroclasico.inaem.gob.es/wp-content/uploads/2017/09/la-voz-de-nuestros-clasicos-2017.jpg
ORGANIZER;CN="Compa%C3%B1%C3%ADa Nacional de Teatro Cl%C3%A1sico":MAILTO:teatro.clasico@inaem.mcu.es
END:VEVENT
BEGIN:VEVENT
DTSTART;VALUE=DATE:20171117
DTEND;VALUE=DATE:20171118
DTSTAMP:20260425T182047
CREATED:20170906T113049Z
LAST-MODIFIED:20180626T214600Z
UID:7492-1510876800-1510963199@teatroclasico.inaem.gob.es
SUMMARY:La voz de nuestros clásicos - Lyon
DESCRIPTION:
URL:https://teatroclasico.inaem.gob.es/evento/la-voz-de-nuestros-clasicos-lyon/
LOCATION:Lyon\, Lyon
CATEGORIES:En gira,Programación,Temporada 2017 / 2018
ATTACH;FMTTYPE=image/jpeg:https://teatroclasico.inaem.gob.es/wp-content/uploads/2017/09/la-voz-de-nuestros-clasicos-2017.jpg
ORGANIZER;CN="Compa%C3%B1%C3%ADa Nacional de Teatro Cl%C3%A1sico":MAILTO:teatro.clasico@inaem.mcu.es
END:VEVENT
BEGIN:VEVENT
DTSTART;VALUE=DATE:20171119
DTEND;VALUE=DATE:20171120
DTSTAMP:20260425T182047
CREATED:20170906T113023Z
LAST-MODIFIED:20180626T214600Z
UID:7494-1511049600-1511135999@teatroclasico.inaem.gob.es
SUMMARY:La voz de nuestros clásicos - Milán
DESCRIPTION:
URL:https://teatroclasico.inaem.gob.es/evento/la-voz-de-nuestros-clasicos-milan/
LOCATION:Milán\, Milán
CATEGORIES:En gira,Programación,Temporada 2017 / 2018
ATTACH;FMTTYPE=image/jpeg:https://teatroclasico.inaem.gob.es/wp-content/uploads/2017/09/la-voz-de-nuestros-clasicos.jpg
ORGANIZER;CN="Compa%C3%B1%C3%ADa Nacional de Teatro Cl%C3%A1sico":MAILTO:teatro.clasico@inaem.mcu.es
END:VEVENT
BEGIN:VEVENT
DTSTART;VALUE=DATE:20171128
DTEND;VALUE=DATE:20171231
DTSTAMP:20260425T182047
CREATED:20170906T113059Z
LAST-MODIFIED:20180626T214600Z
UID:7496-1511827200-1514678399@teatroclasico.inaem.gob.es
SUMMARY:La dama boba - Madrid
DESCRIPTION:
URL:https://teatroclasico.inaem.gob.es/evento/la-dama-boba-madrid/
LOCATION:Teatro de la Comedia\, Madrid\, Madrid\, España
CATEGORIES:Programación,Teatro de la Comedia,Temporada 2017 / 2018
ATTACH;FMTTYPE=image/jpeg:https://teatroclasico.inaem.gob.es/wp-content/uploads/2017/09/la-dama-boba.jpg
ORGANIZER;CN="Compa%C3%B1%C3%ADa Nacional de Teatro Cl%C3%A1sico":MAILTO:teatro.clasico@inaem.mcu.es
END:VEVENT
BEGIN:VEVENT
DTSTART;VALUE=DATE:20171214
DTEND;VALUE=DATE:20180108
DTSTAMP:20260425T182047
CREATED:20170906T113033Z
LAST-MODIFIED:20180626T214600Z
UID:7499-1513209600-1515369599@teatroclasico.inaem.gob.es
SUMMARY:El perro del hortelano - Barcelona
DESCRIPTION:
URL:https://teatroclasico.inaem.gob.es/evento/el-perro-del-hortelano-barcelona/
LOCATION:Teatro Nacional de Catalunya\, Plaça de les Arts\, 1\, Barcelona\, Madrid\, 08013 
CATEGORIES:En gira,Programación,Temporada 2017 / 2018
ATTACH;FMTTYPE=image/jpeg:https://teatroclasico.inaem.gob.es/wp-content/uploads/2017/09/perro-del-hortelano.jpg
ORGANIZER;CN="Compa%C3%B1%C3%ADa Nacional de Teatro Cl%C3%A1sico":MAILTO:teatro.clasico@inaem.mcu.es
END:VEVENT
BEGIN:VEVENT
DTSTART;VALUE=DATE:20171216
DTEND;VALUE=DATE:20180108
DTSTAMP:20260425T182047
CREATED:20170906T113026Z
LAST-MODIFIED:20180626T214600Z
UID:7497-1513382400-1515369599@teatroclasico.inaem.gob.es
SUMMARY:Otro gran teatro del mundo - Madrid
DESCRIPTION:
URL:https://teatroclasico.inaem.gob.es/evento/otro-gran-teatro-del-mundo-madrid/
LOCATION:Teatro de la Comedia\, Madrid\, Madrid\, España
CATEGORIES:Programación,Teatro de la Comedia,Temporada 2017 / 2018
ATTACH;FMTTYPE=image/jpeg:https://teatroclasico.inaem.gob.es/wp-content/uploads/2017/09/otro-gran-teatro-del-mundo.jpg
ORGANIZER;CN="Compa%C3%B1%C3%ADa Nacional de Teatro Cl%C3%A1sico":MAILTO:teatro.clasico@inaem.mcu.es
END:VEVENT
BEGIN:VEVENT
DTSTART;VALUE=DATE:20180113
DTEND;VALUE=DATE:20180219
DTSTAMP:20260425T182047
CREATED:20170906T113018Z
LAST-MODIFIED:20180626T214600Z
UID:7498-1515801600-1518998399@teatroclasico.inaem.gob.es
SUMMARY:El perro del hortelano - Madrid
DESCRIPTION:
URL:https://teatroclasico.inaem.gob.es/evento/el-perro-del-hortelano-madrid/
LOCATION:Teatro de la Comedia\, Madrid\, Madrid\, España
CATEGORIES:Programación,Teatro de la Comedia,Temporada 2017 / 2018
ATTACH;FMTTYPE=image/jpeg:https://teatroclasico.inaem.gob.es/wp-content/uploads/2017/09/perro-del-hortelano.jpg
ORGANIZER;CN="Compa%C3%B1%C3%ADa Nacional de Teatro Cl%C3%A1sico":MAILTO:teatro.clasico@inaem.mcu.es
END:VEVENT
BEGIN:VEVENT
DTSTART;VALUE=DATE:20180212
DTEND;VALUE=DATE:20180213
DTSTAMP:20260425T182047
CREATED:20170906T113034Z
LAST-MODIFIED:20180626T214600Z
UID:7607-1518393600-1518479999@teatroclasico.inaem.gob.es
SUMMARY:Caín\, pirata - Madrid
DESCRIPTION:
URL:https://teatroclasico.inaem.gob.es/evento/cain-pirata-madrid/
LOCATION:Teatro de la Comedia\, Madrid\, Madrid\, España
CATEGORIES:Programación,Teatro de la Comedia,Temporada 2017 / 2018
ATTACH;FMTTYPE=image/jpeg:https://teatroclasico.inaem.gob.es/wp-content/uploads/2017/09/cain-pirata.jpg
ORGANIZER;CN="Compa%C3%B1%C3%ADa Nacional de Teatro Cl%C3%A1sico":MAILTO:teatro.clasico@inaem.mcu.es
END:VEVENT
BEGIN:VEVENT
DTSTART;VALUE=DATE:20180222
DTEND;VALUE=DATE:20180226
DTSTAMP:20260425T182047
CREATED:20170906T113047Z
LAST-MODIFIED:20180626T214600Z
UID:7501-1519257600-1519603199@teatroclasico.inaem.gob.es
SUMMARY:El perro del hortelano - Bilbao
DESCRIPTION:
URL:https://teatroclasico.inaem.gob.es/evento/el-perro-del-hortelano-bilbao/
LOCATION:Teatro Arriaga\,  Plaza Arriaga\, 1\, Bilbao\, Vizcaya\, 48005\, España
CATEGORIES:En gira,Programación,Temporada 2017 / 2018
ATTACH;FMTTYPE=image/jpeg:https://teatroclasico.inaem.gob.es/wp-content/uploads/2017/09/perro-del-hortelano.jpg
ORGANIZER;CN="Compa%C3%B1%C3%ADa Nacional de Teatro Cl%C3%A1sico":MAILTO:teatro.clasico@inaem.mcu.es
END:VEVENT
BEGIN:VEVENT
DTSTART;VALUE=DATE:20180222
DTEND;VALUE=DATE:20180326
DTSTAMP:20260425T182047
CREATED:20170906T113037Z
LAST-MODIFIED:20180626T214600Z
UID:7502-1519257600-1522022399@teatroclasico.inaem.gob.es
SUMMARY:Los empeños de una casa - Madrid
DESCRIPTION:
URL:https://teatroclasico.inaem.gob.es/evento/los-empenos-de-una-casa-madrid/
LOCATION:Teatro de la Comedia\, Madrid\, Madrid\, España
CATEGORIES:Programación,Teatro de la Comedia,Temporada 2017 / 2018
ATTACH;FMTTYPE=image/jpeg:https://teatroclasico.inaem.gob.es/wp-content/uploads/2017/09/Los-empenos-de-una-casa.jpg
ORGANIZER;CN="Compa%C3%B1%C3%ADa Nacional de Teatro Cl%C3%A1sico":MAILTO:teatro.clasico@inaem.mcu.es
END:VEVENT
BEGIN:VEVENT
DTSTART;VALUE=DATE:20180223
DTEND;VALUE=DATE:20180312
DTSTAMP:20260425T182047
CREATED:20170906T113001Z
LAST-MODIFIED:20180626T214600Z
UID:7503-1519344000-1520812799@teatroclasico.inaem.gob.es
SUMMARY:Comedia aquilana - Madrid
DESCRIPTION:
URL:https://teatroclasico.inaem.gob.es/evento/comedia-aquilana-madrid/
LOCATION:Teatro de la Comedia\, Madrid\, Madrid\, España
CATEGORIES:Programación,Teatro de la Comedia,Temporada 2017 / 2018
ATTACH;FMTTYPE=image/jpeg:https://teatroclasico.inaem.gob.es/wp-content/uploads/2017/09/coedia-aquilana.jpg
ORGANIZER;CN="Compa%C3%B1%C3%ADa Nacional de Teatro Cl%C3%A1sico":MAILTO:teatro.clasico@inaem.mcu.es
END:VEVENT
BEGIN:VEVENT
DTSTART;VALUE=DATE:20180302
DTEND;VALUE=DATE:20180304
DTSTAMP:20260425T182047
CREATED:20170906T113039Z
LAST-MODIFIED:20180626T214600Z
UID:7477-1519948800-1520121599@teatroclasico.inaem.gob.es
SUMMARY:La dama duende - Pamplona
DESCRIPTION:
URL:https://teatroclasico.inaem.gob.es/evento/la-dama-duende-pamplona/
LOCATION:Baluarte\, Plaza del Baluarte s/n\, Pamplona\, Pamplona\, 31002\, España
CATEGORIES:En gira,Programación,Temporada 2017 / 2018
ATTACH;FMTTYPE=image/jpeg:https://teatroclasico.inaem.gob.es/wp-content/uploads/2017/09/la-dama-duende.jpg
ORGANIZER;CN="Compa%C3%B1%C3%ADa Nacional de Teatro Cl%C3%A1sico":MAILTO:teatro.clasico@inaem.mcu.es
END:VEVENT
END:VCALENDAR