BEGIN:VCALENDAR
VERSION:2.0
PRODID:-//Compañía Nacional de Teatro Clásico - ECPv6.15.16//NONSGML v1.0//EN
CALSCALE:GREGORIAN
METHOD:PUBLISH
X-ORIGINAL-URL:https://teatroclasico.inaem.gob.es
X-WR-CALDESC:Eventos para Compañía Nacional de Teatro Clásico
REFRESH-INTERVAL;VALUE=DURATION:PT1H
X-Robots-Tag:noindex
X-PUBLISHED-TTL:PT1H
BEGIN:VTIMEZONE
TZID:Europe/Helsinki
BEGIN:DAYLIGHT
TZOFFSETFROM:+0200
TZOFFSETTO:+0300
TZNAME:EEST
DTSTART:20190331T010000
END:DAYLIGHT
BEGIN:STANDARD
TZOFFSETFROM:+0300
TZOFFSETTO:+0200
TZNAME:EET
DTSTART:20191027T010000
END:STANDARD
BEGIN:DAYLIGHT
TZOFFSETFROM:+0200
TZOFFSETTO:+0300
TZNAME:EEST
DTSTART:20200329T010000
END:DAYLIGHT
BEGIN:STANDARD
TZOFFSETFROM:+0300
TZOFFSETTO:+0200
TZNAME:EET
DTSTART:20201025T010000
END:STANDARD
BEGIN:DAYLIGHT
TZOFFSETFROM:+0200
TZOFFSETTO:+0300
TZNAME:EEST
DTSTART:20210328T010000
END:DAYLIGHT
BEGIN:STANDARD
TZOFFSETFROM:+0300
TZOFFSETTO:+0200
TZNAME:EET
DTSTART:20211031T010000
END:STANDARD
BEGIN:DAYLIGHT
TZOFFSETFROM:+0200
TZOFFSETTO:+0300
TZNAME:EEST
DTSTART:20220327T010000
END:DAYLIGHT
BEGIN:STANDARD
TZOFFSETFROM:+0300
TZOFFSETTO:+0200
TZNAME:EET
DTSTART:20221030T010000
END:STANDARD
END:VTIMEZONE
BEGIN:VEVENT
DTSTART;VALUE=DATE:20200325
DTEND;VALUE=DATE:20200504
DTSTAMP:20260423T143508
CREATED:20190617T110035Z
LAST-MODIFIED:20190617T063435Z
UID:11207-1585094400-1588550399@teatroclasico.inaem.gob.es
SUMMARY:El enfermo imaginario - Madrid
DESCRIPTION:
URL:https://teatroclasico.inaem.gob.es/evento/el-enfermo-imaginario-madrid/
LOCATION:Teatro de la Comedia\, Madrid\, Madrid\, España
CATEGORIES:Programación,Teatro de la Comedia,Temporada 2019 / 2020
ATTACH;FMTTYPE=image/jpeg:https://teatroclasico.inaem.gob.es/wp-content/uploads/2019/06/El-enfermo-imaginario.jpg
ORGANIZER;CN="Compa%C3%B1%C3%ADa Nacional de Teatro Cl%C3%A1sico":MAILTO:teatro.clasico@inaem.mcu.es
END:VEVENT
BEGIN:VEVENT
DTSTART;VALUE=DATE:20200423
DTEND;VALUE=DATE:20200701
DTSTAMP:20260423T143508
CREATED:20200605T095711Z
LAST-MODIFIED:20200610T101925Z
UID:12652-1587600000-1593561599@teatroclasico.inaem.gob.es
SUMMARY:En compañía de los clásicos
DESCRIPTION:Campaña para mantener el contacto con los espectadores a través de nuestras redes sociales\, ofreciendo entrevistas a profesionales del teatro\, declaraciones de actores y directores\, encuentros Instagram\, Masterclass\, así como creaciones exclusivas desarrolladas en estos días en los que los teatros permanecen cerrados.
URL:https://teatroclasico.inaem.gob.es/evento/en-compania-de-los-clasicos/
LOCATION:RRSS de la CNTC (Facebook\, Twitter\, Instagram y Youtube)
CATEGORIES:Teatro de la Comedia
ATTACH;FMTTYPE=image/jpeg:https://teatroclasico.inaem.gob.es/wp-content/uploads/2020/04/encompañiadelosclasicoscuad.jpg
END:VEVENT
BEGIN:VEVENT
DTSTART;VALUE=DATE:20200430
DTEND;VALUE=DATE:20200502
DTSTAMP:20260423T143508
CREATED:20190617T110031Z
LAST-MODIFIED:20190617T063449Z
UID:11173-1588204800-1588377599@teatroclasico.inaem.gob.es
SUMMARY:La señora y la criada - Logroño
DESCRIPTION:
URL:https://teatroclasico.inaem.gob.es/evento/la-senora-y-la-criada-logrono/
LOCATION:Teatro Bretón de los Herreros\, Calle Bretón de lso Herreros\, 11\, Logroño\, La Rioja\, 26001\, España
CATEGORIES:En gira,Programación,Temporada 2019 / 2020
ATTACH;FMTTYPE=image/jpeg:https://teatroclasico.inaem.gob.es/wp-content/uploads/2019/06/La-señora-y-la-criada.jpg
ORGANIZER;CN="Compa%C3%B1%C3%ADa Nacional de Teatro Cl%C3%A1sico":MAILTO:teatro.clasico@inaem.mcu.es
END:VEVENT
BEGIN:VEVENT
DTSTART;VALUE=DATE:20200430
DTEND;VALUE=DATE:20200502
DTSTAMP:20260423T143508
CREATED:20190617T110045Z
LAST-MODIFIED:20200218T091106Z
UID:11199-1588204800-1588377599@teatroclasico.inaem.gob.es
SUMMARY:Sueño de una noche de verano - Logroño
DESCRIPTION:
URL:https://teatroclasico.inaem.gob.es/evento/sueno-de-una-noche-de-verano-logrono/
LOCATION:Teatro Bretón de los Herreros\, Calle Bretón de lso Herreros\, 11\, Logroño\, La Rioja\, 26001\, España
ATTACH;FMTTYPE=image/jpeg:https://teatroclasico.inaem.gob.es/wp-content/uploads/2019/06/Sueño-de-una-noche-de-verano.jpg
ORGANIZER;CN="Compa%C3%B1%C3%ADa Nacional de Teatro Cl%C3%A1sico":MAILTO:teatro.clasico@inaem.mcu.es
END:VEVENT
BEGIN:VEVENT
DTSTART;VALUE=DATE:20200508
DTEND;VALUE=DATE:20200510
DTSTAMP:20260423T143508
CREATED:20190617T110017Z
LAST-MODIFIED:20200218T091732Z
UID:11175-1588896000-1589068799@teatroclasico.inaem.gob.es
SUMMARY:La señora y la criada - A Coruña
DESCRIPTION:
URL:https://teatroclasico.inaem.gob.es/evento/la-senora-y-la-criada-a-coruna/
LOCATION:Teatro Rosalía de Castro\, Calle del Riego de Agua\, 37\, La Coruña\, La Coruña\, 15003\, España
ATTACH;FMTTYPE=image/jpeg:https://teatroclasico.inaem.gob.es/wp-content/uploads/2019/06/La-señora-y-la-criada.jpg
ORGANIZER;CN="Compa%C3%B1%C3%ADa Nacional de Teatro Cl%C3%A1sico":MAILTO:teatro.clasico@inaem.mcu.es
END:VEVENT
BEGIN:VEVENT
DTSTART;VALUE=DATE:20200508
DTEND;VALUE=DATE:20200510
DTSTAMP:20260423T143508
CREATED:20190617T110043Z
LAST-MODIFIED:20190617T063456Z
UID:11197-1588896000-1589068799@teatroclasico.inaem.gob.es
SUMMARY:Sueño de una noche de verano - A Coruña
DESCRIPTION:
URL:https://teatroclasico.inaem.gob.es/evento/sueno-de-una-noche-de-verano-a-coruna/
LOCATION:Teatro Rosalía de Castro\, Calle del Riego de Agua\, 37\, La Coruña\, La Coruña\, 15003\, España
CATEGORIES:En gira,Programación,Temporada 2019 / 2020
ATTACH;FMTTYPE=image/jpeg:https://teatroclasico.inaem.gob.es/wp-content/uploads/2019/06/Sueño-de-una-noche-de-verano.jpg
ORGANIZER;CN="Compa%C3%B1%C3%ADa Nacional de Teatro Cl%C3%A1sico":MAILTO:teatro.clasico@inaem.mcu.es
END:VEVENT
BEGIN:VEVENT
DTSTART;VALUE=DATE:20200515
DTEND;VALUE=DATE:20200517
DTSTAMP:20260423T143508
CREATED:20190617T110019Z
LAST-MODIFIED:20190617T063519Z
UID:11177-1589500800-1589673599@teatroclasico.inaem.gob.es
SUMMARY:La señora y la criada - Ourense
DESCRIPTION:
URL:https://teatroclasico.inaem.gob.es/evento/la-senora-y-la-criada-ourense/
LOCATION:Teatro Principal Ourense\, Rúa da Paz\, 9\, Ourense\, La Coruña\, 32005\, España
CATEGORIES:En gira,Programación,Temporada 2019 / 2020
ATTACH;FMTTYPE=image/jpeg:https://teatroclasico.inaem.gob.es/wp-content/uploads/2019/06/La-señora-y-la-criada.jpg
ORGANIZER;CN="Compa%C3%B1%C3%ADa Nacional de Teatro Cl%C3%A1sico":MAILTO:teatro.clasico@inaem.mcu.es
END:VEVENT
BEGIN:VEVENT
DTSTART;VALUE=DATE:20200515
DTEND;VALUE=DATE:20200517
DTSTAMP:20260423T143508
CREATED:20190617T110040Z
LAST-MODIFIED:20190617T063510Z
UID:11201-1589500800-1589673599@teatroclasico.inaem.gob.es
SUMMARY:Sueño de una noche de verano - Ourense
DESCRIPTION:
URL:https://teatroclasico.inaem.gob.es/evento/sueno-de-una-noche-de-verano-ourense/
LOCATION:Teatro Principal Ourense\, Rúa da Paz\, 9\, Ourense\, La Coruña\, 32005\, España
CATEGORIES:En gira,Programación,Temporada 2019 / 2020
ATTACH;FMTTYPE=image/jpeg:https://teatroclasico.inaem.gob.es/wp-content/uploads/2019/06/Sueño-de-una-noche-de-verano.jpg
ORGANIZER;CN="Compa%C3%B1%C3%ADa Nacional de Teatro Cl%C3%A1sico":MAILTO:teatro.clasico@inaem.mcu.es
END:VEVENT
BEGIN:VEVENT
DTSTART;VALUE=DATE:20200519
DTEND;VALUE=DATE:20200531
DTSTAMP:20260423T143508
CREATED:20190617T110013Z
LAST-MODIFIED:20200605T094914Z
UID:11214-1589846400-1590883199@teatroclasico.inaem.gob.es
SUMMARY:El vergonzoso en palacio - Madrid
DESCRIPTION:
URL:https://teatroclasico.inaem.gob.es/evento/el-vergonzoso-en-palacio-madrid/
LOCATION:Teatro de la Comedia\, Madrid\, Madrid\, España
CATEGORIES:Programación,Teatro de la Comedia,Temporada 2019 / 2020
ATTACH;FMTTYPE=image/jpeg:https://teatroclasico.inaem.gob.es/wp-content/uploads/2019/06/El-vergonzoso-en-palacio.jpg
ORGANIZER;CN="Compa%C3%B1%C3%ADa Nacional de Teatro Cl%C3%A1sico":MAILTO:teatro.clasico@inaem.mcu.es
END:VEVENT
BEGIN:VEVENT
DTSTART;VALUE=DATE:20200522
DTEND;VALUE=DATE:20200524
DTSTAMP:20260423T143508
CREATED:20190617T110033Z
LAST-MODIFIED:20200218T092657Z
UID:11182-1590105600-1590278399@teatroclasico.inaem.gob.es
SUMMARY:La señora y la criada - Pamplona
DESCRIPTION:
URL:https://teatroclasico.inaem.gob.es/evento/la-senora-y-la-criada-pamplona/
LOCATION:Teatro Gayarre\, Av de Carlos III\, 1\, Pamplona\, Navarra\, 31002\, España
ATTACH;FMTTYPE=image/jpeg:https://teatroclasico.inaem.gob.es/wp-content/uploads/2019/06/La-señora-y-la-criada.jpg
ORGANIZER;CN="Compa%C3%B1%C3%ADa Nacional de Teatro Cl%C3%A1sico":MAILTO:teatro.clasico@inaem.mcu.es
END:VEVENT
BEGIN:VEVENT
DTSTART;VALUE=DATE:20200522
DTEND;VALUE=DATE:20200524
DTSTAMP:20260423T143508
CREATED:20190617T110041Z
LAST-MODIFIED:20190617T063532Z
UID:11202-1590105600-1590278399@teatroclasico.inaem.gob.es
SUMMARY:Sueño de una noche de verano - Pamplona
DESCRIPTION:
URL:https://teatroclasico.inaem.gob.es/evento/sueno-de-una-noche-de-verano-pamplona/
LOCATION:Teatro Gayarre\, Av de Carlos III\, 1\, Pamplona\, Navarra\, 31002\, España
CATEGORIES:En gira,Programación,Temporada 2019 / 2020
ATTACH;FMTTYPE=image/jpeg:https://teatroclasico.inaem.gob.es/wp-content/uploads/2019/06/Sueño-de-una-noche-de-verano.jpg
ORGANIZER;CN="Compa%C3%B1%C3%ADa Nacional de Teatro Cl%C3%A1sico":MAILTO:teatro.clasico@inaem.mcu.es
END:VEVENT
BEGIN:VEVENT
DTSTART;VALUE=DATE:20200528
DTEND;VALUE=DATE:20200530
DTSTAMP:20260423T143508
CREATED:20190617T110011Z
LAST-MODIFIED:20200218T091455Z
UID:11184-1590624000-1590796799@teatroclasico.inaem.gob.es
SUMMARY:La señora y la criada - Úbeda
DESCRIPTION:
URL:https://teatroclasico.inaem.gob.es/evento/la-senora-y-la-criada-ubeda/
LOCATION:Hospital de Santiago\, Calle Obispo Cobos\, 28\, Úbeda\, Jaén\, 23400\, España
ATTACH;FMTTYPE=image/jpeg:https://teatroclasico.inaem.gob.es/wp-content/uploads/2019/06/La-señora-y-la-criada.jpg
ORGANIZER;CN="Compa%C3%B1%C3%ADa Nacional de Teatro Cl%C3%A1sico":MAILTO:teatro.clasico@inaem.mcu.es
END:VEVENT
BEGIN:VEVENT
DTSTART;VALUE=DATE:20200528
DTEND;VALUE=DATE:20200530
DTSTAMP:20260423T143508
CREATED:20190617T110032Z
LAST-MODIFIED:20190617T063546Z
UID:11204-1590624000-1590796799@teatroclasico.inaem.gob.es
SUMMARY:Sueño de una noche de verano - Úbeda
DESCRIPTION:
URL:https://teatroclasico.inaem.gob.es/evento/sueno-de-una-noche-de-verano-ubeda/
LOCATION:Hospital de Santiago\, Calle Obispo Cobos\, 28\, Úbeda\, Jaén\, 23400\, España
CATEGORIES:En gira,Programación,Temporada 2019 / 2020
ATTACH;FMTTYPE=image/jpeg:https://teatroclasico.inaem.gob.es/wp-content/uploads/2019/06/Sueño-de-una-noche-de-verano.jpg
ORGANIZER;CN="Compa%C3%B1%C3%ADa Nacional de Teatro Cl%C3%A1sico":MAILTO:teatro.clasico@inaem.mcu.es
END:VEVENT
BEGIN:VEVENT
DTSTART;TZID=Europe/Helsinki:20200714T224500
DTEND;TZID=Europe/Helsinki:20200726T120000
DTSTAMP:20260423T143508
CREATED:20200702T092400Z
LAST-MODIFIED:20200706T093555Z
UID:12876-1594766700-1595764800@teatroclasico.inaem.gob.es
SUMMARY:En otro Reino extraño - Festival de Almagro
DESCRIPTION:  \n“En otro reino extraño”  Una selección de textos poéticos y dramáticos de Lope sobre el amor y el encuentro\, dirigido por David Boceta. \nCon un elenco integrado por actores y actrices de la Joven CNTC
URL:https://teatroclasico.inaem.gob.es/evento/en-otro-reino-extrano-festival-de-almagro/
LOCATION:Hospital de San Juan\, c/ San Agustín s/n\, Almagro
CATEGORIES:En gira,Programación,Temporada 2019 / 2020
ATTACH;FMTTYPE=image/jpeg:https://teatroclasico.inaem.gob.es/wp-content/uploads/2020/06/Anna-cartel-okok.jpg
END:VEVENT
BEGIN:VEVENT
DTSTART;TZID=Europe/Helsinki:20200724T080000
DTEND;TZID=Europe/Helsinki:20200725T170000
DTSTAMP:20260423T143508
CREATED:20200709T114504Z
LAST-MODIFIED:20200908T160642Z
UID:12880-1595577600-1595696400@teatroclasico.inaem.gob.es
SUMMARY:Alma y palabra. San Juan de la Cruz- Festival de Almagro
DESCRIPTION:“Alma y palabra. San Juan De la Cruz” un recital poético dirigido por Lluís Homar. \nCon Lluís Homar y Adriana Ozores en escena junto con el pianista Emili Brugalla.. \n 
URL:https://teatroclasico.inaem.gob.es/evento/alma-y-palabra-san-juan-de-la-cruz-festival-de-almagro/
LOCATION:Corral de Comedias\, Plaza Mayor\, Almagro (Ciudad Real)
CATEGORIES:En gira,Programación,Temporada 2019 / 2020
ATTACH;FMTTYPE=image/jpeg:https://teatroclasico.inaem.gob.es/wp-content/uploads/2020/07/Lluís-Homar-Adriana-Ozores-en-San-Juan-de-la-Cruz.jpg
END:VEVENT
BEGIN:VEVENT
DTSTART;VALUE=DATE:20200929
DTEND;VALUE=DATE:20201102
DTSTAMP:20260423T143508
CREATED:20200909T114525Z
LAST-MODIFIED:20200926T164720Z
UID:12983-1601337600-1604275199@teatroclasico.inaem.gob.es
SUMMARY:El vergonzoso en palacio - Madrid
DESCRIPTION:Descargar programa
URL:https://teatroclasico.inaem.gob.es/evento/el-vergonzoso-en-palacio-madrid-2/
LOCATION:Teatro de la Comedia\, Madrid\, Madrid\, España
CATEGORIES:Programación,Teatro de la Comedia,Temporada 2020 / 2021
ATTACH;FMTTYPE=image/png:https://teatroclasico.inaem.gob.es/wp-content/uploads/2020/09/01.png
END:VEVENT
BEGIN:VEVENT
DTSTART;VALUE=DATE:20201001
DTEND;VALUE=DATE:20201109
DTSTAMP:20260423T143508
CREATED:20200909T114556Z
LAST-MODIFIED:20200926T164938Z
UID:13053-1601510400-1604879999@teatroclasico.inaem.gob.es
SUMMARY:Sueño de una noche de verano - Madrid
DESCRIPTION:Descargar programa
URL:https://teatroclasico.inaem.gob.es/evento/sueno-de-una-noche-de-verano-madrid-2/
LOCATION:Teatro de la Comedia\, Madrid\, Madrid\, España
CATEGORIES:Programación,Teatro de la Comedia,Temporada 2020 / 2021
ATTACH;FMTTYPE=image/png:https://teatroclasico.inaem.gob.es/wp-content/uploads/2020/09/02.png
END:VEVENT
BEGIN:VEVENT
DTSTART;VALUE=DATE:20201016
DTEND;VALUE=DATE:20201017
DTSTAMP:20260423T143508
CREATED:20200909T114503Z
LAST-MODIFIED:20200908T160455Z
UID:13137-1602806400-1602892799@teatroclasico.inaem.gob.es
SUMMARY:Castelvines y monteses - Logroño
DESCRIPTION:
URL:https://teatroclasico.inaem.gob.es/evento/castelvines-y-monteses-logrono/
LOCATION:Lugar sin nombre\, Madrid
CATEGORIES:En gira,Programación,Temporada 2020 / 2021
ATTACH;FMTTYPE=image/png:https://teatroclasico.inaem.gob.es/wp-content/uploads/2020/09/10.png
ORGANIZER;CN="Compa%C3%B1%C3%ADa Nacional de Teatro Cl%C3%A1sico":MAILTO:teatro.clasico@inaem.mcu.es
END:VEVENT
BEGIN:VEVENT
DTSTART;VALUE=DATE:20201017
DTEND;VALUE=DATE:20201018
DTSTAMP:20260423T143508
CREATED:20200909T114504Z
LAST-MODIFIED:20200908T160447Z
UID:13139-1602892800-1602979199@teatroclasico.inaem.gob.es
SUMMARY:Castelvines y monteses - Pozuelo de Alarcón
DESCRIPTION:
URL:https://teatroclasico.inaem.gob.es/evento/castelvines-y-monteses-pozuelo-de-alarcon/
LOCATION:Lugar sin nombre\, Madrid
CATEGORIES:En gira,Programación,Temporada 2020 / 2021
ATTACH;FMTTYPE=image/png:https://teatroclasico.inaem.gob.es/wp-content/uploads/2020/09/10.png
ORGANIZER;CN="Compa%C3%B1%C3%ADa Nacional de Teatro Cl%C3%A1sico":MAILTO:teatro.clasico@inaem.mcu.es
END:VEVENT
BEGIN:VEVENT
DTSTART;VALUE=DATE:20201018
DTEND;VALUE=DATE:20201019
DTSTAMP:20260423T143508
CREATED:20200909T114505Z
LAST-MODIFIED:20200929T162222Z
UID:13278-1602979200-1603065599@teatroclasico.inaem.gob.es
SUMMARY:Alma y palabra - Girona
DESCRIPTION:
URL:https://teatroclasico.inaem.gob.es/evento/alma-y-palabra-girona/
LOCATION:Teatre Municipal de Girona\, Plaça del Vi\, 1\, Girona\, Girona\, 17004\, España
CATEGORIES:En gira,Programación,Temporada 2020 / 2021
ATTACH;FMTTYPE=image/png:https://teatroclasico.inaem.gob.es/wp-content/uploads/2018/06/sanjuandelacruz.png
ORGANIZER;CN="Compa%C3%B1%C3%ADa Nacional de Teatro Cl%C3%A1sico":MAILTO:teatro.clasico@inaem.mcu.es
END:VEVENT
BEGIN:VEVENT
DTSTART;VALUE=DATE:20201024
DTEND;VALUE=DATE:20201025
DTSTAMP:20260423T143508
CREATED:20200909T114558Z
LAST-MODIFIED:20200929T162403Z
UID:13281-1603497600-1603583999@teatroclasico.inaem.gob.es
SUMMARY:Alma y palabra - Úbeda
DESCRIPTION:
URL:https://teatroclasico.inaem.gob.es/evento/alma-y-palabra-ubeda/
LOCATION:Auditorio Hospital de Santiago\, Calle Obispo Cobos\, 2\, Úbeda\, Jaen\, 23400\, España
CATEGORIES:En gira,Programación,Temporada 2020 / 2021
ATTACH;FMTTYPE=image/png:https://teatroclasico.inaem.gob.es/wp-content/uploads/2018/06/sanjuandelacruz.png
ORGANIZER;CN="Compa%C3%B1%C3%ADa Nacional de Teatro Cl%C3%A1sico":MAILTO:teatro.clasico@inaem.mcu.es
END:VEVENT
BEGIN:VEVENT
DTSTART;VALUE=DATE:20201030
DTEND;VALUE=DATE:20201031
DTSTAMP:20260423T143508
CREATED:20200909T114542Z
LAST-MODIFIED:20200908T160426Z
UID:13142-1604016000-1604102399@teatroclasico.inaem.gob.es
SUMMARY:Castelvines y monteses - Vitoria
DESCRIPTION:
URL:https://teatroclasico.inaem.gob.es/evento/castelvines-y-monteses-vitoria/
LOCATION:Lugar sin nombre\, Madrid
CATEGORIES:En gira,Programación,Temporada 2020 / 2021
ATTACH;FMTTYPE=image/png:https://teatroclasico.inaem.gob.es/wp-content/uploads/2020/09/10.png
ORGANIZER;CN="Compa%C3%B1%C3%ADa Nacional de Teatro Cl%C3%A1sico":MAILTO:teatro.clasico@inaem.mcu.es
END:VEVENT
BEGIN:VEVENT
DTSTART;VALUE=DATE:20201113
DTEND;VALUE=DATE:20201114
DTSTAMP:20260423T143508
CREATED:20200909T114555Z
LAST-MODIFIED:20200908T160415Z
UID:13144-1605225600-1605311999@teatroclasico.inaem.gob.es
SUMMARY:Castelvines y monteses - Murcia
DESCRIPTION:
URL:https://teatroclasico.inaem.gob.es/evento/castelvines-y-monteses-murcia/
LOCATION:Lugar sin nombre\, Madrid
CATEGORIES:En gira,Programación,Temporada 2020 / 2021
ATTACH;FMTTYPE=image/png:https://teatroclasico.inaem.gob.es/wp-content/uploads/2020/09/10.png
ORGANIZER;CN="Compa%C3%B1%C3%ADa Nacional de Teatro Cl%C3%A1sico":MAILTO:teatro.clasico@inaem.mcu.es
END:VEVENT
BEGIN:VEVENT
DTSTART;VALUE=DATE:20201114
DTEND;VALUE=DATE:20201115
DTSTAMP:20260423T143508
CREATED:20200909T114500Z
LAST-MODIFIED:20200908T160406Z
UID:13146-1605312000-1605398399@teatroclasico.inaem.gob.es
SUMMARY:Castelvines y monteses - Villena
DESCRIPTION:
URL:https://teatroclasico.inaem.gob.es/evento/castelvines-y-monteses-villena/
LOCATION:Lugar sin nombre\, Madrid
CATEGORIES:En gira,Programación,Temporada 2020 / 2021
ATTACH;FMTTYPE=image/png:https://teatroclasico.inaem.gob.es/wp-content/uploads/2020/09/10.png
ORGANIZER;CN="Compa%C3%B1%C3%ADa Nacional de Teatro Cl%C3%A1sico":MAILTO:teatro.clasico@inaem.mcu.es
END:VEVENT
BEGIN:VEVENT
DTSTART;VALUE=DATE:20201118
DTEND;VALUE=DATE:20201228
DTSTAMP:20260423T143508
CREATED:20200909T114508Z
LAST-MODIFIED:20240208T112651Z
UID:13062-1605657600-1609113599@teatroclasico.inaem.gob.es
SUMMARY:El enfermo imaginario - Madrid
DESCRIPTION:Descargar programa
URL:https://teatroclasico.inaem.gob.es/evento/el-enfermo-imaginario-madrid-2/
LOCATION:Teatro de la Comedia\, Madrid\, Madrid\, España
CATEGORIES:Programación,Teatro de la Comedia,Temporada 2020 / 2021
ATTACH;FMTTYPE=image/png:https://teatroclasico.inaem.gob.es/wp-content/uploads/2020/09/03.png
END:VEVENT
BEGIN:VEVENT
DTSTART;VALUE=DATE:20201120
DTEND;VALUE=DATE:20201121
DTSTAMP:20260423T143508
CREATED:20200909T114505Z
LAST-MODIFIED:20200908T160346Z
UID:13148-1605830400-1605916799@teatroclasico.inaem.gob.es
SUMMARY:Castelvines y monteses - Avilés
DESCRIPTION:
URL:https://teatroclasico.inaem.gob.es/evento/castelvines-y-monteses-aviles/
LOCATION:Lugar sin nombre\, Madrid
CATEGORIES:En gira,Programación,Temporada 2020 / 2021
ATTACH;FMTTYPE=image/png:https://teatroclasico.inaem.gob.es/wp-content/uploads/2020/09/10.png
ORGANIZER;CN="Compa%C3%B1%C3%ADa Nacional de Teatro Cl%C3%A1sico":MAILTO:teatro.clasico@inaem.mcu.es
END:VEVENT
BEGIN:VEVENT
DTSTART;VALUE=DATE:20201120
DTEND;VALUE=DATE:20201122
DTSTAMP:20260423T143508
CREATED:20200909T114514Z
LAST-MODIFIED:20200926T165116Z
UID:13056-1605830400-1606003199@teatroclasico.inaem.gob.es
SUMMARY:Sueño de una noche de verano - Ourense
DESCRIPTION:Descargar programa
URL:https://teatroclasico.inaem.gob.es/evento/sueno-de-una-noche-de-verano-ourense-2/
LOCATION:Teatro Principal Ourense\, Rúa da Paz\, 9\, Ourense\, La Coruña\, 32005\, España
CATEGORIES:En gira,Programación,Temporada 2020 / 2021
ATTACH;FMTTYPE=image/png:https://teatroclasico.inaem.gob.es/wp-content/uploads/2020/09/02.png
ORGANIZER;CN="Compa%C3%B1%C3%ADa Nacional de Teatro Cl%C3%A1sico":MAILTO:teatro.clasico@inaem.mcu.es
END:VEVENT
BEGIN:VEVENT
DTSTART;VALUE=DATE:20201126
DTEND;VALUE=DATE:20210215
DTSTAMP:20260423T143508
CREATED:20200909T114516Z
LAST-MODIFIED:20201203T174246Z
UID:13067-1606348800-1613347199@teatroclasico.inaem.gob.es
SUMMARY:La comedia de maravillas - Madrid
DESCRIPTION:Descargar programa
URL:https://teatroclasico.inaem.gob.es/evento/la-comedia-de-maravillas-madrid/
LOCATION:Teatro de la Comedia\, Madrid\, Madrid\, España
CATEGORIES:Programación,Teatro de la Comedia,Temporada 2020 / 2021
ATTACH;FMTTYPE=image/png:https://teatroclasico.inaem.gob.es/wp-content/uploads/2020/09/04.png
ORGANIZER;CN="Compa%C3%B1%C3%ADa Nacional de Teatro Cl%C3%A1sico":MAILTO:teatro.clasico@inaem.mcu.es
END:VEVENT
BEGIN:VEVENT
DTSTART;VALUE=DATE:20201127
DTEND;VALUE=DATE:20201128
DTSTAMP:20260423T143508
CREATED:20200909T114526Z
LAST-MODIFIED:20200926T165126Z
UID:13058-1606435200-1606521599@teatroclasico.inaem.gob.es
SUMMARY:Sueño de una noche de verano - Pamplona
DESCRIPTION:Descargar programa
URL:https://teatroclasico.inaem.gob.es/evento/sueno-de-una-noche-de-verano-pamplona-2/
LOCATION:Teatro Gayarre\, Av de Carlos III\, 1\, Pamplona\, Navarra\, 31002\, España
CATEGORIES:En gira,Programación,Temporada 2020 / 2021
ATTACH;FMTTYPE=image/png:https://teatroclasico.inaem.gob.es/wp-content/uploads/2020/09/02.png
ORGANIZER;CN="Compa%C3%B1%C3%ADa Nacional de Teatro Cl%C3%A1sico":MAILTO:teatro.clasico@inaem.mcu.es
END:VEVENT
BEGIN:VEVENT
DTSTART;VALUE=DATE:20201204
DTEND;VALUE=DATE:20201206
DTSTAMP:20260423T143508
CREATED:20200909T114545Z
LAST-MODIFIED:20200926T165136Z
UID:13059-1607040000-1607212799@teatroclasico.inaem.gob.es
SUMMARY:Sueño de una noche de verano - A Coruña
DESCRIPTION:Descargar programa
URL:https://teatroclasico.inaem.gob.es/evento/sueno-de-una-noche-de-verano-a-coruna-2/
LOCATION:Teatro Rosalía de Castro\, Calle del Riego de Agua\, 37\, La Coruña\, La Coruña\, 15003\, España
CATEGORIES:En gira,Programación,Temporada 2020 / 2021
ATTACH;FMTTYPE=image/png:https://teatroclasico.inaem.gob.es/wp-content/uploads/2020/09/02.png
ORGANIZER;CN="Compa%C3%B1%C3%ADa Nacional de Teatro Cl%C3%A1sico":MAILTO:teatro.clasico@inaem.mcu.es
END:VEVENT
END:VCALENDAR