BEGIN:VCALENDAR
VERSION:2.0
PRODID:-//Compañía Nacional de Teatro Clásico - ECPv6.15.16//NONSGML v1.0//EN
CALSCALE:GREGORIAN
METHOD:PUBLISH
X-ORIGINAL-URL:https://teatroclasico.inaem.gob.es
X-WR-CALDESC:Eventos para Compañía Nacional de Teatro Clásico
REFRESH-INTERVAL;VALUE=DURATION:PT1H
X-Robots-Tag:noindex
X-PUBLISHED-TTL:PT1H
BEGIN:VTIMEZONE
TZID:Europe/Helsinki
BEGIN:DAYLIGHT
TZOFFSETFROM:+0200
TZOFFSETTO:+0300
TZNAME:EEST
DTSTART:20200329T010000
END:DAYLIGHT
BEGIN:STANDARD
TZOFFSETFROM:+0300
TZOFFSETTO:+0200
TZNAME:EET
DTSTART:20201025T010000
END:STANDARD
BEGIN:DAYLIGHT
TZOFFSETFROM:+0200
TZOFFSETTO:+0300
TZNAME:EEST
DTSTART:20210328T010000
END:DAYLIGHT
BEGIN:STANDARD
TZOFFSETFROM:+0300
TZOFFSETTO:+0200
TZNAME:EET
DTSTART:20211031T010000
END:STANDARD
BEGIN:DAYLIGHT
TZOFFSETFROM:+0200
TZOFFSETTO:+0300
TZNAME:EEST
DTSTART:20220327T010000
END:DAYLIGHT
BEGIN:STANDARD
TZOFFSETFROM:+0300
TZOFFSETTO:+0200
TZNAME:EET
DTSTART:20221030T010000
END:STANDARD
END:VTIMEZONE
BEGIN:VEVENT
DTSTART;VALUE=DATE:20210217
DTEND;VALUE=DATE:20210411
DTSTAMP:20260421T014400
CREATED:20200909T114554Z
LAST-MODIFIED:20210215T175007Z
UID:13088-1613520000-1618099199@teatroclasico.inaem.gob.es
SUMMARY:El príncipe constante - Madrid
DESCRIPTION:Descargar programa
URL:https://teatroclasico.inaem.gob.es/evento/el-principe-constante-madrid/
LOCATION:Teatro de la Comedia\, Madrid\, Madrid\, España
CATEGORIES:Programación,Teatro de la Comedia,Temporada 2020 / 2021
ATTACH;FMTTYPE=image/png:https://teatroclasico.inaem.gob.es/wp-content/uploads/2020/09/06.png
ORGANIZER;CN="Compa%C3%B1%C3%ADa Nacional de Teatro Cl%C3%A1sico":MAILTO:teatro.clasico@inaem.mcu.es
END:VEVENT
BEGIN:VEVENT
DTSTART;VALUE=DATE:20210410
DTEND;VALUE=DATE:20210411
DTSTAMP:20260421T014400
CREATED:20200909T114519Z
LAST-MODIFIED:20200908T160014Z
UID:13171-1618012800-1618099199@teatroclasico.inaem.gob.es
SUMMARY:Castelvines y monteses - Alcobendas
DESCRIPTION:
URL:https://teatroclasico.inaem.gob.es/evento/castelvines-y-monteses-alcobendas/
LOCATION:Lugar sin nombre\, Madrid
CATEGORIES:En gira,Programación,Temporada 2020 / 2021
ATTACH;FMTTYPE=image/png:https://teatroclasico.inaem.gob.es/wp-content/uploads/2020/09/10.png
ORGANIZER;CN="Compa%C3%B1%C3%ADa Nacional de Teatro Cl%C3%A1sico":MAILTO:teatro.clasico@inaem.mcu.es
END:VEVENT
BEGIN:VEVENT
DTSTART;VALUE=DATE:20210411
DTEND;VALUE=DATE:20210412
DTSTAMP:20260421T014400
CREATED:20200909T114533Z
LAST-MODIFIED:20200908T160005Z
UID:13173-1618099200-1618185599@teatroclasico.inaem.gob.es
SUMMARY:Castelvines y monteses - Getafe
DESCRIPTION:
URL:https://teatroclasico.inaem.gob.es/evento/castelvines-y-monteses-getafe/
LOCATION:Lugar sin nombre\, Madrid
CATEGORIES:En gira,Programación,Temporada 2020 / 2021
ATTACH;FMTTYPE=image/png:https://teatroclasico.inaem.gob.es/wp-content/uploads/2020/09/10.png
ORGANIZER;CN="Compa%C3%B1%C3%ADa Nacional de Teatro Cl%C3%A1sico":MAILTO:teatro.clasico@inaem.mcu.es
END:VEVENT
BEGIN:VEVENT
DTSTART;VALUE=DATE:20210416
DTEND;VALUE=DATE:20210418
DTSTAMP:20260421T014400
CREATED:20200909T114519Z
LAST-MODIFIED:20200911T093937Z
UID:13089-1618531200-1618703999@teatroclasico.inaem.gob.es
SUMMARY:El príncipe constante - A Coruña
DESCRIPTION:
URL:https://teatroclasico.inaem.gob.es/evento/el-principe-constante-a-coruna/
LOCATION:Teatro Rosalía de Castro\, Calle del Riego de Agua\, 37\, La Coruña\, La Coruña\, 15003\, España
CATEGORIES:En gira,Programación,Temporada 2020 / 2021
ATTACH;FMTTYPE=image/png:https://teatroclasico.inaem.gob.es/wp-content/uploads/2020/09/06.png
END:VEVENT
BEGIN:VEVENT
DTSTART;VALUE=DATE:20210416
DTEND;VALUE=DATE:20210614
DTSTAMP:20260421T014400
CREATED:20200909T114524Z
LAST-MODIFIED:20210414T152846Z
UID:13132-1618531200-1623628799@teatroclasico.inaem.gob.es
SUMMARY:Castelvines y monteses - Madrid
DESCRIPTION:Descargar porgrama
URL:https://teatroclasico.inaem.gob.es/evento/castelvines-y-monteses-madrid/
LOCATION:Teatro de la Comedia\, Madrid\, Madrid\, España
CATEGORIES:Programación,Teatro de la Comedia,Temporada 2020 / 2021
ATTACH;FMTTYPE=image/jpeg:https://teatroclasico.inaem.gob.es/wp-content/uploads/2020/09/Cartel-castelvines.jpg
ORGANIZER;CN="Compa%C3%B1%C3%ADa Nacional de Teatro Cl%C3%A1sico":MAILTO:teatro.clasico@inaem.mcu.es
END:VEVENT
BEGIN:VEVENT
DTSTART;VALUE=DATE:20210423
DTEND;VALUE=DATE:20210523
DTSTAMP:20260421T014400
CREATED:20200909T114529Z
LAST-MODIFIED:20210421T120550Z
UID:13127-1619136000-1621727999@teatroclasico.inaem.gob.es
SUMMARY:Troyanas - Madrid
DESCRIPTION:Descargar programa
URL:https://teatroclasico.inaem.gob.es/evento/las-troyanas-madrid/
LOCATION:Teatro de la Comedia\, Madrid\, Madrid\, España
CATEGORIES:Programación,Teatro de la Comedia,Temporada 2020 / 2021
ATTACH;FMTTYPE=image/jpeg:https://teatroclasico.inaem.gob.es/wp-content/uploads/2020/09/Troyanas-corregido.jpg
ORGANIZER;CN="Compa%C3%B1%C3%ADa Nacional de Teatro Cl%C3%A1sico":MAILTO:teatro.clasico@inaem.mcu.es
END:VEVENT
BEGIN:VEVENT
DTSTART;VALUE=DATE:20210506
DTEND;VALUE=DATE:20210510
DTSTAMP:20260421T014400
CREATED:20200909T114543Z
LAST-MODIFIED:20200911T093808Z
UID:13091-1620259200-1620604799@teatroclasico.inaem.gob.es
SUMMARY:El príncipe constante - Bilbao
DESCRIPTION:
URL:https://teatroclasico.inaem.gob.es/evento/el-principe-constante-bilbao/
LOCATION:Teatro Arriaga\,  Plaza Arriaga\, 1\, Bilbao\, Vizcaya\, 48005\, España
CATEGORIES:En gira,Programación,Temporada 2020 / 2021
ATTACH;FMTTYPE=image/png:https://teatroclasico.inaem.gob.es/wp-content/uploads/2020/09/06.png
END:VEVENT
BEGIN:VEVENT
DTSTART;VALUE=DATE:20210519
DTEND;VALUE=DATE:20210524
DTSTAMP:20260421T014400
CREATED:20200909T114513Z
LAST-MODIFIED:20200911T094548Z
UID:13096-1621382400-1621814399@teatroclasico.inaem.gob.es
SUMMARY:El príncipe constante - Málaga
DESCRIPTION:
URL:https://teatroclasico.inaem.gob.es/evento/el-principe-constante-malaga/
LOCATION:Teatro Soho CaixaBank\, Calle Córdoba\, 13 \, Málaga\, Málaga\, 29001\, España
CATEGORIES:En gira,Programación,Temporada 2020 / 2021
ATTACH;FMTTYPE=image/png:https://teatroclasico.inaem.gob.es/wp-content/uploads/2020/09/06.png
ORGANIZER;CN="Compa%C3%B1%C3%ADa Nacional de Teatro Cl%C3%A1sico":MAILTO:teatro.clasico@inaem.mcu.es
END:VEVENT
BEGIN:VEVENT
DTSTART;VALUE=DATE:20210526
DTEND;VALUE=DATE:20210531
DTSTAMP:20260421T014400
CREATED:20200909T114505Z
LAST-MODIFIED:20210525T092712Z
UID:13189-1621987200-1622419199@teatroclasico.inaem.gob.es
SUMMARY:Divina invención - Madrid
DESCRIPTION:Descargar programa
URL:https://teatroclasico.inaem.gob.es/evento/divina-invencion-madrid/
LOCATION:Teatro de la Comedia\, Madrid\, Madrid\, España
CATEGORIES:Programación,Teatro de la Comedia,Temporada 2020 / 2021
ATTACH;FMTTYPE=image/png:https://teatroclasico.inaem.gob.es/wp-content/uploads/2020/09/11.png
ORGANIZER;CN="Compa%C3%B1%C3%ADa Nacional de Teatro Cl%C3%A1sico":MAILTO:teatro.clasico@inaem.mcu.es
END:VEVENT
BEGIN:VEVENT
DTSTART;VALUE=DATE:20210529
DTEND;VALUE=DATE:20210531
DTSTAMP:20260421T014400
CREATED:20200909T114522Z
LAST-MODIFIED:20200911T093613Z
UID:13098-1622246400-1622419199@teatroclasico.inaem.gob.es
SUMMARY:El príncipe constante - Vitoria
DESCRIPTION:
URL:https://teatroclasico.inaem.gob.es/evento/el-principe-constante-vitoria/
LOCATION:Teatro Principal de Vitoria\, San Prudencio Kalea\, 29\, Vitoria\, Alava\,  01005\, España
CATEGORIES:En gira,Programación,Temporada 2020 / 2021
ATTACH;FMTTYPE=image/png:https://teatroclasico.inaem.gob.es/wp-content/uploads/2020/09/06.png
ORGANIZER;CN="Compa%C3%B1%C3%ADa Nacional de Teatro Cl%C3%A1sico":MAILTO:teatro.clasico@inaem.mcu.es
END:VEVENT
BEGIN:VEVENT
DTSTART;VALUE=DATE:20210605
DTEND;VALUE=DATE:20210614
DTSTAMP:20260421T014400
CREATED:20210419T055227Z
LAST-MODIFIED:20210601T092429Z
UID:14655-1622851200-1623628799@teatroclasico.inaem.gob.es
SUMMARY:Lope sobre ruedas - Madrid
DESCRIPTION:Descargar programa
URL:https://teatroclasico.inaem.gob.es/evento/lope-sobre-ruedas-madrid/
LOCATION:Teatro de la Comedia\, Madrid\, Madrid\, España
CATEGORIES:Programación,Teatro de la Comedia,Temporada 2020 / 2021
ATTACH;FMTTYPE=image/jpeg:https://teatroclasico.inaem.gob.es/wp-content/uploads/2020/09/slide_web_2000x960.jpg
END:VEVENT
BEGIN:VEVENT
DTSTART;VALUE=DATE:20210619
DTEND;VALUE=DATE:20210620
DTSTAMP:20260421T014400
CREATED:20200909T114502Z
LAST-MODIFIED:20200908T155849Z
UID:13175-1624060800-1624147199@teatroclasico.inaem.gob.es
SUMMARY:Castelvines y monteses - Cáceres
DESCRIPTION:
URL:https://teatroclasico.inaem.gob.es/evento/castelvines-y-monteses-caceres/
LOCATION:Lugar sin nombre\, Madrid
CATEGORIES:En gira,Programación,Temporada 2020 / 2021
ATTACH;FMTTYPE=image/jpeg:https://teatroclasico.inaem.gob.es/wp-content/uploads/2020/09/Cartel-castelvines.jpg
ORGANIZER;CN="Compa%C3%B1%C3%ADa Nacional de Teatro Cl%C3%A1sico":MAILTO:teatro.clasico@inaem.mcu.es
END:VEVENT
BEGIN:VEVENT
DTSTART;VALUE=DATE:20210701
DTEND;VALUE=DATE:20210705
DTSTAMP:20260421T014400
CREATED:20210609T093000Z
LAST-MODIFIED:20210608T171918Z
UID:15279-1625097600-1625443199@teatroclasico.inaem.gob.es
SUMMARY:Antonio y Cleopatra - Festival Internacional de teatro Clásico de Almagro
DESCRIPTION:
URL:https://teatroclasico.inaem.gob.es/evento/antonio-y-cleopatra-festival-internacional-de-teatro-clasico-de-almagro/
LOCATION:Lugar sin nombre\, Madrid
CATEGORIES:En gira,Programación,Temporada 2021 / 2022
ATTACH;FMTTYPE=image/jpeg:https://teatroclasico.inaem.gob.es/wp-content/uploads/2021/05/post_RRSS_antonioycleopatra.jpg
END:VEVENT
BEGIN:VEVENT
DTSTART;VALUE=DATE:20210708
DTEND;VALUE=DATE:20210712
DTSTAMP:20260421T014400
CREATED:20210609T093009Z
LAST-MODIFIED:20210608T171730Z
UID:15281-1625702400-1626047999@teatroclasico.inaem.gob.es
SUMMARY:Antonio y Cleopatra - Festival Internacional de Teatro Clásico de Mérida
DESCRIPTION:
URL:https://teatroclasico.inaem.gob.es/evento/antonio-y-cleopatra-festival-internacional-de-teatro-clasico-de-merida/
LOCATION:Lugar sin nombre\, Madrid
CATEGORIES:En gira,Programación,Temporada 2021 / 2022
ATTACH;FMTTYPE=image/jpeg:https://teatroclasico.inaem.gob.es/wp-content/uploads/2021/05/post_RRSS_antonioycleopatra.jpg
ORGANIZER;CN="Compa%C3%B1%C3%ADa Nacional de Teatro Cl%C3%A1sico":MAILTO:teatro.clasico@inaem.mcu.es
END:VEVENT
BEGIN:VEVENT
DTSTART;VALUE=DATE:20210709
DTEND;VALUE=DATE:20210710
DTSTAMP:20260421T014400
CREATED:20200909T114556Z
LAST-MODIFIED:20200908T155839Z
UID:13177-1625788800-1625875199@teatroclasico.inaem.gob.es
SUMMARY:Castelvines y monteses - Olmedo
DESCRIPTION:
URL:https://teatroclasico.inaem.gob.es/evento/castelvines-y-monteses-olmedo/
LOCATION:Lugar sin nombre\, Madrid
CATEGORIES:En gira,Programación,Temporada 2020 / 2021
ATTACH;FMTTYPE=image/jpeg:https://teatroclasico.inaem.gob.es/wp-content/uploads/2020/09/Cartel-castelvines.jpg
ORGANIZER;CN="Compa%C3%B1%C3%ADa Nacional de Teatro Cl%C3%A1sico":MAILTO:teatro.clasico@inaem.mcu.es
END:VEVENT
BEGIN:VEVENT
DTSTART;VALUE=DATE:20210710
DTEND;VALUE=DATE:20210711
DTSTAMP:20260421T014400
CREATED:20200909T114506Z
LAST-MODIFIED:20200908T155828Z
UID:13179-1625875200-1625961599@teatroclasico.inaem.gob.es
SUMMARY:Castelvines y monteses - Gijón
DESCRIPTION:
URL:https://teatroclasico.inaem.gob.es/evento/castelvines-y-monteses-gijon/
LOCATION:Lugar sin nombre\, Madrid
CATEGORIES:En gira,Programación,Temporada 2020 / 2021
ATTACH;FMTTYPE=image/jpeg:https://teatroclasico.inaem.gob.es/wp-content/uploads/2020/09/Cartel-castelvines.jpg
ORGANIZER;CN="Compa%C3%B1%C3%ADa Nacional de Teatro Cl%C3%A1sico":MAILTO:teatro.clasico@inaem.mcu.es
END:VEVENT
BEGIN:VEVENT
DTSTART;VALUE=DATE:20210923
DTEND;VALUE=DATE:20211108
DTSTAMP:20260421T014400
CREATED:20210609T093040Z
LAST-MODIFIED:20210530T111209Z
UID:14919-1632355200-1636329599@teatroclasico.inaem.gob.es
SUMMARY:Antonio y Cleopatra - Madrid
DESCRIPTION:
URL:https://teatroclasico.inaem.gob.es/evento/antonio-y-cleopatra-madrid/
LOCATION:Teatro de la Comedia\, Madrid\, Madrid\, España
CATEGORIES:Programación,Teatro de la Comedia,Temporada 2021 / 2022
ATTACH;FMTTYPE=image/jpeg:https://teatroclasico.inaem.gob.es/wp-content/uploads/2021/05/post_RRSS_antonioycleopatra.jpg
ORGANIZER;CN="Compa%C3%B1%C3%ADa Nacional de Teatro Cl%C3%A1sico":MAILTO:teatro.clasico@inaem.mcu.es
END:VEVENT
BEGIN:VEVENT
DTSTART;VALUE=DATE:20211007
DTEND;VALUE=DATE:20211018
DTSTAMP:20260421T014400
CREATED:20210609T093128Z
LAST-MODIFIED:20211003T100900Z
UID:14925-1633564800-1634515199@teatroclasico.inaem.gob.es
SUMMARY:Fuenteovejuna o el coraje de las mujeres - Madrid
DESCRIPTION:Descargar programa
URL:https://teatroclasico.inaem.gob.es/evento/fuenteovejuna-o-el-coraje-de-las-mujeres-madrid/
LOCATION:Teatro de la Comedia\, Madrid\, Madrid\, España
CATEGORIES:Programación,Teatro de la Comedia,Temporada 2021 / 2022
ATTACH;FMTTYPE=image/jpeg:https://teatroclasico.inaem.gob.es/wp-content/uploads/2021/05/post_RRSS_fuenteovejuna.jpg
ORGANIZER;CN="Compa%C3%B1%C3%ADa Nacional de Teatro Cl%C3%A1sico":MAILTO:teatro.clasico@inaem.mcu.es
END:VEVENT
BEGIN:VEVENT
DTSTART;VALUE=DATE:20211009
DTEND;VALUE=DATE:20211010
DTSTAMP:20260421T014400
CREATED:20210608T182257Z
LAST-MODIFIED:20210608T182545Z
UID:15323-1633737600-1633823999@teatroclasico.inaem.gob.es
SUMMARY:Andanzas y entremeses de Juan Rana - Carballo
DESCRIPTION:
URL:https://teatroclasico.inaem.gob.es/evento/andanzas-y-entremeses-de-juan-rana-carballo/
LOCATION:Lugar sin nombre\, Madrid
CATEGORIES:En gira,Programación,Temporada 2021 / 2022
ATTACH;FMTTYPE=image/jpeg:https://teatroclasico.inaem.gob.es/wp-content/uploads/2019/06/Andanzas-y-entremeses-de-juan-rana.jpg
END:VEVENT
BEGIN:VEVENT
DTSTART;VALUE=DATE:20211009
DTEND;VALUE=DATE:20211011
DTSTAMP:20260421T014400
CREATED:20210608T174419Z
LAST-MODIFIED:20210613T095622Z
UID:15292-1633737600-1633910399@teatroclasico.inaem.gob.es
SUMMARY:Castelvines y monteses - Valladolid
DESCRIPTION:
URL:https://teatroclasico.inaem.gob.es/evento/castelvines-y-monteses-valladolid/
LOCATION:Lugar sin nombre\, Madrid
CATEGORIES:En gira,Programación,Temporada 2020 / 2021
ATTACH;FMTTYPE=image/jpeg:https://teatroclasico.inaem.gob.es/wp-content/uploads/2020/09/Cartel-castelvines.jpg
ORGANIZER;CN="Compa%C3%B1%C3%ADa Nacional de Teatro Cl%C3%A1sico":MAILTO:teatro.clasico@inaem.mcu.es
END:VEVENT
BEGIN:VEVENT
DTSTART;VALUE=DATE:20211015
DTEND;VALUE=DATE:20211016
DTSTAMP:20260421T014400
CREATED:20200909T114550Z
LAST-MODIFIED:20210613T095447Z
UID:13181-1634256000-1634342399@teatroclasico.inaem.gob.es
SUMMARY:Castelvines y monteses - Ceuta
DESCRIPTION:
URL:https://teatroclasico.inaem.gob.es/evento/castelvines-y-monteses-ceuta/
LOCATION:Lugar sin nombre\, Madrid
CATEGORIES:En gira,Programación,Temporada 2020 / 2021
ATTACH;FMTTYPE=image/jpeg:https://teatroclasico.inaem.gob.es/wp-content/uploads/2020/09/Cartel-castelvines.jpg
ORGANIZER;CN="Compa%C3%B1%C3%ADa Nacional de Teatro Cl%C3%A1sico":MAILTO:teatro.clasico@inaem.mcu.es
END:VEVENT
BEGIN:VEVENT
DTSTART;VALUE=DATE:20211023
DTEND;VALUE=DATE:20211024
DTSTAMP:20260421T014401
CREATED:20210608T182719Z
LAST-MODIFIED:20210608T182719Z
UID:15327-1634947200-1635033599@teatroclasico.inaem.gob.es
SUMMARY:Andanzas y entremeses de Juan Rana - La Bañeza
DESCRIPTION:
URL:https://teatroclasico.inaem.gob.es/evento/andanzas-y-entremeses-de-juan-rana-la-baneza/
LOCATION:Lugar sin nombre\, Madrid
CATEGORIES:En gira,Programación,Temporada 2021 / 2022
ATTACH;FMTTYPE=image/jpeg:https://teatroclasico.inaem.gob.es/wp-content/uploads/2019/06/Andanzas-y-entremeses-de-juan-rana.jpg
ORGANIZER;CN="Compa%C3%B1%C3%ADa Nacional de Teatro Cl%C3%A1sico":MAILTO:teatro.clasico@inaem.mcu.es
END:VEVENT
BEGIN:VEVENT
DTSTART;VALUE=DATE:20211028
DTEND;VALUE=DATE:20211029
DTSTAMP:20260421T014401
CREATED:20210608T174718Z
LAST-MODIFIED:20210613T095201Z
UID:15296-1635379200-1635465599@teatroclasico.inaem.gob.es
SUMMARY:Castelvines y monteses - Elche
DESCRIPTION:
URL:https://teatroclasico.inaem.gob.es/evento/castelvines-y-monteses-elche/
LOCATION:Lugar sin nombre\, Madrid
CATEGORIES:En gira,Programación,Temporada 2020 / 2021
ATTACH;FMTTYPE=image/jpeg:https://teatroclasico.inaem.gob.es/wp-content/uploads/2020/09/Cartel-castelvines.jpg
ORGANIZER;CN="Compa%C3%B1%C3%ADa Nacional de Teatro Cl%C3%A1sico":MAILTO:teatro.clasico@inaem.mcu.es
END:VEVENT
BEGIN:VEVENT
DTSTART;VALUE=DATE:20211028
DTEND;VALUE=DATE:20211108
DTSTAMP:20260421T014401
CREATED:20210609T093201Z
LAST-MODIFIED:20211024T164723Z
UID:14934-1635379200-1636329599@teatroclasico.inaem.gob.es
SUMMARY:Caravaggio\, Vermeer y Velázquez - Madrid
DESCRIPTION:Descargar programa
URL:https://teatroclasico.inaem.gob.es/evento/caravaggio-vermeer-y-velazquez-madrid/
LOCATION:Teatro de la Comedia\, Madrid\, Madrid\, España
CATEGORIES:Programación,Teatro de la Comedia,Temporada 2021 / 2022
ATTACH;FMTTYPE=image/jpeg:https://teatroclasico.inaem.gob.es/wp-content/uploads/2021/05/post_RRSS_cvv.jpg
ORGANIZER;CN="Compa%C3%B1%C3%ADa Nacional de Teatro Cl%C3%A1sico":MAILTO:teatro.clasico@inaem.mcu.es
END:VEVENT
BEGIN:VEVENT
DTSTART;VALUE=DATE:20211029
DTEND;VALUE=DATE:20211031
DTSTAMP:20260421T014401
CREATED:20200909T114501Z
LAST-MODIFIED:20210613T094846Z
UID:13183-1635465600-1635638399@teatroclasico.inaem.gob.es
SUMMARY:Castelvines y monteses - Sevilla
DESCRIPTION:
URL:https://teatroclasico.inaem.gob.es/evento/castelvines-y-monteses-sevilla/
LOCATION:Lugar sin nombre\, Madrid
CATEGORIES:En gira,Programación,Temporada 2020 / 2021
ATTACH;FMTTYPE=image/jpeg:https://teatroclasico.inaem.gob.es/wp-content/uploads/2020/09/Cartel-castelvines.jpg
ORGANIZER;CN="Compa%C3%B1%C3%ADa Nacional de Teatro Cl%C3%A1sico":MAILTO:teatro.clasico@inaem.mcu.es
END:VEVENT
BEGIN:VEVENT
DTSTART;VALUE=DATE:20211030
DTEND;VALUE=DATE:20211031
DTSTAMP:20260421T014401
CREATED:20210608T172700Z
LAST-MODIFIED:20210608T172700Z
UID:15286-1635552000-1635638399@teatroclasico.inaem.gob.es
SUMMARY:Divina invención - Girona
DESCRIPTION:
URL:https://teatroclasico.inaem.gob.es/evento/divina-invencion-girona/
LOCATION:Lugar sin nombre\, Madrid
CATEGORIES:En gira,Programación,Temporada 2021 / 2022
ATTACH;FMTTYPE=image/png:https://teatroclasico.inaem.gob.es/wp-content/uploads/2020/09/11.png
ORGANIZER;CN="Compa%C3%B1%C3%ADa Nacional de Teatro Cl%C3%A1sico":MAILTO:teatro.clasico@inaem.mcu.es
END:VEVENT
BEGIN:VEVENT
DTSTART;VALUE=DATE:20211030
DTEND;VALUE=DATE:20211031
DTSTAMP:20260421T014401
CREATED:20210608T182837Z
LAST-MODIFIED:20210608T182837Z
UID:15329-1635552000-1635638399@teatroclasico.inaem.gob.es
SUMMARY:Andanzas y entremeses de Juan Rana - Elche
DESCRIPTION:
URL:https://teatroclasico.inaem.gob.es/evento/andanzas-y-entremeses-de-juan-rana-elche/
LOCATION:Lugar sin nombre\, Madrid
CATEGORIES:En gira,Programación,Temporada 2021 / 2022
ATTACH;FMTTYPE=image/jpeg:https://teatroclasico.inaem.gob.es/wp-content/uploads/2019/06/Andanzas-y-entremeses-de-juan-rana.jpg
ORGANIZER;CN="Compa%C3%B1%C3%ADa Nacional de Teatro Cl%C3%A1sico":MAILTO:teatro.clasico@inaem.mcu.es
END:VEVENT
BEGIN:VEVENT
DTSTART;VALUE=DATE:20211106
DTEND;VALUE=DATE:20211107
DTSTAMP:20260421T014401
CREATED:20210608T183022Z
LAST-MODIFIED:20210608T183022Z
UID:15331-1636156800-1636243199@teatroclasico.inaem.gob.es
SUMMARY:Andanzas y entremeses de Juan Rana - Oviedo
DESCRIPTION:
URL:https://teatroclasico.inaem.gob.es/evento/andanzas-y-entremeses-de-juan-rana-oviedo/
LOCATION:Lugar sin nombre\, Madrid
CATEGORIES:En gira,Programación,Temporada 2021 / 2022
ATTACH;FMTTYPE=image/jpeg:https://teatroclasico.inaem.gob.es/wp-content/uploads/2019/06/Andanzas-y-entremeses-de-juan-rana.jpg
ORGANIZER;CN="Compa%C3%B1%C3%ADa Nacional de Teatro Cl%C3%A1sico":MAILTO:teatro.clasico@inaem.mcu.es
END:VEVENT
BEGIN:VEVENT
DTSTART;VALUE=DATE:20211111
DTEND;VALUE=DATE:20211122
DTSTAMP:20260421T014401
CREATED:20210609T093328Z
LAST-MODIFIED:20210530T154120Z
UID:14939-1636588800-1637539199@teatroclasico.inaem.gob.es
SUMMARY:La Baltasara - Madrid
DESCRIPTION:
URL:https://teatroclasico.inaem.gob.es/evento/la-baltasara-madrid/
LOCATION:Teatro de la Comedia\, Madrid\, Madrid\, España
CATEGORIES:Programación,Teatro de la Comedia,Temporada 2021 / 2022
ATTACH;FMTTYPE=image/jpeg:https://teatroclasico.inaem.gob.es/wp-content/uploads/2021/05/post_RRSS_labaltasara.jpg
ORGANIZER;CN="Compa%C3%B1%C3%ADa Nacional de Teatro Cl%C3%A1sico":MAILTO:teatro.clasico@inaem.mcu.es
END:VEVENT
BEGIN:VEVENT
DTSTART;VALUE=DATE:20211112
DTEND;VALUE=DATE:20211113
DTSTAMP:20260421T014401
CREATED:20210608T183143Z
LAST-MODIFIED:20210608T183143Z
UID:15333-1636675200-1636761599@teatroclasico.inaem.gob.es
SUMMARY:Andanzas y entremeses de Juan Rana - Peal de Becerro
DESCRIPTION:
URL:https://teatroclasico.inaem.gob.es/evento/andanzas-y-entremeses-de-juan-rana-peal-de-becerro/
LOCATION:Lugar sin nombre\, Madrid
CATEGORIES:En gira,Programación,Temporada 2021 / 2022
ATTACH;FMTTYPE=image/jpeg:https://teatroclasico.inaem.gob.es/wp-content/uploads/2019/06/Andanzas-y-entremeses-de-juan-rana.jpg
ORGANIZER;CN="Compa%C3%B1%C3%ADa Nacional de Teatro Cl%C3%A1sico":MAILTO:teatro.clasico@inaem.mcu.es
END:VEVENT
END:VCALENDAR