BEGIN:VCALENDAR
VERSION:2.0
PRODID:-//Compañía Nacional de Teatro Clásico - ECPv6.15.16//NONSGML v1.0//EN
CALSCALE:GREGORIAN
METHOD:PUBLISH
X-ORIGINAL-URL:https://teatroclasico.inaem.gob.es
X-WR-CALDESC:Eventos para Compañía Nacional de Teatro Clásico
REFRESH-INTERVAL;VALUE=DURATION:PT1H
X-Robots-Tag:noindex
X-PUBLISHED-TTL:PT1H
BEGIN:VTIMEZONE
TZID:Europe/Helsinki
BEGIN:DAYLIGHT
TZOFFSETFROM:+0200
TZOFFSETTO:+0300
TZNAME:EEST
DTSTART:20210328T010000
END:DAYLIGHT
BEGIN:STANDARD
TZOFFSETFROM:+0300
TZOFFSETTO:+0200
TZNAME:EET
DTSTART:20211031T010000
END:STANDARD
BEGIN:DAYLIGHT
TZOFFSETFROM:+0200
TZOFFSETTO:+0300
TZNAME:EEST
DTSTART:20220327T010000
END:DAYLIGHT
BEGIN:STANDARD
TZOFFSETFROM:+0300
TZOFFSETTO:+0200
TZNAME:EET
DTSTART:20221030T010000
END:STANDARD
BEGIN:DAYLIGHT
TZOFFSETFROM:+0200
TZOFFSETTO:+0300
TZNAME:EEST
DTSTART:20230326T010000
END:DAYLIGHT
BEGIN:STANDARD
TZOFFSETFROM:+0300
TZOFFSETTO:+0200
TZNAME:EET
DTSTART:20231029T010000
END:STANDARD
END:VTIMEZONE
BEGIN:VEVENT
DTSTART;VALUE=DATE:20220414
DTEND;VALUE=DATE:20220606
DTSTAMP:20260420T053835
CREATED:20210609T094034Z
LAST-MODIFIED:20240208T101133Z
UID:14991-1649894400-1654473599@teatroclasico.inaem.gob.es
SUMMARY:El diablo cojuelo - Madrid
DESCRIPTION:
URL:https://teatroclasico.inaem.gob.es/evento/el-diablo-cojuelo-madrid/
LOCATION:Teatro de la Comedia\, Madrid\, Madrid\, España
CATEGORIES:En gira,Programación,Teatro de la Comedia,Temporada 2021 / 2022
ATTACH;FMTTYPE=image/jpeg:https://teatroclasico.inaem.gob.es/wp-content/uploads/2021/05/post_RRSS_eldiablocojuelo.jpg
ORGANIZER;CN="Compa%C3%B1%C3%ADa Nacional de Teatro Cl%C3%A1sico":MAILTO:teatro.clasico@inaem.mcu.es
END:VEVENT
BEGIN:VEVENT
DTSTART;VALUE=DATE:20220415
DTEND;VALUE=DATE:20220606
DTSTAMP:20260420T053835
CREATED:20210609T094111Z
LAST-MODIFIED:20210613T101351Z
UID:15158-1649980800-1654473599@teatroclasico.inaem.gob.es
SUMMARY:El disfraz\, Las cartas y La suerte - Madrid
DESCRIPTION:
URL:https://teatroclasico.inaem.gob.es/evento/el-disfraz-las-cartas-y-la-suerte-madrid/
LOCATION:Teatro de la Comedia\, Madrid\, Madrid\, España
CATEGORIES:En gira,Programación,Teatro de la Comedia,Temporada 2021 / 2022
ATTACH;FMTTYPE=image/jpeg:https://teatroclasico.inaem.gob.es/wp-content/uploads/2021/05/post_RRSS_dcs.jpg
ORGANIZER;CN="Compa%C3%B1%C3%ADa Nacional de Teatro Cl%C3%A1sico":MAILTO:teatro.clasico@inaem.mcu.es
END:VEVENT
BEGIN:VEVENT
DTSTART;VALUE=DATE:20220603
DTEND;VALUE=DATE:20220605
DTSTAMP:20260420T053835
CREATED:20210609T093759Z
LAST-MODIFIED:20220309T130905Z
UID:15148-1654214400-1654387199@teatroclasico.inaem.gob.es
SUMMARY:Lo fingido verdadero - Las Palmas (Teatro Cuyás)
DESCRIPTION:
URL:https://teatroclasico.inaem.gob.es/evento/lo-fingido-verdadero-las-palmas/
LOCATION:Teatro Cuyás\, Las Palmas de Gran Canaria\, Madrid
CATEGORIES:En gira,Programación,Temporada 2021 / 2022
ATTACH;FMTTYPE=image/jpeg:https://teatroclasico.inaem.gob.es/wp-content/uploads/2021/05/post_RRSS_lofingidoverdadero.jpg
END:VEVENT
BEGIN:VEVENT
DTSTART;VALUE=DATE:20220603
DTEND;VALUE=DATE:20220606
DTSTAMP:20260420T053835
CREATED:20220207T122153Z
LAST-MODIFIED:20220207T122153Z
UID:16391-1654214400-1654473599@teatroclasico.inaem.gob.es
SUMMARY:Castelvines y monteses - Málaga
DESCRIPTION:
URL:https://teatroclasico.inaem.gob.es/evento/castelvines-y-monteses-malaga/
LOCATION:Lugar sin nombre\, Madrid
CATEGORIES:En gira,Programación,Temporada 2020 / 2021
ATTACH;FMTTYPE=image/jpeg:https://teatroclasico.inaem.gob.es/wp-content/uploads/2020/09/Cartel-castelvines.jpg
ORGANIZER;CN="Compa%C3%B1%C3%ADa Nacional de Teatro Cl%C3%A1sico":MAILTO:teatro.clasico@inaem.mcu.es
END:VEVENT
BEGIN:VEVENT
DTSTART;VALUE=DATE:20220608
DTEND;VALUE=DATE:20220613
DTSTAMP:20260420T053835
CREATED:20210609T094454Z
LAST-MODIFIED:20210604T123008Z
UID:15169-1654646400-1655078399@teatroclasico.inaem.gob.es
SUMMARY:Richard III Redux - Madrid
DESCRIPTION:
URL:https://teatroclasico.inaem.gob.es/evento/el-diablo-cojuelo-madrid-2/
LOCATION:Teatro de la Comedia\, Madrid\, Madrid\, España
CATEGORIES:Programación,Teatro de la Comedia,Temporada 2021 / 2022
ATTACH;FMTTYPE=image/jpeg:https://teatroclasico.inaem.gob.es/wp-content/uploads/2021/05/post_RRSS_richardiii.jpg
END:VEVENT
BEGIN:VEVENT
DTSTART;VALUE=DATE:20220610
DTEND;VALUE=DATE:20220612
DTSTAMP:20260420T053835
CREATED:20220207T122427Z
LAST-MODIFIED:20220207T122456Z
UID:16394-1654819200-1654991999@teatroclasico.inaem.gob.es
SUMMARY:Castelvines y monteses - Gandía
DESCRIPTION:
URL:https://teatroclasico.inaem.gob.es/evento/castelvines-y-monteses-gandia/
LOCATION:Lugar sin nombre\, Madrid
CATEGORIES:En gira,Programación,Temporada 2020 / 2021
ATTACH;FMTTYPE=image/jpeg:https://teatroclasico.inaem.gob.es/wp-content/uploads/2020/09/Cartel-castelvines.jpg
END:VEVENT
BEGIN:VEVENT
DTSTART;VALUE=DATE:20220612
DTEND;VALUE=DATE:20220613
DTSTAMP:20260420T053835
CREATED:20210609T094051Z
LAST-MODIFIED:20240208T101034Z
UID:15002-1654992000-1655078399@teatroclasico.inaem.gob.es
SUMMARY:El diablo cojuelo - Castelló
DESCRIPTION:
URL:https://teatroclasico.inaem.gob.es/evento/el-diablo-cojuelo-castello/
LOCATION:Lugar sin nombre\, Madrid
CATEGORIES:En gira,Programación,Temporada 2021 / 2022
ATTACH;FMTTYPE=image/jpeg:https://teatroclasico.inaem.gob.es/wp-content/uploads/2021/05/post_RRSS_eldiablocojuelo.jpg
END:VEVENT
BEGIN:VEVENT
DTSTART;VALUE=DATE:20220719
DTEND;VALUE=DATE:20220808
DTSTAMP:20260420T053835
CREATED:20210609T094014Z
LAST-MODIFIED:20240208T101101Z
UID:15010-1658188800-1659916799@teatroclasico.inaem.gob.es
SUMMARY:El diablo cojuelo - Barcelona
DESCRIPTION:
URL:https://teatroclasico.inaem.gob.es/evento/el-diablo-cojuelo-barcelona/
LOCATION:Lugar sin nombre\, Madrid
CATEGORIES:En gira,Programación,Temporada 2021 / 2022
ATTACH;FMTTYPE=image/jpeg:https://teatroclasico.inaem.gob.es/wp-content/uploads/2021/05/post_RRSS_eldiablocojuelo.jpg
END:VEVENT
BEGIN:VEVENT
DTSTART;VALUE=DATE:20220901
DTEND;VALUE=DATE:20220902
DTSTAMP:20260420T053835
CREATED:20220616T104416Z
LAST-MODIFIED:20220829T084756Z
UID:17540-1661990400-1662076799@teatroclasico.inaem.gob.es
SUMMARY:El diablo cojuelo - Burgos
DESCRIPTION:
URL:https://teatroclasico.inaem.gob.es/evento/el-diablo-cojuelo-burgos/
LOCATION:Lugar sin nombre\, Madrid
ATTACH;FMTTYPE=image/jpeg:https://teatroclasico.inaem.gob.es/wp-content/uploads/2021/05/post_RRSS_eldiablocojuelo.jpg
END:VEVENT
BEGIN:VEVENT
DTSTART;VALUE=DATE:20220917
DTEND;VALUE=DATE:20220918
DTSTAMP:20260420T053835
CREATED:20220616T104323Z
LAST-MODIFIED:20220615T154030Z
UID:17515-1663372800-1663459199@teatroclasico.inaem.gob.es
SUMMARY:Numancia - Los Ángeles
DESCRIPTION:
URL:https://teatroclasico.inaem.gob.es/evento/numancia-madrid-2/
LOCATION:Lugar sin nombre\, Madrid
CATEGORIES:En gira,Programación,Temporada 2022 / 2023
ATTACH;FMTTYPE=image/jpeg:https://teatroclasico.inaem.gob.es/wp-content/uploads/2021/05/post_RRSS_numancia.jpg
END:VEVENT
BEGIN:VEVENT
DTSTART;VALUE=DATE:20220929
DTEND;VALUE=DATE:20220930
DTSTAMP:20260420T053835
CREATED:20220616T104348Z
LAST-MODIFIED:20220615T154149Z
UID:17521-1664409600-1664495999@teatroclasico.inaem.gob.es
SUMMARY:Numancia - Palencia
DESCRIPTION:
URL:https://teatroclasico.inaem.gob.es/evento/numancia-palencia/
LOCATION:Lugar sin nombre\, Madrid
CATEGORIES:En gira,Programación,Temporada 2022 / 2023
ATTACH;FMTTYPE=image/jpeg:https://teatroclasico.inaem.gob.es/wp-content/uploads/2021/05/post_RRSS_numancia.jpg
ORGANIZER;CN="Compa%C3%B1%C3%ADa Nacional de Teatro Cl%C3%A1sico":MAILTO:teatro.clasico@inaem.mcu.es
END:VEVENT
BEGIN:VEVENT
DTSTART;VALUE=DATE:20220930
DTEND;VALUE=DATE:20221114
DTSTAMP:20260420T053835
CREATED:20220616T103055Z
LAST-MODIFIED:20220930T111648Z
UID:17296-1664496000-1668383999@teatroclasico.inaem.gob.es
SUMMARY:El burlador de Sevilla - Madrid
DESCRIPTION:
URL:https://teatroclasico.inaem.gob.es/evento/el-burlador-de-sevilla-madrid-2/
LOCATION:Teatro de la Comedia\, Madrid\, Madrid\, España
CATEGORIES:Programación,Teatro de la Comedia,Temporada 2022 / 2023
ATTACH;FMTTYPE=image/jpeg:https://teatroclasico.inaem.gob.es/wp-content/uploads/2022/08/banner-web-burlador.jpg
ORGANIZER;CN="Compa%C3%B1%C3%ADa Nacional de Teatro Cl%C3%A1sico":MAILTO:teatro.clasico@inaem.mcu.es
END:VEVENT
BEGIN:VEVENT
DTSTART;VALUE=DATE:20221006
DTEND;VALUE=DATE:20221114
DTSTAMP:20260420T053835
CREATED:20220616T103149Z
LAST-MODIFIED:20220610T151829Z
UID:17300-1665014400-1668383999@teatroclasico.inaem.gob.es
SUMMARY:El lugar y el mito - Madrid
DESCRIPTION:
URL:https://teatroclasico.inaem.gob.es/evento/el-lugar-y-el-mito-madrid/
LOCATION:Teatro de la Comedia\, Madrid\, Madrid\, España
CATEGORIES:Programación,Teatro de la Comedia,Temporada 2022 / 2023
ATTACH;FMTTYPE=image/png:https://teatroclasico.inaem.gob.es/wp-content/uploads/2022/06/El-lugar-y-el-mito.png
ORGANIZER;CN="Compa%C3%B1%C3%ADa Nacional de Teatro Cl%C3%A1sico":MAILTO:teatro.clasico@inaem.mcu.es
END:VEVENT
BEGIN:VEVENT
DTSTART;VALUE=DATE:20221007
DTEND;VALUE=DATE:20221009
DTSTAMP:20260420T053835
CREATED:20220616T104327Z
LAST-MODIFIED:20220615T154327Z
UID:17523-1665100800-1665273599@teatroclasico.inaem.gob.es
SUMMARY:Numancia - Soria
DESCRIPTION:
URL:https://teatroclasico.inaem.gob.es/evento/numancia-soria/
LOCATION:Lugar sin nombre\, Madrid
CATEGORIES:En gira,Programación,Temporada 2022 / 2023
ATTACH;FMTTYPE=image/jpeg:https://teatroclasico.inaem.gob.es/wp-content/uploads/2021/05/post_RRSS_numancia.jpg
ORGANIZER;CN="Compa%C3%B1%C3%ADa Nacional de Teatro Cl%C3%A1sico":MAILTO:teatro.clasico@inaem.mcu.es
END:VEVENT
BEGIN:VEVENT
DTSTART;VALUE=DATE:20221008
DTEND;VALUE=DATE:20221009
DTSTAMP:20260420T053835
CREATED:20220616T104223Z
LAST-MODIFIED:20220615T153903Z
UID:17505-1665187200-1665273599@teatroclasico.inaem.gob.es
SUMMARY:Alma y palabra - Castellón
DESCRIPTION:
URL:https://teatroclasico.inaem.gob.es/evento/alma-y-palabra-castellon-2/
LOCATION:Lugar sin nombre\, Madrid
CATEGORIES:En gira,Programación,Temporada 2022 / 2023
ATTACH;FMTTYPE=image/jpeg:https://teatroclasico.inaem.gob.es/wp-content/uploads/2021/06/post_RRSS_almaypalabra.jpg
END:VEVENT
BEGIN:VEVENT
DTSTART;VALUE=DATE:20221013
DTEND;VALUE=DATE:20221014
DTSTAMP:20260420T053835
CREATED:20220616T104346Z
LAST-MODIFIED:20220615T154440Z
UID:17525-1665619200-1665705599@teatroclasico.inaem.gob.es
SUMMARY:Numancia - León
DESCRIPTION:
URL:https://teatroclasico.inaem.gob.es/evento/numancia-leon/
LOCATION:Lugar sin nombre\, Madrid
CATEGORIES:En gira,Programación,Temporada 2022 / 2023
ATTACH;FMTTYPE=image/jpeg:https://teatroclasico.inaem.gob.es/wp-content/uploads/2021/05/post_RRSS_numancia.jpg
ORGANIZER;CN="Compa%C3%B1%C3%ADa Nacional de Teatro Cl%C3%A1sico":MAILTO:teatro.clasico@inaem.mcu.es
END:VEVENT
BEGIN:VEVENT
DTSTART;VALUE=DATE:20221014
DTEND;VALUE=DATE:20221017
DTSTAMP:20260420T053835
CREATED:20220616T103224Z
LAST-MODIFIED:20240208T112309Z
UID:17309-1665705600-1665964799@teatroclasico.inaem.gob.es
SUMMARY:La vida es sueño - Sevilla
DESCRIPTION:
URL:https://teatroclasico.inaem.gob.es/evento/la-vida-es-sueno-sevilla/
LOCATION:Lugar sin nombre\, Madrid
CATEGORIES:En gira,Programación,Temporada 2022 / 2023
ATTACH;FMTTYPE=image/jpeg:https://teatroclasico.inaem.gob.es/wp-content/uploads/2022/06/1080x1080-vida-ok.jpg
END:VEVENT
BEGIN:VEVENT
DTSTART;VALUE=DATE:20221015
DTEND;VALUE=DATE:20221016
DTSTAMP:20260420T053835
CREATED:20220616T104358Z
LAST-MODIFIED:20220615T154555Z
UID:17527-1665792000-1665878399@teatroclasico.inaem.gob.es
SUMMARY:Numancia - Toledo
DESCRIPTION:
URL:https://teatroclasico.inaem.gob.es/evento/numancia-toledo/
LOCATION:Lugar sin nombre\, Madrid
CATEGORIES:En gira,Programación,Temporada 2022 / 2023
ATTACH;FMTTYPE=image/jpeg:https://teatroclasico.inaem.gob.es/wp-content/uploads/2021/05/post_RRSS_numancia.jpg
ORGANIZER;CN="Compa%C3%B1%C3%ADa Nacional de Teatro Cl%C3%A1sico":MAILTO:teatro.clasico@inaem.mcu.es
END:VEVENT
BEGIN:VEVENT
DTSTART;VALUE=DATE:20221015
DTEND;VALUE=DATE:20221016
DTSTAMP:20260420T053835
CREATED:20220616T104426Z
LAST-MODIFIED:20240208T100945Z
UID:17544-1665792000-1665878399@teatroclasico.inaem.gob.es
SUMMARY:El diablo cojuelo - Llinars del Vallès
DESCRIPTION:
URL:https://teatroclasico.inaem.gob.es/evento/el-diablo-cojuelo-llinars-del-valles/
LOCATION:Lugar sin nombre\, Madrid
CATEGORIES:En gira,Programación,Temporada 2022 / 2023
ATTACH;FMTTYPE=image/jpeg:https://teatroclasico.inaem.gob.es/wp-content/uploads/2021/05/post_RRSS_eldiablocojuelo.jpg
END:VEVENT
BEGIN:VEVENT
DTSTART;VALUE=DATE:20221022
DTEND;VALUE=DATE:20221024
DTSTAMP:20260420T053835
CREATED:20220616T103233Z
LAST-MODIFIED:20240208T112400Z
UID:17313-1666396800-1666569599@teatroclasico.inaem.gob.es
SUMMARY:La vida es sueño - Girona
DESCRIPTION:
URL:https://teatroclasico.inaem.gob.es/evento/la-vida-es-sueno-girona/
LOCATION:Lugar sin nombre\, Madrid
CATEGORIES:En gira,Programación,Temporada 2022 / 2023
ATTACH;FMTTYPE=image/jpeg:https://teatroclasico.inaem.gob.es/wp-content/uploads/2022/06/1080x1080-vida-ok.jpg
END:VEVENT
BEGIN:VEVENT
DTSTART;VALUE=DATE:20221027
DTEND;VALUE=DATE:20221029
DTSTAMP:20260420T053835
CREATED:20220616T104326Z
LAST-MODIFIED:20220615T154722Z
UID:17529-1666828800-1667001599@teatroclasico.inaem.gob.es
SUMMARY:Numancia - Elche
DESCRIPTION:
URL:https://teatroclasico.inaem.gob.es/evento/numancia-elche/
LOCATION:Lugar sin nombre\, Madrid
CATEGORIES:En gira,Programación,Temporada 2022 / 2023
ATTACH;FMTTYPE=image/jpeg:https://teatroclasico.inaem.gob.es/wp-content/uploads/2021/05/post_RRSS_numancia.jpg
ORGANIZER;CN="Compa%C3%B1%C3%ADa Nacional de Teatro Cl%C3%A1sico":MAILTO:teatro.clasico@inaem.mcu.es
END:VEVENT
BEGIN:VEVENT
DTSTART;VALUE=DATE:20221104
DTEND;VALUE=DATE:20221105
DTSTAMP:20260420T053835
CREATED:20220616T104340Z
LAST-MODIFIED:20220615T154850Z
UID:17531-1667520000-1667606399@teatroclasico.inaem.gob.es
SUMMARY:Numancia - Miranda de Ebro
DESCRIPTION:
URL:https://teatroclasico.inaem.gob.es/evento/numancia-miranda-de-ebro/
LOCATION:Lugar sin nombre\, Madrid
CATEGORIES:En gira,Programación,Temporada 2022 / 2023
ATTACH;FMTTYPE=image/jpeg:https://teatroclasico.inaem.gob.es/wp-content/uploads/2021/05/post_RRSS_numancia.jpg
ORGANIZER;CN="Compa%C3%B1%C3%ADa Nacional de Teatro Cl%C3%A1sico":MAILTO:teatro.clasico@inaem.mcu.es
END:VEVENT
BEGIN:VEVENT
DTSTART;VALUE=DATE:20221104
DTEND;VALUE=DATE:20221105
DTSTAMP:20260420T053835
CREATED:20220616T104408Z
LAST-MODIFIED:20240208T100540Z
UID:17546-1667520000-1667606399@teatroclasico.inaem.gob.es
SUMMARY:El diablo cojuelo - Sant Joan Despí
DESCRIPTION:
URL:https://teatroclasico.inaem.gob.es/evento/el-diablo-cojuelo-sant-joan-despi/
LOCATION:Lugar sin nombre\, Madrid
CATEGORIES:En gira,Programación,Temporada 2022 / 2023
ATTACH;FMTTYPE=image/jpeg:https://teatroclasico.inaem.gob.es/wp-content/uploads/2021/05/post_RRSS_eldiablocojuelo.jpg
END:VEVENT
BEGIN:VEVENT
DTSTART;VALUE=DATE:20221105
DTEND;VALUE=DATE:20221106
DTSTAMP:20260420T053835
CREATED:20220616T104307Z
LAST-MODIFIED:20220615T155002Z
UID:17533-1667606400-1667692799@teatroclasico.inaem.gob.es
SUMMARY:Numancia - Valladolid
DESCRIPTION:
URL:https://teatroclasico.inaem.gob.es/evento/numancia-valladolid/
LOCATION:Lugar sin nombre\, Madrid
CATEGORIES:En gira,Programación,Temporada 2022 / 2023
ATTACH;FMTTYPE=image/jpeg:https://teatroclasico.inaem.gob.es/wp-content/uploads/2021/05/post_RRSS_numancia.jpg
ORGANIZER;CN="Compa%C3%B1%C3%ADa Nacional de Teatro Cl%C3%A1sico":MAILTO:teatro.clasico@inaem.mcu.es
END:VEVENT
BEGIN:VEVENT
DTSTART;VALUE=DATE:20221106
DTEND;VALUE=DATE:20221107
DTSTAMP:20260420T053835
CREATED:20220616T104419Z
LAST-MODIFIED:20240208T100617Z
UID:17548-1667692800-1667779199@teatroclasico.inaem.gob.es
SUMMARY:El diablo cojuelo - Tordera
DESCRIPTION:
URL:https://teatroclasico.inaem.gob.es/evento/el-diablo-cojuelo-tordera/
LOCATION:Lugar sin nombre\, Madrid
CATEGORIES:En gira,Programación,Temporada 2022 / 2023
ATTACH;FMTTYPE=image/jpeg:https://teatroclasico.inaem.gob.es/wp-content/uploads/2021/05/post_RRSS_eldiablocojuelo.jpg
END:VEVENT
BEGIN:VEVENT
DTSTART;VALUE=DATE:20221112
DTEND;VALUE=DATE:20221113
DTSTAMP:20260420T053835
CREATED:20220616T104441Z
LAST-MODIFIED:20240208T100647Z
UID:17550-1668211200-1668297599@teatroclasico.inaem.gob.es
SUMMARY:El diablo cojuelo - Alcobendas
DESCRIPTION:
URL:https://teatroclasico.inaem.gob.es/evento/el-diablo-cojuelo-alcobendas/
LOCATION:Lugar sin nombre\, Madrid
CATEGORIES:En gira,Programación,Temporada 2022 / 2023
ATTACH;FMTTYPE=image/jpeg:https://teatroclasico.inaem.gob.es/wp-content/uploads/2021/05/post_RRSS_eldiablocojuelo.jpg
END:VEVENT
BEGIN:VEVENT
DTSTART;VALUE=DATE:20221112
DTEND;VALUE=DATE:20221114
DTSTAMP:20260420T053835
CREATED:20220616T103223Z
LAST-MODIFIED:20240208T111248Z
UID:17315-1668211200-1668383999@teatroclasico.inaem.gob.es
SUMMARY:La vida es sueño - Valladolid
DESCRIPTION:
URL:https://teatroclasico.inaem.gob.es/evento/la-vida-es-sueno-valladolid/
LOCATION:Lugar sin nombre\, Madrid
CATEGORIES:En gira,Programación,Temporada 2022 / 2023
ATTACH;FMTTYPE=image/jpeg:https://teatroclasico.inaem.gob.es/wp-content/uploads/2022/06/1080x1080-vida-ok.jpg
END:VEVENT
BEGIN:VEVENT
DTSTART;VALUE=DATE:20221119
DTEND;VALUE=DATE:20221121
DTSTAMP:20260420T053835
CREATED:20220616T103243Z
LAST-MODIFIED:20240208T111317Z
UID:17318-1668816000-1668988799@teatroclasico.inaem.gob.es
SUMMARY:La vida es sueño - Valencia
DESCRIPTION:
URL:https://teatroclasico.inaem.gob.es/evento/la-vida-es-sueno-valencia/
LOCATION:Lugar sin nombre\, Madrid
CATEGORIES:En gira,Programación,Temporada 2022 / 2023
ATTACH;FMTTYPE=image/jpeg:https://teatroclasico.inaem.gob.es/wp-content/uploads/2022/06/1080x1080-vida-ok.jpg
END:VEVENT
BEGIN:VEVENT
DTSTART;VALUE=DATE:20221125
DTEND;VALUE=DATE:20221126
DTSTAMP:20260420T053835
CREATED:20220616T104402Z
LAST-MODIFIED:20240208T100719Z
UID:17552-1669334400-1669420799@teatroclasico.inaem.gob.es
SUMMARY:El diablo cojuelo - Sant Andreu de la Barca
DESCRIPTION:
URL:https://teatroclasico.inaem.gob.es/evento/el-diablo-cojuelo-sant-andreu-de-la-barca/
LOCATION:Lugar sin nombre\, Madrid
CATEGORIES:En gira,Programación,Temporada 2022 / 2023
ATTACH;FMTTYPE=image/jpeg:https://teatroclasico.inaem.gob.es/wp-content/uploads/2021/05/post_RRSS_eldiablocojuelo.jpg
END:VEVENT
BEGIN:VEVENT
DTSTART;VALUE=DATE:20221126
DTEND;VALUE=DATE:20221127
DTSTAMP:20260420T053835
CREATED:20220616T104434Z
LAST-MODIFIED:20240208T100756Z
UID:17554-1669420800-1669507199@teatroclasico.inaem.gob.es
SUMMARY:El diablo cojuelo - El Vendrell
DESCRIPTION:
URL:https://teatroclasico.inaem.gob.es/evento/el-diablo-cojuelo-el-vendrell/
LOCATION:Lugar sin nombre\, Madrid
CATEGORIES:En gira,Programación,Temporada 2022 / 2023
ATTACH;FMTTYPE=image/jpeg:https://teatroclasico.inaem.gob.es/wp-content/uploads/2021/05/post_RRSS_eldiablocojuelo.jpg
END:VEVENT
END:VCALENDAR