BEGIN:VCALENDAR
VERSION:2.0
PRODID:-//Compañía Nacional de Teatro Clásico - ECPv6.15.16//NONSGML v1.0//EN
CALSCALE:GREGORIAN
METHOD:PUBLISH
X-ORIGINAL-URL:https://teatroclasico.inaem.gob.es
X-WR-CALDESC:Eventos para Compañía Nacional de Teatro Clásico
REFRESH-INTERVAL;VALUE=DURATION:PT1H
X-Robots-Tag:noindex
X-PUBLISHED-TTL:PT1H
BEGIN:VTIMEZONE
TZID:Europe/Helsinki
BEGIN:DAYLIGHT
TZOFFSETFROM:+0200
TZOFFSETTO:+0300
TZNAME:EEST
DTSTART:20210328T010000
END:DAYLIGHT
BEGIN:STANDARD
TZOFFSETFROM:+0300
TZOFFSETTO:+0200
TZNAME:EET
DTSTART:20211031T010000
END:STANDARD
BEGIN:DAYLIGHT
TZOFFSETFROM:+0200
TZOFFSETTO:+0300
TZNAME:EEST
DTSTART:20220327T010000
END:DAYLIGHT
BEGIN:STANDARD
TZOFFSETFROM:+0300
TZOFFSETTO:+0200
TZNAME:EET
DTSTART:20221030T010000
END:STANDARD
BEGIN:DAYLIGHT
TZOFFSETFROM:+0200
TZOFFSETTO:+0300
TZNAME:EEST
DTSTART:20230326T010000
END:DAYLIGHT
BEGIN:STANDARD
TZOFFSETFROM:+0300
TZOFFSETTO:+0200
TZNAME:EET
DTSTART:20231029T010000
END:STANDARD
BEGIN:DAYLIGHT
TZOFFSETFROM:+0200
TZOFFSETTO:+0300
TZNAME:EEST
DTSTART:20240331T010000
END:DAYLIGHT
BEGIN:STANDARD
TZOFFSETFROM:+0300
TZOFFSETTO:+0200
TZNAME:EET
DTSTART:20241027T010000
END:STANDARD
END:VTIMEZONE
BEGIN:VEVENT
DTSTART;VALUE=DATE:20221202
DTEND;VALUE=DATE:20221203
DTSTAMP:20260419T214538
CREATED:20220616T103257Z
LAST-MODIFIED:20240208T111351Z
UID:17320-1669939200-1670025599@teatroclasico.inaem.gob.es
SUMMARY:La vida es sueño - Avilés
DESCRIPTION:
URL:https://teatroclasico.inaem.gob.es/evento/la-vida-es-sueno-aviles/
LOCATION:Lugar sin nombre\, Madrid
CATEGORIES:En gira,Programación,Temporada 2022 / 2023
ATTACH;FMTTYPE=image/jpeg:https://teatroclasico.inaem.gob.es/wp-content/uploads/2022/06/1080x1080-vida-ok.jpg
END:VEVENT
BEGIN:VEVENT
DTSTART;VALUE=DATE:20221215
DTEND;VALUE=DATE:20230227
DTSTAMP:20260419T214538
CREATED:20220616T103259Z
LAST-MODIFIED:20240208T110929Z
UID:17305-1671062400-1677455999@teatroclasico.inaem.gob.es
SUMMARY:La vida es sueño - Madrid
DESCRIPTION:
URL:https://teatroclasico.inaem.gob.es/evento/la-vida-es-sueno-madrid-2/
LOCATION:Teatro de la Comedia\, Madrid\, Madrid\, España
CATEGORIES:Programación,Teatro de la Comedia,Temporada 2022 / 2023
ATTACH;FMTTYPE=image/jpeg:https://teatroclasico.inaem.gob.es/wp-content/uploads/2022/06/1080x1080-vida-ok.jpg
END:VEVENT
BEGIN:VEVENT
DTSTART;VALUE=DATE:20221217
DTEND;VALUE=DATE:20221219
DTSTAMP:20260419T214538
CREATED:20220616T104325Z
LAST-MODIFIED:20220615T155122Z
UID:17535-1671235200-1671407999@teatroclasico.inaem.gob.es
SUMMARY:Numancia - Zaragoza
DESCRIPTION:
URL:https://teatroclasico.inaem.gob.es/evento/numancia-zaragoza/
LOCATION:Lugar sin nombre\, Madrid
CATEGORIES:En gira,Programación,Temporada 2022 / 2023
ATTACH;FMTTYPE=image/jpeg:https://teatroclasico.inaem.gob.es/wp-content/uploads/2021/05/post_RRSS_numancia.jpg
ORGANIZER;CN="Compa%C3%B1%C3%ADa Nacional de Teatro Cl%C3%A1sico":MAILTO:teatro.clasico@inaem.mcu.es
END:VEVENT
BEGIN:VEVENT
DTSTART;VALUE=DATE:20230114
DTEND;VALUE=DATE:20230115
DTSTAMP:20260419T214538
CREATED:20220616T104451Z
LAST-MODIFIED:20240208T100334Z
UID:17556-1673654400-1673740799@teatroclasico.inaem.gob.es
SUMMARY:El diablo cojuelo - Tarragona
DESCRIPTION:
URL:https://teatroclasico.inaem.gob.es/evento/el-diablo-cojuelo-tarragona/
LOCATION:Lugar sin nombre\, Madrid
CATEGORIES:En gira,Programación,Temporada 2022 / 2023
ATTACH;FMTTYPE=image/jpeg:https://teatroclasico.inaem.gob.es/wp-content/uploads/2021/05/post_RRSS_eldiablocojuelo.jpg
END:VEVENT
BEGIN:VEVENT
DTSTART;VALUE=DATE:20230119
DTEND;VALUE=DATE:20230130
DTSTAMP:20260419T214538
CREATED:20220616T103311Z
LAST-MODIFIED:20230113T131444Z
UID:17333-1674086400-1675036799@teatroclasico.inaem.gob.es
SUMMARY:Segismundos - Madrid
DESCRIPTION:
URL:https://teatroclasico.inaem.gob.es/evento/segismundos-madrid/
LOCATION:Teatro de la Comedia\, Madrid\, Madrid\, España
CATEGORIES:Programación,Teatro de la Comedia,Temporada 2022 / 2023
ATTACH;FMTTYPE=image/jpeg:https://teatroclasico.inaem.gob.es/wp-content/uploads/2022/06/1080x1080-segismundos-01.jpg
END:VEVENT
BEGIN:VEVENT
DTSTART;VALUE=DATE:20230121
DTEND;VALUE=DATE:20230122
DTSTAMP:20260419T214538
CREATED:20220616T104407Z
LAST-MODIFIED:20240208T100412Z
UID:17558-1674259200-1674345599@teatroclasico.inaem.gob.es
SUMMARY:El diablo cojuelo - Murcia
DESCRIPTION:
URL:https://teatroclasico.inaem.gob.es/evento/el-diablo-cojuelo-murcia/
LOCATION:Lugar sin nombre\, Madrid
CATEGORIES:En gira,Programación,Temporada 2022 / 2023
ATTACH;FMTTYPE=image/jpeg:https://teatroclasico.inaem.gob.es/wp-content/uploads/2021/05/post_RRSS_eldiablocojuelo.jpg
END:VEVENT
BEGIN:VEVENT
DTSTART;VALUE=DATE:20230206
DTEND;VALUE=DATE:20230207
DTSTAMP:20260419T214538
CREATED:20220616T103416Z
LAST-MODIFIED:20220610T152350Z
UID:17339-1675641600-1675727999@teatroclasico.inaem.gob.es
SUMMARY:Decíamos ayer\, decimos hoy - Madrid
DESCRIPTION:
URL:https://teatroclasico.inaem.gob.es/evento/deciamos-ayer-decimos-hoy-madrid/
LOCATION:Teatro de la Comedia\, Madrid\, Madrid\, España
CATEGORIES:Programación,Teatro de la Comedia,Temporada 2022 / 2023
ATTACH;FMTTYPE=image/png:https://teatroclasico.inaem.gob.es/wp-content/uploads/2022/06/Decíamos-ayer-decimos-hoy.png
END:VEVENT
BEGIN:VEVENT
DTSTART;VALUE=DATE:20230209
DTEND;VALUE=DATE:20230220
DTSTAMP:20260419T214538
CREATED:20220616T103419Z
LAST-MODIFIED:20240208T111023Z
UID:17343-1675900800-1676851199@teatroclasico.inaem.gob.es
SUMMARY:De haber nacido
DESCRIPTION:
URL:https://teatroclasico.inaem.gob.es/evento/de-haber-nacido/
LOCATION:Teatro de la Comedia\, Madrid\, Madrid\, España
CATEGORIES:Programación,Teatro de la Comedia,Temporada 2022 / 2023
ATTACH;FMTTYPE=image/png:https://teatroclasico.inaem.gob.es/wp-content/uploads/2022/06/De-haber-nacido.png
END:VEVENT
BEGIN:VEVENT
DTSTART;VALUE=DATE:20230218
DTEND;VALUE=DATE:20230219
DTSTAMP:20260419T214538
CREATED:20220616T104439Z
LAST-MODIFIED:20240208T100451Z
UID:17562-1676678400-1676764799@teatroclasico.inaem.gob.es
SUMMARY:El diablo cojuelo - Barakaldo
DESCRIPTION:
URL:https://teatroclasico.inaem.gob.es/evento/el-diablo-cojuelo-barakaldo/
LOCATION:Lugar sin nombre\, Madrid
CATEGORIES:En gira,Programación,Temporada 2022 / 2023
ATTACH;FMTTYPE=image/jpeg:https://teatroclasico.inaem.gob.es/wp-content/uploads/2021/05/post_RRSS_eldiablocojuelo.jpg
END:VEVENT
BEGIN:VEVENT
DTSTART;VALUE=DATE:20230309
DTEND;VALUE=DATE:20230311
DTSTAMP:20260419T214538
CREATED:20220616T103219Z
LAST-MODIFIED:20240208T111141Z
UID:17322-1678320000-1678492799@teatroclasico.inaem.gob.es
SUMMARY:La vida es sueño - Albi (FR)
DESCRIPTION:
URL:https://teatroclasico.inaem.gob.es/evento/la-vida-es-sueno-albi-fr/
LOCATION:Lugar sin nombre\, Madrid
CATEGORIES:En gira,Programación,Temporada 2022 / 2023
ATTACH;FMTTYPE=image/jpeg:https://teatroclasico.inaem.gob.es/wp-content/uploads/2022/06/1080x1080-vida-ok.jpg
END:VEVENT
BEGIN:VEVENT
DTSTART;VALUE=DATE:20230309
DTEND;VALUE=DATE:20230327
DTSTAMP:20260419T214538
CREATED:20220616T103623Z
LAST-MODIFIED:20240208T111100Z
UID:17350-1678320000-1679875199@teatroclasico.inaem.gob.es
SUMMARY:El viaje del monstruo fiero - Madrid
DESCRIPTION:
URL:https://teatroclasico.inaem.gob.es/evento/el-viaje-del-monstruo-fiero-madrid/
LOCATION:Teatro de la Comedia\, Madrid\, Madrid\, España
CATEGORIES:Programación,Teatro de la Comedia,Temporada 2022 / 2023
ATTACH;FMTTYPE=image/jpeg:https://teatroclasico.inaem.gob.es/wp-content/uploads/2023/02/1920x1080-monstruo-01-2.jpg
END:VEVENT
BEGIN:VEVENT
DTSTART;VALUE=DATE:20230413
DTEND;VALUE=DATE:20230417
DTSTAMP:20260419T214538
CREATED:20220616T103224Z
LAST-MODIFIED:20240208T110715Z
UID:17324-1681344000-1681689599@teatroclasico.inaem.gob.es
SUMMARY:La vida es sueño - Londres
DESCRIPTION:
URL:https://teatroclasico.inaem.gob.es/evento/la-vida-es-sueno-londres/
LOCATION:Lugar sin nombre\, Madrid
CATEGORIES:En gira,Programación,Temporada 2022 / 2023
ATTACH;FMTTYPE=image/jpeg:https://teatroclasico.inaem.gob.es/wp-content/uploads/2022/06/1080x1080-vida-ok.jpg
END:VEVENT
BEGIN:VEVENT
DTSTART;VALUE=DATE:20230413
DTEND;VALUE=DATE:20230605
DTSTAMP:20260419T214538
CREATED:20220616T103713Z
LAST-MODIFIED:20230420T095500Z
UID:17360-1681344000-1685923199@teatroclasico.inaem.gob.es
SUMMARY:Valor\, agravio y mujer - Madrid
DESCRIPTION:
URL:https://teatroclasico.inaem.gob.es/evento/valor-agravio-y-mujer-madrid/
LOCATION:Teatro de la Comedia\, Madrid\, Madrid\, España
CATEGORIES:Programación,Teatro de la Comedia,Temporada 2022 / 2023
ATTACH;FMTTYPE=image/jpeg:https://teatroclasico.inaem.gob.es/wp-content/uploads/2023/03/1080x1080-valor-Sin-crédito-Sergio-Parra.jpg
END:VEVENT
BEGIN:VEVENT
DTSTART;VALUE=DATE:20230427
DTEND;VALUE=DATE:20230502
DTSTAMP:20260419T214538
CREATED:20220616T104028Z
LAST-MODIFIED:20220610T152846Z
UID:17382-1682553600-1682985599@teatroclasico.inaem.gob.es
SUMMARY:La discreta enamorada - Málaga
DESCRIPTION:
URL:https://teatroclasico.inaem.gob.es/evento/la-discreta-enamorada-malaga/
LOCATION:Lugar sin nombre\, Madrid
CATEGORIES:En gira,Programación,Temporada 2022 / 2023
ATTACH;FMTTYPE=image/png:https://teatroclasico.inaem.gob.es/wp-content/uploads/2022/06/La-discreta-enamorada.png
END:VEVENT
BEGIN:VEVENT
DTSTART;VALUE=DATE:20230504
DTEND;VALUE=DATE:20230515
DTSTAMP:20260419T214538
CREATED:20220616T103734Z
LAST-MODIFIED:20240208T100142Z
UID:17364-1683158400-1684108799@teatroclasico.inaem.gob.es
SUMMARY:Macho grita - Madrid
DESCRIPTION:
URL:https://teatroclasico.inaem.gob.es/evento/macho-grita-madrid/
LOCATION:Teatro de la Comedia\, Madrid\, Madrid\, España
CATEGORIES:Programación,Teatro de la Comedia,Temporada 2022 / 2023
ATTACH;FMTTYPE=image/png:https://teatroclasico.inaem.gob.es/wp-content/uploads/2022/06/Macho-grita.png
ORGANIZER;CN="Compa%C3%B1%C3%ADa Nacional de Teatro Cl%C3%A1sico":MAILTO:teatro.clasico@inaem.mcu.es
END:VEVENT
BEGIN:VEVENT
DTSTART;VALUE=DATE:20230505
DTEND;VALUE=DATE:20230506
DTSTAMP:20260419T214538
CREATED:20220616T103242Z
LAST-MODIFIED:20240208T110758Z
UID:17326-1683244800-1683331199@teatroclasico.inaem.gob.es
SUMMARY:La vida es sueño - Alicante
DESCRIPTION:
URL:https://teatroclasico.inaem.gob.es/evento/la-vida-es-sueno-alicante/
LOCATION:Lugar sin nombre\, Madrid
CATEGORIES:En gira,Programación,Temporada 2022 / 2023
ATTACH;FMTTYPE=image/jpeg:https://teatroclasico.inaem.gob.es/wp-content/uploads/2022/06/1080x1080-vida-ok.jpg
END:VEVENT
BEGIN:VEVENT
DTSTART;VALUE=DATE:20230505
DTEND;VALUE=DATE:20230506
DTSTAMP:20260419T214538
CREATED:20230203T095610Z
LAST-MODIFIED:20230203T095610Z
UID:19882-1683244800-1683331199@teatroclasico.inaem.gob.es
SUMMARY:La discreta enamorada - Almería
DESCRIPTION:
URL:https://teatroclasico.inaem.gob.es/evento/la-discreta-enamorada-almeria/
LOCATION:Lugar sin nombre\, Madrid
CATEGORIES:En gira,Programación,Temporada 2022 / 2023
ATTACH;FMTTYPE=image/png:https://teatroclasico.inaem.gob.es/wp-content/uploads/2022/06/La-discreta-enamorada.png
ORGANIZER;CN="Compa%C3%B1%C3%ADa Nacional de Teatro Cl%C3%A1sico":MAILTO:teatro.clasico@inaem.mcu.es
END:VEVENT
BEGIN:VEVENT
DTSTART;VALUE=DATE:20230506
DTEND;VALUE=DATE:20230507
DTSTAMP:20260419T214538
CREATED:20220616T104407Z
LAST-MODIFIED:20240208T100238Z
UID:17564-1683331200-1683417599@teatroclasico.inaem.gob.es
SUMMARY:El diablo cojuelo - Gijón
DESCRIPTION:
URL:https://teatroclasico.inaem.gob.es/evento/el-diablo-cojuelo-gijon/
LOCATION:Lugar sin nombre\, Madrid
CATEGORIES:En gira,Programación,Temporada 2022 / 2023
ATTACH;FMTTYPE=image/jpeg:https://teatroclasico.inaem.gob.es/wp-content/uploads/2021/05/post_RRSS_eldiablocojuelo.jpg
END:VEVENT
BEGIN:VEVENT
DTSTART;VALUE=DATE:20230517
DTEND;VALUE=DATE:20230604
DTSTAMP:20260419T214538
CREATED:20220616T104031Z
LAST-MODIFIED:20230427T185340Z
UID:17385-1684281600-1685836799@teatroclasico.inaem.gob.es
SUMMARY:La discreta enamorada - Barcelona
DESCRIPTION:
URL:https://teatroclasico.inaem.gob.es/evento/la-discreta-enamorada-barcelona/
LOCATION:Lugar sin nombre\, Madrid
CATEGORIES:En gira,Programación,Temporada 2022 / 2023
ATTACH;FMTTYPE=image/png:https://teatroclasico.inaem.gob.es/wp-content/uploads/2022/06/La-discreta-enamorada.png
END:VEVENT
BEGIN:VEVENT
DTSTART;VALUE=DATE:20230525
DTEND;VALUE=DATE:20230605
DTSTAMP:20260419T214538
CREATED:20220616T103802Z
LAST-MODIFIED:20240208T110830Z
UID:17370-1684972800-1685923199@teatroclasico.inaem.gob.es
SUMMARY:La vida es sueño - Madrid
DESCRIPTION:
URL:https://teatroclasico.inaem.gob.es/evento/la-vida-es-sueno-madrid-3/
LOCATION:Teatro de la Comedia\, Madrid\, Madrid\, España
CATEGORIES:Programación,Teatro de la Comedia,Temporada 2022 / 2023
ATTACH;FMTTYPE=image/jpeg:https://teatroclasico.inaem.gob.es/wp-content/uploads/2022/06/1080x1080-vida-ok.jpg
END:VEVENT
BEGIN:VEVENT
DTSTART;VALUE=DATE:20230609
DTEND;VALUE=DATE:20230611
DTSTAMP:20260419T214538
CREATED:20230607T124823Z
LAST-MODIFIED:20230607T130938Z
UID:21651-1686268800-1686441599@teatroclasico.inaem.gob.es
SUMMARY:La discreta enamorada - La Coruña
DESCRIPTION:
URL:https://teatroclasico.inaem.gob.es/evento/la-discreta-enamorada-la-coruna/
LOCATION:Lugar sin nombre\, Madrid
CATEGORIES:En gira,Programación,Temporada 2022 / 2023
ATTACH;FMTTYPE=image/jpeg:https://teatroclasico.inaem.gob.es/wp-content/uploads/2023/06/1080x1080-discreta-1.jpg
END:VEVENT
BEGIN:VEVENT
DTSTART;VALUE=DATE:20230617
DTEND;VALUE=DATE:20230618
DTSTAMP:20260419T214538
CREATED:20220616T104022Z
LAST-MODIFIED:20230607T132055Z
UID:17388-1686960000-1687046399@teatroclasico.inaem.gob.es
SUMMARY:La discreta enamorada - Alcalá de Henares
DESCRIPTION:
URL:https://teatroclasico.inaem.gob.es/evento/la-discreta-enamorada-alcala-de-henares/
LOCATION:Lugar sin nombre\, Madrid
CATEGORIES:En gira,Programación,Temporada 2022 / 2023
ATTACH;FMTTYPE=image/jpeg:https://teatroclasico.inaem.gob.es/wp-content/uploads/2023/06/1080x1080-discreta-1.jpg
END:VEVENT
BEGIN:VEVENT
DTSTART;VALUE=DATE:20230629
DTEND;VALUE=DATE:20230703
DTSTAMP:20260419T214538
CREATED:20230626T112337Z
LAST-MODIFIED:20240711T113348Z
UID:21959-1687996800-1688342399@teatroclasico.inaem.gob.es
SUMMARY:El templo vacío - Almagro
DESCRIPTION:
URL:https://teatroclasico.inaem.gob.es/evento/el-templo-vacio-almagro/
LOCATION:Corral de Comedias\, Plaza Mayor\, 18\, Almagro (Festival de Teatro Clásico)\, Ciudad Real\, 13270
CATEGORIES:Programación,Teatro de la Comedia,Temporada 2023 / 2024
ATTACH;FMTTYPE=image/jpeg:https://teatroclasico.inaem.gob.es/wp-content/uploads/2023/06/Templo-vacío-1080-x-1080-Almagro.jpg
ORGANIZER;CN="Compa%C3%B1%C3%ADa Nacional de Teatro Cl%C3%A1sico":MAILTO:teatro.clasico@inaem.mcu.es
END:VEVENT
BEGIN:VEVENT
DTSTART;VALUE=DATE:20230721
DTEND;VALUE=DATE:20230723
DTSTAMP:20260419T214538
CREATED:20220616T103213Z
LAST-MODIFIED:20240208T110349Z
UID:17328-1689897600-1690070399@teatroclasico.inaem.gob.es
SUMMARY:La vida es sueño - Gijón
DESCRIPTION:
URL:https://teatroclasico.inaem.gob.es/evento/la-vida-es-sueno-gijon/
LOCATION:Lugar sin nombre\, Madrid
CATEGORIES:En gira,Programación,Temporada 2022 / 2023
ATTACH;FMTTYPE=image/jpeg:https://teatroclasico.inaem.gob.es/wp-content/uploads/2023/06/Banner-cuadrado-web-sin-fechas.jpg
END:VEVENT
BEGIN:VEVENT
DTSTART;VALUE=DATE:20230823
DTEND;VALUE=DATE:20230828
DTSTAMP:20260419T214538
CREATED:20230607T104955Z
LAST-MODIFIED:20240208T110415Z
UID:21312-1692748800-1693180799@teatroclasico.inaem.gob.es
SUMMARY:La vida es sueño - Edimburgo
DESCRIPTION:
URL:https://teatroclasico.inaem.gob.es/evento/la-vida-es-sueno-edimburgo/
LOCATION:Teatro de la Comedia\, Madrid\, Madrid\, España
CATEGORIES:En gira,Programación,Temporada 2023 / 2024
ATTACH;FMTTYPE=image/jpeg:https://teatroclasico.inaem.gob.es/wp-content/uploads/2023/06/Banner-cuadrado-web-sin-fechas.jpg
END:VEVENT
BEGIN:VEVENT
DTSTART;VALUE=DATE:20230915
DTEND;VALUE=DATE:20230918
DTSTAMP:20260419T214538
CREATED:20230607T105330Z
LAST-MODIFIED:20240208T110457Z
UID:21356-1694736000-1694995199@teatroclasico.inaem.gob.es
SUMMARY:El viaje del monstruo fiero - Granada
DESCRIPTION:
URL:https://teatroclasico.inaem.gob.es/evento/el-viaje-del-monstruo-fiero-granada/
LOCATION:Teatro de la Comedia\, Madrid\, Madrid\, España
CATEGORIES:En gira,Programación,Temporada 2023 / 2024
ATTACH;FMTTYPE=image/jpeg:https://teatroclasico.inaem.gob.es/wp-content/uploads/2023/06/Banner-web-sin-fecha.jpg
END:VEVENT
BEGIN:VEVENT
DTSTART;VALUE=DATE:20230921
DTEND;VALUE=DATE:20231127
DTSTAMP:20260419T214538
CREATED:20230607T103055Z
LAST-MODIFIED:20231005T124210Z
UID:21177-1695254400-1701043199@teatroclasico.inaem.gob.es
SUMMARY:La discreta enamorada - Madrid
DESCRIPTION:
URL:https://teatroclasico.inaem.gob.es/evento/la-discreta-enamorada-madrid/
LOCATION:Teatro de la Comedia\, Madrid\, Madrid\, España
CATEGORIES:En gira,Programación,Teatro de la Comedia,Temporada 2023 / 2024
ATTACH;FMTTYPE=image/jpeg:https://teatroclasico.inaem.gob.es/wp-content/uploads/2023/06/1080x1080-discreta-11.jpg
ORGANIZER;CN="Compa%C3%B1%C3%ADa Nacional de Teatro Cl%C3%A1sico":MAILTO:teatro.clasico@inaem.mcu.es
END:VEVENT
BEGIN:VEVENT
DTSTART;VALUE=DATE:20230922
DTEND;VALUE=DATE:20230923
DTSTAMP:20260419T214538
CREATED:20230607T104757Z
LAST-MODIFIED:20240208T100101Z
UID:21296-1695340800-1695427199@teatroclasico.inaem.gob.es
SUMMARY:Macho grita - Pamplona
DESCRIPTION:
URL:https://teatroclasico.inaem.gob.es/evento/macho-grita-pamplona/
LOCATION:Teatro de la Comedia\, Madrid\, Madrid\, España
CATEGORIES:En gira,Programación,Temporada 2023 / 2024
ATTACH;FMTTYPE=image/jpeg:https://teatroclasico.inaem.gob.es/wp-content/uploads/2023/06/Banner-cuadrado-web-Macho-Grita-sin-fechas.jpg
ORGANIZER;CN="Compa%C3%B1%C3%ADa Nacional de Teatro Cl%C3%A1sico":MAILTO:teatro.clasico@inaem.mcu.es
END:VEVENT
BEGIN:VEVENT
DTSTART;VALUE=DATE:20231005
DTEND;VALUE=DATE:20231006
DTSTAMP:20260419T214538
CREATED:20230607T104920Z
LAST-MODIFIED:20240208T110615Z
UID:21313-1696464000-1696550399@teatroclasico.inaem.gob.es
SUMMARY:La vida es sueño - Vitoria
DESCRIPTION:
URL:https://teatroclasico.inaem.gob.es/evento/la-vida-es-sueno-vitoria/
LOCATION:Teatro de la Comedia\, Madrid\, Madrid\, España
CATEGORIES:En gira,Programación,Temporada 2023 / 2024
ATTACH;FMTTYPE=image/jpeg:https://teatroclasico.inaem.gob.es/wp-content/uploads/2023/06/Banner-cuadrado-web-sin-fechas.jpg
END:VEVENT
BEGIN:VEVENT
DTSTART;VALUE=DATE:20231006
DTEND;VALUE=DATE:20231007
DTSTAMP:20260419T214538
CREATED:20230607T105009Z
LAST-MODIFIED:20230608T111258Z
UID:21324-1696550400-1696636799@teatroclasico.inaem.gob.es
SUMMARY:Cuatro salvajes vestidos de verde hiedra - Valladolid
DESCRIPTION:
URL:https://teatroclasico.inaem.gob.es/evento/cuatro-salvajes-vestidos-de-verde-hiedra-valladolid/
LOCATION:Teatro de la Comedia\, Madrid\, Madrid\, España
CATEGORIES:En gira,Programación,Temporada 2023 / 2024
ATTACH;FMTTYPE=image/jpeg:https://teatroclasico.inaem.gob.es/wp-content/uploads/2023/06/Banner-4-salvajes-sin-fechas.jpg
END:VEVENT
END:VCALENDAR