BEGIN:VCALENDAR
VERSION:2.0
PRODID:-//Compañía Nacional de Teatro Clásico - ECPv6.15.16//NONSGML v1.0//EN
CALSCALE:GREGORIAN
METHOD:PUBLISH
X-WR-CALNAME:Compañía Nacional de Teatro Clásico
X-ORIGINAL-URL:https://teatroclasico.inaem.gob.es
X-WR-CALDESC:Eventos para Compañía Nacional de Teatro Clásico
REFRESH-INTERVAL;VALUE=DURATION:PT1H
X-Robots-Tag:noindex
X-PUBLISHED-TTL:PT1H
BEGIN:VTIMEZONE
TZID:Europe/Helsinki
BEGIN:DAYLIGHT
TZOFFSETFROM:+0200
TZOFFSETTO:+0300
TZNAME:EEST
DTSTART:20170326T010000
END:DAYLIGHT
BEGIN:STANDARD
TZOFFSETFROM:+0300
TZOFFSETTO:+0200
TZNAME:EET
DTSTART:20171029T010000
END:STANDARD
BEGIN:DAYLIGHT
TZOFFSETFROM:+0200
TZOFFSETTO:+0300
TZNAME:EEST
DTSTART:20180325T010000
END:DAYLIGHT
BEGIN:STANDARD
TZOFFSETFROM:+0300
TZOFFSETTO:+0200
TZNAME:EET
DTSTART:20181028T010000
END:STANDARD
BEGIN:DAYLIGHT
TZOFFSETFROM:+0200
TZOFFSETTO:+0300
TZNAME:EEST
DTSTART:20190331T010000
END:DAYLIGHT
BEGIN:STANDARD
TZOFFSETFROM:+0300
TZOFFSETTO:+0200
TZNAME:EET
DTSTART:20191027T010000
END:STANDARD
BEGIN:DAYLIGHT
TZOFFSETFROM:+0200
TZOFFSETTO:+0300
TZNAME:EEST
DTSTART:20200329T010000
END:DAYLIGHT
BEGIN:STANDARD
TZOFFSETFROM:+0300
TZOFFSETTO:+0200
TZNAME:EET
DTSTART:20201025T010000
END:STANDARD
END:VTIMEZONE
BEGIN:VEVENT
DTSTART;VALUE=DATE:20190501
DTEND;VALUE=DATE:20190503
DTSTAMP:20260424T185435
CREATED:20190213T084206Z
LAST-MODIFIED:20190313T114958Z
UID:10526-1556668800-1556841599@teatroclasico.inaem.gob.es
SUMMARY:El castigo sin venganza - Córdoba
DESCRIPTION:
URL:https://teatroclasico.inaem.gob.es/evento/el-castigo-sin-venganza-cordoba/
LOCATION:Gran Teatro\, Av. del Gran Capitán\, 3\,  Córdoba\,  Córdoba\, 14008\, España
CATEGORIES:Programación,Temporada 2018 / 2019
ATTACH;FMTTYPE=image/jpeg:https://teatroclasico.inaem.gob.es/wp-content/uploads/2018/06/Castigo.jpg
ORGANIZER;CN="Compa%C3%B1%C3%ADa Nacional de Teatro Cl%C3%A1sico":MAILTO:teatro.clasico@inaem.mcu.es
END:VEVENT
BEGIN:VEVENT
DTSTART;VALUE=DATE:20190416
DTEND;VALUE=DATE:20190420
DTSTAMP:20260424T185435
CREATED:20180628T100857Z
LAST-MODIFIED:20180627T065648Z
UID:9406-1555372800-1555718399@teatroclasico.inaem.gob.es
SUMMARY:La estrella de Sevilla - Madrid
DESCRIPTION:
URL:https://teatroclasico.inaem.gob.es/evento/la-estrella-de-sevilla-madrid/
LOCATION:Teatro de la Comedia\, Madrid\, Madrid\, España
CATEGORIES:Programación,Teatro de la Comedia,Temporada 2018 / 2019
ATTACH;FMTTYPE=image/jpeg:https://teatroclasico.inaem.gob.es/wp-content/uploads/2018/06/La_estrella_de_sevilla.jpg
ORGANIZER;CN="Compa%C3%B1%C3%ADa Nacional de Teatro Cl%C3%A1sico":MAILTO:teatro.clasico@inaem.mcu.es
END:VEVENT
BEGIN:VEVENT
DTSTART;VALUE=DATE:20190411
DTEND;VALUE=DATE:20190415
DTSTAMP:20260424T185435
CREATED:20180628T100944Z
LAST-MODIFIED:20180627T065653Z
UID:9399-1554940800-1555286399@teatroclasico.inaem.gob.es
SUMMARY:Traidor - Madrid
DESCRIPTION:
URL:https://teatroclasico.inaem.gob.es/evento/traidor-madrid/
LOCATION:Teatro de la Comedia\, Madrid\, Madrid\, España
CATEGORIES:Programación,Teatro de la Comedia,Temporada 2018 / 2019
ATTACH;FMTTYPE=image/jpeg:https://teatroclasico.inaem.gob.es/wp-content/uploads/2018/06/Traidor.jpg
ORGANIZER;CN="Compa%C3%B1%C3%ADa Nacional de Teatro Cl%C3%A1sico":MAILTO:teatro.clasico@inaem.mcu.es
END:VEVENT
BEGIN:VEVENT
DTSTART;VALUE=DATE:20190411
DTEND;VALUE=DATE:20190412
DTSTAMP:20260424T185436
CREATED:20180628T110040Z
LAST-MODIFIED:20191016T104807Z
UID:9849-1554940800-1555027199@teatroclasico.inaem.gob.es
SUMMARY:Todo es guerra - Madrid
DESCRIPTION:
URL:https://teatroclasico.inaem.gob.es/evento/todo-es-guerra-madrid/
LOCATION:Museo del Prado\, aseo del Prado\, s/n\, \, Madrid\, Madrid\, 28014\, España
CATEGORIES:Programación,Teatro de la Comedia,Temporada 2018 / 2019
ATTACH;FMTTYPE=image/jpeg:https://teatroclasico.inaem.gob.es/wp-content/uploads/2018/06/Todo-es-guerra-OK.jpg
ORGANIZER;CN="Compa%C3%B1%C3%ADa Nacional de Teatro Cl%C3%A1sico":MAILTO:teatro.clasico@inaem.mcu.es
END:VEVENT
BEGIN:VEVENT
DTSTART;VALUE=DATE:20190410
DTEND;VALUE=DATE:20190414
DTSTAMP:20260424T185436
CREATED:20180628T101054Z
LAST-MODIFIED:20180627T065701Z
UID:9397-1554854400-1555199999@teatroclasico.inaem.gob.es
SUMMARY:El lindo Don Diego - Madrid
DESCRIPTION:
URL:https://teatroclasico.inaem.gob.es/evento/el-lindo-don-diego-madrid/
LOCATION:Teatro de la Comedia\, Madrid\, Madrid\, España
CATEGORIES:Programación,Teatro de la Comedia,Temporada 2018 / 2019
ATTACH;FMTTYPE=image/jpeg:https://teatroclasico.inaem.gob.es/wp-content/uploads/2018/06/Lindo_don_diego.jpg
ORGANIZER;CN="Compa%C3%B1%C3%ADa Nacional de Teatro Cl%C3%A1sico":MAILTO:teatro.clasico@inaem.mcu.es
END:VEVENT
BEGIN:VEVENT
DTSTART;VALUE=DATE:20190405
DTEND;VALUE=DATE:20190407
DTSTAMP:20260424T185436
CREATED:20190213T083126Z
LAST-MODIFIED:20190213T083126Z
UID:10525-1554422400-1554595199@teatroclasico.inaem.gob.es
SUMMARY:El castigo sin venganza - A Coruña
DESCRIPTION:
URL:https://teatroclasico.inaem.gob.es/evento/el-castigo-sin-venganza-a-coruna/
LOCATION:Teatro Rosalía de Castro\, Calle del Riego de Agua\, 37\, La Coruña\, La Coruña\, 15003\, España
CATEGORIES:Programación,Temporada 2018 / 2019
ATTACH;FMTTYPE=image/jpeg:https://teatroclasico.inaem.gob.es/wp-content/uploads/2018/06/Castigo.jpg
ORGANIZER;CN="Compa%C3%B1%C3%ADa Nacional de Teatro Cl%C3%A1sico":MAILTO:teatro.clasico@inaem.mcu.es
END:VEVENT
BEGIN:VEVENT
DTSTART;VALUE=DATE:20190404
DTEND;VALUE=DATE:20190408
DTSTAMP:20260424T185436
CREATED:20180628T101143Z
LAST-MODIFIED:20180627T065706Z
UID:9395-1554336000-1554681599@teatroclasico.inaem.gob.es
SUMMARY:Desengaños amorosos - Madrid
DESCRIPTION:
URL:https://teatroclasico.inaem.gob.es/evento/desenganos-amorosos-madrid/
LOCATION:Teatro de la Comedia\, Madrid\, Madrid\, España
CATEGORIES:Programación,Teatro de la Comedia,Temporada 2018 / 2019
ATTACH;FMTTYPE=image/jpeg:https://teatroclasico.inaem.gob.es/wp-content/uploads/2018/06/Desenganos.jpg
ORGANIZER;CN="Compa%C3%B1%C3%ADa Nacional de Teatro Cl%C3%A1sico":MAILTO:teatro.clasico@inaem.mcu.es
END:VEVENT
BEGIN:VEVENT
DTSTART;VALUE=DATE:20190329
DTEND;VALUE=DATE:20190331
DTSTAMP:20260424T185436
CREATED:20190212T191726Z
LAST-MODIFIED:20190212T191726Z
UID:10523-1553817600-1553990399@teatroclasico.inaem.gob.es
SUMMARY:El castigo sin venganza - Logroño
DESCRIPTION:
URL:https://teatroclasico.inaem.gob.es/evento/el-castigo-sin-venganza-logrono/
LOCATION:Teatro Bretón de los Herreros\, Calle Bretón de lso Herreros\, 11\, Logroño\, La Rioja\, 26001\, España
CATEGORIES:Programación,Temporada 2018 / 2019
ATTACH;FMTTYPE=image/jpeg:https://teatroclasico.inaem.gob.es/wp-content/uploads/2018/06/Castigo.jpg
ORGANIZER;CN="Compa%C3%B1%C3%ADa Nacional de Teatro Cl%C3%A1sico":MAILTO:teatro.clasico@inaem.mcu.es
END:VEVENT
BEGIN:VEVENT
DTSTART;VALUE=DATE:20190322
DTEND;VALUE=DATE:20190325
DTSTAMP:20260424T185436
CREATED:20190212T191302Z
LAST-MODIFIED:20190212T191302Z
UID:10521-1553212800-1553471999@teatroclasico.inaem.gob.es
SUMMARY:El castigo sin venganza - Zaragoza
DESCRIPTION:
URL:https://teatroclasico.inaem.gob.es/evento/el-castigo-sin-venganza-zaragoza/
LOCATION:Teatro Principal de Zaragoza\, Plaza de José Sinués y Urbiola\, 2\, Zaragoza\, 50001\, España
CATEGORIES:Programación,Temporada 2018 / 2019
ATTACH;FMTTYPE=image/jpeg:https://teatroclasico.inaem.gob.es/wp-content/uploads/2018/06/Castigo.jpg
ORGANIZER;CN="Compa%C3%B1%C3%ADa Nacional de Teatro Cl%C3%A1sico":MAILTO:teatro.clasico@inaem.mcu.es
END:VEVENT
BEGIN:VEVENT
DTSTART;VALUE=DATE:20190320
DTEND;VALUE=DATE:20190401
DTSTAMP:20260424T185436
CREATED:20180628T101209Z
LAST-MODIFIED:20180627T065711Z
UID:9393-1553040000-1554076799@teatroclasico.inaem.gob.es
SUMMARY:Tirant - Madrid
DESCRIPTION:
URL:https://teatroclasico.inaem.gob.es/evento/tirant-madrid/
LOCATION:Teatro de la Comedia\, Madrid\, Madrid\, España
CATEGORIES:Programación,Teatro de la Comedia,Temporada 2018 / 2019
ATTACH;FMTTYPE=image/jpeg:https://teatroclasico.inaem.gob.es/wp-content/uploads/2018/06/Tirant.jpg
ORGANIZER;CN="Compa%C3%B1%C3%ADa Nacional de Teatro Cl%C3%A1sico":MAILTO:teatro.clasico@inaem.mcu.es
END:VEVENT
BEGIN:VEVENT
DTSTART;VALUE=DATE:20190312
DTEND;VALUE=DATE:20190408
DTSTAMP:20260424T185436
CREATED:20180628T101305Z
LAST-MODIFIED:20180627T065717Z
UID:9391-1552348800-1554681599@teatroclasico.inaem.gob.es
SUMMARY:El desdén con el desdén - Madrid
DESCRIPTION:
URL:https://teatroclasico.inaem.gob.es/evento/el-desden-con-el-desden-madrid/
LOCATION:Teatro de la Comedia\, Madrid\, Madrid\, España
CATEGORIES:Programación,Teatro de la Comedia,Temporada 2018 / 2019
ATTACH;FMTTYPE=image/jpeg:https://teatroclasico.inaem.gob.es/wp-content/uploads/2018/06/El_desden.jpg
ORGANIZER;CN="Compa%C3%B1%C3%ADa Nacional de Teatro Cl%C3%A1sico":MAILTO:teatro.clasico@inaem.mcu.es
END:VEVENT
BEGIN:VEVENT
DTSTART;VALUE=DATE:20190307
DTEND;VALUE=DATE:20190311
DTSTAMP:20260424T185436
CREATED:20190212T185655Z
LAST-MODIFIED:20190212T185655Z
UID:10519-1551916800-1552262399@teatroclasico.inaem.gob.es
SUMMARY:El castigo sin venganza - Valladolid
DESCRIPTION:
URL:https://teatroclasico.inaem.gob.es/evento/el-castigo-sin-venganza-valladolid/
LOCATION:Teatro Calderón\, Calle de las Angustias\, 1\, Valladolid\, 47003\, España
CATEGORIES:Programación,Temporada 2018 / 2019
ATTACH;FMTTYPE=image/jpeg:https://teatroclasico.inaem.gob.es/wp-content/uploads/2018/06/Castigo.jpg
ORGANIZER;CN="Compa%C3%B1%C3%ADa Nacional de Teatro Cl%C3%A1sico":MAILTO:teatro.clasico@inaem.mcu.es
END:VEVENT
BEGIN:VEVENT
DTSTART;VALUE=DATE:20190222
DTEND;VALUE=DATE:20190224
DTSTAMP:20260424T185436
CREATED:20190212T184504Z
LAST-MODIFIED:20190212T185412Z
UID:10516-1550793600-1550966399@teatroclasico.inaem.gob.es
SUMMARY:El castigo sin venganza - Las Palmas
DESCRIPTION:
URL:https://teatroclasico.inaem.gob.es/evento/el-castigo-sin-venganza-las-palmas/
LOCATION:Teatro Cuyás\, Calle Viera y Clavijo\, s/n\, Las Palmas\, Las Palmas\, 35002\, España
CATEGORIES:Programación,Temporada 2018 / 2019
ATTACH;FMTTYPE=image/jpeg:https://teatroclasico.inaem.gob.es/wp-content/uploads/2018/06/Castigo.jpg
ORGANIZER;CN="Compa%C3%B1%C3%ADa Nacional de Teatro Cl%C3%A1sico":MAILTO:teatro.clasico@inaem.mcu.es
END:VEVENT
BEGIN:VEVENT
DTSTART;VALUE=DATE:20190213
DTEND;VALUE=DATE:20190304
DTSTAMP:20260424T185436
CREATED:20180628T121413Z
LAST-MODIFIED:20180627T065722Z
UID:9390-1550016000-1551657599@teatroclasico.inaem.gob.es
SUMMARY:Entre bobos anda el juego - Madrid
DESCRIPTION:
URL:https://teatroclasico.inaem.gob.es/evento/entre-bobos-anda-el-juego-madrid/
LOCATION:Teatro de la Comedia\, Madrid\, Madrid\, España
CATEGORIES:Programación,Teatro de la Comedia,Temporada 2018 / 2019
ATTACH;FMTTYPE=image/jpeg:https://teatroclasico.inaem.gob.es/wp-content/uploads/2018/06/Entre_bobos.jpg
ORGANIZER;CN="Compa%C3%B1%C3%ADa Nacional de Teatro Cl%C3%A1sico":MAILTO:teatro.clasico@inaem.mcu.es
END:VEVENT
BEGIN:VEVENT
DTSTART;VALUE=DATE:20181218
DTEND;VALUE=DATE:20190204
DTSTAMP:20260424T185436
CREATED:20180628T101540Z
LAST-MODIFIED:20180627T065727Z
UID:9389-1545091200-1549238399@teatroclasico.inaem.gob.es
SUMMARY:La dama boba - Madrid
DESCRIPTION:
URL:https://teatroclasico.inaem.gob.es/evento/la-dama-boba-madrid-2/
LOCATION:Teatro de la Comedia\, Madrid\, Madrid\, España
CATEGORIES:Programación,Teatro de la Comedia,Temporada 2018 / 2019
ATTACH;FMTTYPE=image/jpeg:https://teatroclasico.inaem.gob.es/wp-content/uploads/2018/06/Dama_boba.jpg
ORGANIZER;CN="Compa%C3%B1%C3%ADa Nacional de Teatro Cl%C3%A1sico":MAILTO:teatro.clasico@inaem.mcu.es
END:VEVENT
BEGIN:VEVENT
DTSTART;VALUE=DATE:20181203
DTEND;VALUE=DATE:20181204
DTSTAMP:20260424T185436
CREATED:20180628T101655Z
LAST-MODIFIED:20180627T065732Z
UID:9388-1543795200-1543881599@teatroclasico.inaem.gob.es
SUMMARY:Ecos del Prado - Madrid
DESCRIPTION:
URL:https://teatroclasico.inaem.gob.es/evento/ecos-del-prado-madrid/
LOCATION:Teatro de la Comedia\, Madrid\, Madrid\, España
CATEGORIES:Programación,Teatro de la Comedia,Temporada 2018 / 2019
ATTACH;FMTTYPE=image/jpeg:https://teatroclasico.inaem.gob.es/wp-content/uploads/2018/06/Ecos_del_prado.jpg
ORGANIZER;CN="Compa%C3%B1%C3%ADa Nacional de Teatro Cl%C3%A1sico":MAILTO:teatro.clasico@inaem.mcu.es
END:VEVENT
BEGIN:VEVENT
DTSTART;VALUE=DATE:20181121
DTEND;VALUE=DATE:20190210
DTSTAMP:20260424T185436
CREATED:20180628T101714Z
LAST-MODIFIED:20181126T102618Z
UID:9387-1542758400-1549756799@teatroclasico.inaem.gob.es
SUMMARY:El castigo sin venganza - Madrid
DESCRIPTION:
URL:https://teatroclasico.inaem.gob.es/evento/el-castigo-sin-venganza-madrid/
LOCATION:Teatro de la Comedia\, Madrid\, Madrid\, España
CATEGORIES:Programación,Teatro de la Comedia,Temporada 2018 / 2019
ATTACH;FMTTYPE=image/jpeg:https://teatroclasico.inaem.gob.es/wp-content/uploads/2018/06/Castigo.jpg
ORGANIZER;CN="Compa%C3%B1%C3%ADa Nacional de Teatro Cl%C3%A1sico":MAILTO:teatro.clasico@inaem.mcu.es
END:VEVENT
BEGIN:VEVENT
DTSTART;VALUE=DATE:20181102
DTEND;VALUE=DATE:20181210
DTSTAMP:20260424T185436
CREATED:20180628T101844Z
LAST-MODIFIED:20180627T065743Z
UID:9386-1541116800-1544399999@teatroclasico.inaem.gob.es
SUMMARY:Los empeños de una casa - Madrid
DESCRIPTION:
URL:https://teatroclasico.inaem.gob.es/evento/los-empenos-de-una-casa-madrid-2/
LOCATION:Teatro de la Comedia\, Madrid\, Madrid\, España
CATEGORIES:Programación,Teatro de la Comedia,Temporada 2018 / 2019
ATTACH;FMTTYPE=image/jpeg:https://teatroclasico.inaem.gob.es/wp-content/uploads/2018/06/Empenos_casa.jpg
ORGANIZER;CN="Compa%C3%B1%C3%ADa Nacional de Teatro Cl%C3%A1sico":MAILTO:teatro.clasico@inaem.mcu.es
END:VEVENT
BEGIN:VEVENT
DTSTART;VALUE=DATE:20180921
DTEND;VALUE=DATE:20181022
DTSTAMP:20260424T185436
CREATED:20180628T101925Z
LAST-MODIFIED:20180627T065748Z
UID:9384-1537488000-1540166399@teatroclasico.inaem.gob.es
SUMMARY:Auto de los inocentes - Madrid
DESCRIPTION:
URL:https://teatroclasico.inaem.gob.es/evento/auto-de-los-inocentes-madrid-de-san-juan/
LOCATION:Teatro de la Comedia\, Madrid\, Madrid\, España
CATEGORIES:Programación,Teatro de la Comedia,Temporada 2018 / 2019
ATTACH;FMTTYPE=image/jpeg:https://teatroclasico.inaem.gob.es/wp-content/uploads/2018/06/Auto_Inocentes.jpg
ORGANIZER;CN="Compa%C3%B1%C3%ADa Nacional de Teatro Cl%C3%A1sico":MAILTO:teatro.clasico@inaem.mcu.es
END:VEVENT
BEGIN:VEVENT
DTSTART;VALUE=DATE:20180720
DTEND;VALUE=DATE:20180730
DTSTAMP:20260424T185436
CREATED:20180518T094546Z
LAST-MODIFIED:20180626T214559Z
UID:9154-1532044800-1532908799@teatroclasico.inaem.gob.es
SUMMARY:La dama duende - Hospital de San Juan
DESCRIPTION:
URL:https://teatroclasico.inaem.gob.es/evento/la-dama-duende-hospital-de-san-juan-2/
LOCATION:Hospital de San Juan\, C/ San Agustín\, s/n\, Almagro (Festival de Teatro Clásico)\, Ciudad Real\, 13270\, España
CATEGORIES:Programación,Teatro de la Comedia,Temporada 2017 / 2018
ATTACH;FMTTYPE=image/jpeg:https://teatroclasico.inaem.gob.es/wp-content/uploads/2017/09/la-dama-duende.jpg
ORGANIZER;CN="Compa%C3%B1%C3%ADa Nacional de Teatro Cl%C3%A1sico":MAILTO:teatro.clasico@inaem.mcu.es
END:VEVENT
BEGIN:VEVENT
DTSTART;VALUE=DATE:20180718
DTEND;VALUE=DATE:20180722
DTSTAMP:20260424T185436
CREATED:20180518T102922Z
LAST-MODIFIED:20180626T214559Z
UID:9166-1531872000-1532217599@teatroclasico.inaem.gob.es
SUMMARY:La dama boba - Patio de Fúcares
DESCRIPTION:
URL:https://teatroclasico.inaem.gob.es/evento/la-dama-boba-patio-de-fucares/
LOCATION:Patio de Fúcares\, Almagro
CATEGORIES:Programación,Teatro de la Comedia,Temporada 2017 / 2018
ATTACH;FMTTYPE=image/jpeg:https://teatroclasico.inaem.gob.es/wp-content/uploads/2017/09/la-dama-boba.jpg
ORGANIZER;CN="Compa%C3%B1%C3%ADa Nacional de Teatro Cl%C3%A1sico":MAILTO:teatro.clasico@inaem.mcu.es
END:VEVENT
BEGIN:VEVENT
DTSTART;VALUE=DATE:20180712
DTEND;VALUE=DATE:20180715
DTSTAMP:20260424T185436
CREATED:20180518T102429Z
LAST-MODIFIED:20180626T214559Z
UID:9162-1531353600-1531612799@teatroclasico.inaem.gob.es
SUMMARY:Los empeños de una casa - Patio de Fúcares
DESCRIPTION:
URL:https://teatroclasico.inaem.gob.es/evento/los-empenos-de-una-casa-patio-de-fucares/
LOCATION:Patio de Fúcares\, Almagro
CATEGORIES:Programación,Teatro de la Comedia,Temporada 2017 / 2018
ATTACH;FMTTYPE=image/jpeg:https://teatroclasico.inaem.gob.es/wp-content/uploads/2017/09/Los-empenos-de-una-casa.jpg
ORGANIZER;CN="Compa%C3%B1%C3%ADa Nacional de Teatro Cl%C3%A1sico":MAILTO:teatro.clasico@inaem.mcu.es
END:VEVENT
BEGIN:VEVENT
DTSTART;VALUE=DATE:20180706
DTEND;VALUE=DATE:20180708
DTSTAMP:20260424T185436
CREATED:20180518T095651Z
LAST-MODIFIED:20180626T214559Z
UID:9157-1530835200-1531007999@teatroclasico.inaem.gob.es
SUMMARY:El banquete - Patio de Fúcares
DESCRIPTION:
URL:https://teatroclasico.inaem.gob.es/evento/el-banquete-patio-de-fucares/
LOCATION:Patio de Fúcares\, Almagro (Festival de Teatro Clásico)\, Ciudad Real
CATEGORIES:Programación,Teatro de la Comedia,Temporada 2017 / 2018
ATTACH;FMTTYPE=image/jpeg:https://teatroclasico.inaem.gob.es/wp-content/uploads/2017/09/el-banquete.jpg
ORGANIZER;CN="Compa%C3%B1%C3%ADa Nacional de Teatro Cl%C3%A1sico":MAILTO:teatro.clasico@inaem.mcu.es
END:VEVENT
BEGIN:VEVENT
DTSTART;VALUE=DATE:20180705
DTEND;VALUE=DATE:20180716
DTSTAMP:20260424T185436
CREATED:20180518T093934Z
LAST-MODIFIED:20180626T214559Z
UID:9149-1530748800-1531699199@teatroclasico.inaem.gob.es
SUMMARY:El burlador de Sevilla - Hospital de San Juan
DESCRIPTION:
URL:https://teatroclasico.inaem.gob.es/evento/el-burlador-de-sevilla-hospital-de-san-juan/
LOCATION:Hospital de San Juan\, C/ San Agustín\, s/n\, Almagro (Festival de Teatro Clásico)\, Ciudad Real\, 13270\, España
CATEGORIES:Programación,Teatro de la Comedia,Temporada 2017 / 2018
ATTACH;FMTTYPE=image/jpeg:https://teatroclasico.inaem.gob.es/wp-content/uploads/2017/09/el-burlador-de-sevilla.jpg
ORGANIZER;CN="Compa%C3%B1%C3%ADa Nacional de Teatro Cl%C3%A1sico":MAILTO:teatro.clasico@inaem.mcu.es
END:VEVENT
BEGIN:VEVENT
DTSTART;VALUE=DATE:20180621
DTEND;VALUE=DATE:20180625
DTSTAMP:20260424T185436
CREATED:20170906T113028Z
LAST-MODIFIED:20180626T214559Z
UID:7508-1529539200-1529884799@teatroclasico.inaem.gob.es
SUMMARY:Arlecchino\, servitore di due padroni - Madrid
DESCRIPTION:
URL:https://teatroclasico.inaem.gob.es/evento/arlecchino-servitore-di-due-padroni-madrid/
LOCATION:Teatro de la Comedia\, Madrid\, Madrid\, España
CATEGORIES:Programación,Teatro de la Comedia,Temporada 2017 / 2018
ATTACH;FMTTYPE=image/jpeg:https://teatroclasico.inaem.gob.es/wp-content/uploads/2017/09/arlecchino.jpg
ORGANIZER;CN="Piccolo Teatro di Milano":MAILTO:info@piccoloteatro.org
END:VEVENT
BEGIN:VEVENT
DTSTART;VALUE=DATE:20180607
DTEND;VALUE=DATE:20180618
DTSTAMP:20260424T185436
CREATED:20170906T113045Z
LAST-MODIFIED:20180626T214559Z
UID:7507-1528329600-1529279999@teatroclasico.inaem.gob.es
SUMMARY:La cueva de Salamanca - Madrid
DESCRIPTION:
URL:https://teatroclasico.inaem.gob.es/evento/la-cueva-de-salamanca-madrid/
LOCATION:Teatro de la Comedia\, Madrid\, Madrid\, España
CATEGORIES:Programación,Teatro de la Comedia,Temporada 2017 / 2018
ATTACH;FMTTYPE=image/jpeg:https://teatroclasico.inaem.gob.es/wp-content/uploads/2017/09/la-cueva-de-salamanca.jpg
ORGANIZER;CN="Compa%C3%B1%C3%ADa Nacional de Teatro Cl%C3%A1sico":MAILTO:teatro.clasico@inaem.mcu.es
END:VEVENT
BEGIN:VEVENT
DTSTART;VALUE=DATE:20180521
DTEND;VALUE=DATE:20180522
DTSTAMP:20260424T185436
CREATED:20170906T113032Z
LAST-MODIFIED:20180626T214559Z
UID:7608-1526860800-1526947199@teatroclasico.inaem.gob.es
SUMMARY:Cuando hay falta de hechiceros lo quieren ser los gallegos\, y asombro de Salamanca - Madrid
DESCRIPTION:
URL:https://teatroclasico.inaem.gob.es/evento/cuando-hay-falta-de-hechiceros-lo-quieren-ser-los-gallegos-y-asombro-de-salamanca-madrid/
LOCATION:Teatro de la Comedia\, Madrid\, Madrid\, España
CATEGORIES:Programación,Teatro de la Comedia,Temporada 2017 / 2018
ATTACH;FMTTYPE=image/jpeg:https://teatroclasico.inaem.gob.es/wp-content/uploads/2017/09/hechiceros.jpg
ORGANIZER;CN="Compa%C3%B1%C3%ADa Nacional de Teatro Cl%C3%A1sico":MAILTO:teatro.clasico@inaem.mcu.es
END:VEVENT
BEGIN:VEVENT
DTSTART;VALUE=DATE:20180510
DTEND;VALUE=DATE:20180514
DTSTAMP:20260424T185436
CREATED:20170806T113005Z
LAST-MODIFIED:20180626T214559Z
UID:7488-1525910400-1526255999@teatroclasico.inaem.gob.es
SUMMARY:La dama duende - Sevilla
DESCRIPTION:
URL:https://teatroclasico.inaem.gob.es/evento/la-dama-duende-sevilla/
LOCATION:Teatro Lope de Vega\, Av. de María Luisa\, s/n\, Sevilla\, 41013
CATEGORIES:En gira,Programación,Temporada 2017 / 2018
ATTACH;FMTTYPE=image/jpeg:https://teatroclasico.inaem.gob.es/wp-content/uploads/2017/09/la-dama-duende.jpg
ORGANIZER;CN="Compa%C3%B1%C3%ADa Nacional de Teatro Cl%C3%A1sico":MAILTO:teatro.clasico@inaem.mcu.es
END:VEVENT
BEGIN:VEVENT
DTSTART;VALUE=DATE:20180504
DTEND;VALUE=DATE:20180506
DTSTAMP:20260424T185436
CREATED:20170906T113011Z
LAST-MODIFIED:20180626T214559Z
UID:7486-1525392000-1525564799@teatroclasico.inaem.gob.es
SUMMARY:La dama duende - Córdoba
DESCRIPTION:
URL:https://teatroclasico.inaem.gob.es/evento/la-dama-duende-cordoba/
LOCATION:Gran Teatro\, Av. del Gran Capitán\, 3\,  Córdoba\,  Córdoba\, 14008\, España
ATTACH;FMTTYPE=image/jpeg:https://teatroclasico.inaem.gob.es/wp-content/uploads/2017/09/la-dama-duende.jpg
ORGANIZER;CN="Compa%C3%B1%C3%ADa Nacional de Teatro Cl%C3%A1sico":MAILTO:teatro.clasico@inaem.mcu.es
END:VEVENT
BEGIN:VEVENT
DTSTART;VALUE=DATE:20180503
DTEND;VALUE=DATE:20180604
DTSTAMP:20260424T185436
CREATED:20170906T113046Z
LAST-MODIFIED:20180626T214559Z
UID:7506-1525305600-1528070399@teatroclasico.inaem.gob.es
SUMMARY:El banquete - Madrid
DESCRIPTION:
URL:https://teatroclasico.inaem.gob.es/evento/el-banquete-madrid/
LOCATION:Teatro de la Comedia\, Madrid\, Madrid\, España
CATEGORIES:Programación,Teatro de la Comedia,Temporada 2017 / 2018
ATTACH;FMTTYPE=image/jpeg:https://teatroclasico.inaem.gob.es/wp-content/uploads/2017/09/el-banquete.jpg
ORGANIZER;CN="Compa%C3%B1%C3%ADa Nacional de Teatro Cl%C3%A1sico":MAILTO:teatro.clasico@inaem.mcu.es
END:VEVENT
END:VCALENDAR