BEGIN:VCALENDAR
VERSION:2.0
PRODID:-//Compañía Nacional de Teatro Clásico - ECPv6.15.16//NONSGML v1.0//EN
CALSCALE:GREGORIAN
METHOD:PUBLISH
X-WR-CALNAME:Compañía Nacional de Teatro Clásico
X-ORIGINAL-URL:https://teatroclasico.inaem.gob.es
X-WR-CALDESC:Eventos para Compañía Nacional de Teatro Clásico
REFRESH-INTERVAL;VALUE=DURATION:PT1H
X-Robots-Tag:noindex
X-PUBLISHED-TTL:PT1H
BEGIN:VTIMEZONE
TZID:Europe/Helsinki
BEGIN:DAYLIGHT
TZOFFSETFROM:+0200
TZOFFSETTO:+0300
TZNAME:EEST
DTSTART:20150329T010000
END:DAYLIGHT
BEGIN:STANDARD
TZOFFSETFROM:+0300
TZOFFSETTO:+0200
TZNAME:EET
DTSTART:20151025T010000
END:STANDARD
BEGIN:DAYLIGHT
TZOFFSETFROM:+0200
TZOFFSETTO:+0300
TZNAME:EEST
DTSTART:20160327T010000
END:DAYLIGHT
BEGIN:STANDARD
TZOFFSETFROM:+0300
TZOFFSETTO:+0200
TZNAME:EET
DTSTART:20161030T010000
END:STANDARD
BEGIN:DAYLIGHT
TZOFFSETFROM:+0200
TZOFFSETTO:+0300
TZNAME:EEST
DTSTART:20170326T010000
END:DAYLIGHT
BEGIN:STANDARD
TZOFFSETFROM:+0300
TZOFFSETTO:+0200
TZNAME:EET
DTSTART:20171029T010000
END:STANDARD
END:VTIMEZONE
BEGIN:VEVENT
DTSTART;VALUE=DATE:20160406
DTEND;VALUE=DATE:20160509
DTSTAMP:20260426T073527
CREATED:20150909T103008Z
LAST-MODIFIED:20180626T214602Z
UID:3881-1459900800-1462751999@teatroclasico.inaem.gob.es
SUMMARY:Celestina - Madrid
DESCRIPTION:
URL:https://teatroclasico.inaem.gob.es/evento/celestina-madrid-2016/
LOCATION:Teatro de la Comedia\, Madrid\, Madrid\, España
CATEGORIES:Programación,Teatro de la Comedia,Temporada 2015/2016
ATTACH;FMTTYPE=image/jpeg:https://teatroclasico.inaem.gob.es/wp-content/uploads/2015/08/Celestina.jpg
ORGANIZER;CN="Compa%C3%B1%C3%ADa Nacional de Teatro Cl%C3%A1sico":MAILTO:teatro.clasico@inaem.mcu.es
END:VEVENT
BEGIN:VEVENT
DTSTART;VALUE=DATE:20160520
DTEND;VALUE=DATE:20160613
DTSTAMP:20260426T073527
CREATED:20150909T103034Z
LAST-MODIFIED:20180626T214602Z
UID:3886-1463702400-1465775999@teatroclasico.inaem.gob.es
SUMMARY:La villana de Getafe - Madrid
DESCRIPTION:
URL:https://teatroclasico.inaem.gob.es/evento/castelvines-y-monteses-madrid-2016/
LOCATION:Teatro de la Comedia\, Madrid\, Madrid\, España
CATEGORIES:Programación,Teatro de la Comedia,Temporada 2015/2016
ATTACH;FMTTYPE=image/jpeg:https://teatroclasico.inaem.gob.es/wp-content/uploads/2015/09/la-villana-de-getafe-min.jpg
ORGANIZER;CN="Compa%C3%B1%C3%ADa Nacional de Teatro Cl%C3%A1sico":MAILTO:teatro.clasico@inaem.mcu.es
END:VEVENT
BEGIN:VEVENT
DTSTART;VALUE=DATE:20160525
DTEND;VALUE=DATE:20160529
DTSTAMP:20260426T073527
CREATED:20150909T103030Z
LAST-MODIFIED:20180626T214602Z
UID:3904-1464134400-1464479999@teatroclasico.inaem.gob.es
SUMMARY:El alcalde de Zalamea - Bogotá
DESCRIPTION:
URL:https://teatroclasico.inaem.gob.es/evento/el-alcalde-de-zalamea-bogota-2016/
LOCATION:Teatro Mayor Julio Mario Santo Domingo\, Bogotá
CATEGORIES:En gira,Programación,Temporada 2015/2016
ATTACH;FMTTYPE=image/jpeg:https://teatroclasico.inaem.gob.es/wp-content/uploads/2015/09/alcalde.jpg
ORGANIZER;CN="Compa%C3%B1%C3%ADa Nacional de Teatro Cl%C3%A1sico":MAILTO:teatro.clasico@inaem.mcu.es
END:VEVENT
BEGIN:VEVENT
DTSTART;VALUE=DATE:20160530
DTEND;VALUE=DATE:20160531
DTSTAMP:20260426T073527
CREATED:20150909T103044Z
LAST-MODIFIED:20180626T214602Z
UID:4370-1464566400-1464652799@teatroclasico.inaem.gob.es
SUMMARY:Hacer que hacemos - Madrid
DESCRIPTION:
URL:https://teatroclasico.inaem.gob.es/evento/hacer-que-hacemos-madrid-2016/
LOCATION:Teatro de la Comedia\, Madrid\, Madrid\, España
CATEGORIES:Programación,Teatro de la Comedia,Temporada 2015/2016
ATTACH;FMTTYPE=image/png:https://teatroclasico.inaem.gob.es/wp-content/uploads/2015/09/cntc.png
ORGANIZER;CN="Compa%C3%B1%C3%ADa Nacional de Teatro Cl%C3%A1sico":MAILTO:teatro.clasico@inaem.mcu.es
END:VEVENT
END:VCALENDAR