BEGIN:VCALENDAR
VERSION:2.0
PRODID:-//Compañía Nacional de Teatro Clásico - ECPv6.15.16//NONSGML v1.0//EN
CALSCALE:GREGORIAN
METHOD:PUBLISH
X-ORIGINAL-URL:https://teatroclasico.inaem.gob.es
X-WR-CALDESC:Eventos para Compañía Nacional de Teatro Clásico
REFRESH-INTERVAL;VALUE=DURATION:PT1H
X-Robots-Tag:noindex
X-PUBLISHED-TTL:PT1H
BEGIN:VTIMEZONE
TZID:Europe/Helsinki
BEGIN:DAYLIGHT
TZOFFSETFROM:+0200
TZOFFSETTO:+0300
TZNAME:EEST
DTSTART:20150329T010000
END:DAYLIGHT
BEGIN:STANDARD
TZOFFSETFROM:+0300
TZOFFSETTO:+0200
TZNAME:EET
DTSTART:20151025T010000
END:STANDARD
BEGIN:DAYLIGHT
TZOFFSETFROM:+0200
TZOFFSETTO:+0300
TZNAME:EEST
DTSTART:20160327T010000
END:DAYLIGHT
BEGIN:STANDARD
TZOFFSETFROM:+0300
TZOFFSETTO:+0200
TZNAME:EET
DTSTART:20161030T010000
END:STANDARD
BEGIN:DAYLIGHT
TZOFFSETFROM:+0200
TZOFFSETTO:+0300
TZNAME:EEST
DTSTART:20170326T010000
END:DAYLIGHT
BEGIN:STANDARD
TZOFFSETFROM:+0300
TZOFFSETTO:+0200
TZNAME:EET
DTSTART:20171029T010000
END:STANDARD
END:VTIMEZONE
BEGIN:VEVENT
DTSTART;VALUE=DATE:20160520
DTEND;VALUE=DATE:20160613
DTSTAMP:20260426T064652
CREATED:20150909T103034Z
LAST-MODIFIED:20180626T214602Z
UID:3886-1463702400-1465775999@teatroclasico.inaem.gob.es
SUMMARY:La villana de Getafe - Madrid
DESCRIPTION:
URL:https://teatroclasico.inaem.gob.es/evento/castelvines-y-monteses-madrid-2016/
LOCATION:Teatro de la Comedia\, Madrid\, Madrid\, España
CATEGORIES:Programación,Teatro de la Comedia,Temporada 2015/2016
ATTACH;FMTTYPE=image/jpeg:https://teatroclasico.inaem.gob.es/wp-content/uploads/2015/09/la-villana-de-getafe-min.jpg
ORGANIZER;CN="Compa%C3%B1%C3%ADa Nacional de Teatro Cl%C3%A1sico":MAILTO:teatro.clasico@inaem.mcu.es
END:VEVENT
BEGIN:VEVENT
DTSTART;VALUE=DATE:20160602
DTEND;VALUE=DATE:20160603
DTSTAMP:20260426T064652
CREATED:20150909T103027Z
LAST-MODIFIED:20180626T214602Z
UID:3887-1464825600-1464911999@teatroclasico.inaem.gob.es
SUMMARY:La villana de Getafe - Encuentro con el público
DESCRIPTION:
URL:https://teatroclasico.inaem.gob.es/evento/castelvines-y-monteses-encuentro-con-el-publico-2016/
LOCATION:Teatro de la Comedia\, Madrid\, Madrid\, España
CATEGORIES:Programación,Teatro de la Comedia,Temporada 2015/2016
ATTACH;FMTTYPE=image/jpeg:https://teatroclasico.inaem.gob.es/wp-content/uploads/2015/09/la-villana-de-getafe-min.jpg
ORGANIZER;CN="Compa%C3%B1%C3%ADa Nacional de Teatro Cl%C3%A1sico":MAILTO:teatro.clasico@inaem.mcu.es
END:VEVENT
BEGIN:VEVENT
DTSTART;VALUE=DATE:20160616
DTEND;VALUE=DATE:20160620
DTSTAMP:20260426T064652
CREATED:20150909T103049Z
LAST-MODIFIED:20180626T214602Z
UID:3888-1466035200-1466380799@teatroclasico.inaem.gob.es
SUMMARY:Lorenzaccio - Madrid
DESCRIPTION:
URL:https://teatroclasico.inaem.gob.es/evento/lorenzaccio-madrid-2016/
LOCATION:Teatro de la Comedia\, Madrid\, Madrid\, España
CATEGORIES:Programación,Teatro de la Comedia,Temporada 2015/2016
ATTACH;FMTTYPE=image/jpeg:https://teatroclasico.inaem.gob.es/wp-content/uploads/2015/08/Lorenzaccio.jpg
END:VEVENT
BEGIN:VEVENT
DTSTART;VALUE=DATE:20160625
DTEND;VALUE=DATE:20160627
DTSTAMP:20260426T064652
CREATED:20150909T103000Z
LAST-MODIFIED:20180626T214601Z
UID:3921-1466812800-1466985599@teatroclasico.inaem.gob.es
SUMMARY:La villana de Getafe - Alcalá de Henares
DESCRIPTION:
URL:https://teatroclasico.inaem.gob.es/evento/castelvines-y-monteses-alcala-de-henares-2016/
LOCATION:Festical Clásicos en Alcalá\, Teatro Salón Cervantes - C/ Cervantes s/n\, Alcalá de Henares
CATEGORIES:En gira,Programación,Temporada 2015/2016
ATTACH;FMTTYPE=image/jpeg:https://teatroclasico.inaem.gob.es/wp-content/uploads/2015/09/la-villana-de-getafe-min.jpg
ORGANIZER;CN="Compa%C3%B1%C3%ADa Nacional de Teatro Cl%C3%A1sico":MAILTO:teatro.clasico@inaem.mcu.es
END:VEVENT
END:VCALENDAR