BEGIN:VCALENDAR
VERSION:2.0
PRODID:-//Compañía Nacional de Teatro Clásico - ECPv6.15.16//NONSGML v1.0//EN
CALSCALE:GREGORIAN
METHOD:PUBLISH
X-WR-CALNAME:Compañía Nacional de Teatro Clásico
X-ORIGINAL-URL:https://teatroclasico.inaem.gob.es
X-WR-CALDESC:Eventos para Compañía Nacional de Teatro Clásico
REFRESH-INTERVAL;VALUE=DURATION:PT1H
X-Robots-Tag:noindex
X-PUBLISHED-TTL:PT1H
BEGIN:VTIMEZONE
TZID:Europe/Helsinki
BEGIN:DAYLIGHT
TZOFFSETFROM:+0200
TZOFFSETTO:+0300
TZNAME:EEST
DTSTART:20160327T010000
END:DAYLIGHT
BEGIN:STANDARD
TZOFFSETFROM:+0300
TZOFFSETTO:+0200
TZNAME:EET
DTSTART:20161030T010000
END:STANDARD
BEGIN:DAYLIGHT
TZOFFSETFROM:+0200
TZOFFSETTO:+0300
TZNAME:EEST
DTSTART:20170326T010000
END:DAYLIGHT
BEGIN:STANDARD
TZOFFSETFROM:+0300
TZOFFSETTO:+0200
TZNAME:EET
DTSTART:20171029T010000
END:STANDARD
BEGIN:DAYLIGHT
TZOFFSETFROM:+0200
TZOFFSETTO:+0300
TZNAME:EEST
DTSTART:20180325T010000
END:DAYLIGHT
BEGIN:STANDARD
TZOFFSETFROM:+0300
TZOFFSETTO:+0200
TZNAME:EET
DTSTART:20181028T010000
END:STANDARD
END:VTIMEZONE
BEGIN:VEVENT
DTSTART;VALUE=DATE:20170308
DTEND;VALUE=DATE:20170327
DTSTAMP:20260425T181753
CREATED:20160622T111352Z
LAST-MODIFIED:20180626T214601Z
UID:6217-1488931200-1490572799@teatroclasico.inaem.gob.es
SUMMARY:La judía de Toledo - Madrid
DESCRIPTION:
URL:https://teatroclasico.inaem.gob.es/evento/la-judia-de-toledo-madrid/
LOCATION:Teatro de la Comedia\, Madrid\, Madrid\, España
CATEGORIES:Programación,Teatro de la Comedia,Temporada 2016 / 2017
ATTACH;FMTTYPE=image/jpeg:https://teatroclasico.inaem.gob.es/wp-content/uploads/2016/06/judiadetoledo.jpg
ORGANIZER;CN="Compa%C3%B1%C3%ADa Nacional de Teatro Cl%C3%A1sico":MAILTO:teatro.clasico@inaem.mcu.es
END:VEVENT
BEGIN:VEVENT
DTSTART;VALUE=DATE:20170315
DTEND;VALUE=DATE:20170319
DTSTAMP:20260425T181753
CREATED:20160622T095029Z
LAST-MODIFIED:20180626T214601Z
UID:5973-1489536000-1489881599@teatroclasico.inaem.gob.es
SUMMARY:El perro del hortelano - Sevilla
DESCRIPTION:
URL:https://teatroclasico.inaem.gob.es/evento/el-perro-del-hortelano-sevilla-2017/
LOCATION:Teatro Lope de Vega\, Av. de María Luisa\, s/n\, Sevilla\, 41013
CATEGORIES:Programación,Temporada 2016 / 2017
ATTACH;FMTTYPE=image/jpeg:https://teatroclasico.inaem.gob.es/wp-content/uploads/2016/06/perrodelhortelano.jpg
ORGANIZER;CN="Compa%C3%B1%C3%ADa Nacional de Teatro Cl%C3%A1sico":MAILTO:teatro.clasico@inaem.mcu.es
END:VEVENT
BEGIN:VEVENT
DTSTART;VALUE=DATE:20170316
DTEND;VALUE=DATE:20170317
DTSTAMP:20260425T181753
CREATED:20160622T132657Z
LAST-MODIFIED:20180626T214601Z
UID:6265-1489622400-1489708799@teatroclasico.inaem.gob.es
SUMMARY:La judía de Toledo - Encuentro con el público
DESCRIPTION:
URL:https://teatroclasico.inaem.gob.es/evento/la-judia-de-toledo-encuentro-con-el-publico/
LOCATION:Teatro de la Comedia\, Madrid\, Madrid\, España
CATEGORIES:Programación,Teatro de la Comedia,Temporada 2016 / 2017
ATTACH;FMTTYPE=image/jpeg:https://teatroclasico.inaem.gob.es/wp-content/uploads/2016/06/judiadetoledo.jpg
ORGANIZER;CN="Compa%C3%B1%C3%ADa Nacional de Teatro Cl%C3%A1sico":MAILTO:teatro.clasico@inaem.mcu.es
END:VEVENT
BEGIN:VEVENT
DTSTART;VALUE=DATE:20170320
DTEND;VALUE=DATE:20170321
DTSTAMP:20260425T181753
CREATED:20160622T095051Z
LAST-MODIFIED:20180626T214601Z
UID:6200-1489968000-1490054399@teatroclasico.inaem.gob.es
SUMMARY:Soldadesca - Madrid
DESCRIPTION:
URL:https://teatroclasico.inaem.gob.es/evento/soldadesca-madrid/
LOCATION:Teatro de la Comedia\, Madrid\, Madrid\, España
CATEGORIES:Programación,Teatro de la Comedia,Temporada 2016 / 2017
ATTACH;FMTTYPE=image/jpeg:https://teatroclasico.inaem.gob.es/wp-content/uploads/2016/06/soldadesca.jpg
ORGANIZER;CN="Compa%C3%B1%C3%ADa Nacional de Teatro Cl%C3%A1sico":MAILTO:teatro.clasico@inaem.mcu.es
END:VEVENT
BEGIN:VEVENT
DTSTART;VALUE=DATE:20170324
DTEND;VALUE=DATE:20170326
DTSTAMP:20260425T181753
CREATED:20160622T095028Z
LAST-MODIFIED:20180626T214601Z
UID:5974-1490313600-1490486399@teatroclasico.inaem.gob.es
SUMMARY:El perro del hortelano - Logroño
DESCRIPTION:
URL:https://teatroclasico.inaem.gob.es/evento/el-perro-del-hortelano-logrono-2017/
LOCATION:Teatro Bretón de los Herreros\, Calle Bretón de lso Herreros\, 11\, Logroño\, La Rioja\, 26001\, España
CATEGORIES:Programación,Temporada 2016 / 2017
ATTACH;FMTTYPE=image/jpeg:https://teatroclasico.inaem.gob.es/wp-content/uploads/2016/06/perrodelhortelano.jpg
ORGANIZER;CN="Compa%C3%B1%C3%ADa Nacional de Teatro Cl%C3%A1sico":MAILTO:teatro.clasico@inaem.mcu.es
END:VEVENT
END:VCALENDAR