BEGIN:VCALENDAR
VERSION:2.0
PRODID:-//Compañía Nacional de Teatro Clásico - ECPv6.15.16//NONSGML v1.0//EN
CALSCALE:GREGORIAN
METHOD:PUBLISH
X-ORIGINAL-URL:https://teatroclasico.inaem.gob.es
X-WR-CALDESC:Eventos para Compañía Nacional de Teatro Clásico
REFRESH-INTERVAL;VALUE=DURATION:PT1H
X-Robots-Tag:noindex
X-PUBLISHED-TTL:PT1H
BEGIN:VTIMEZONE
TZID:Europe/Helsinki
BEGIN:DAYLIGHT
TZOFFSETFROM:+0200
TZOFFSETTO:+0300
TZNAME:EEST
DTSTART:20170326T010000
END:DAYLIGHT
BEGIN:STANDARD
TZOFFSETFROM:+0300
TZOFFSETTO:+0200
TZNAME:EET
DTSTART:20171029T010000
END:STANDARD
BEGIN:DAYLIGHT
TZOFFSETFROM:+0200
TZOFFSETTO:+0300
TZNAME:EEST
DTSTART:20180325T010000
END:DAYLIGHT
BEGIN:STANDARD
TZOFFSETFROM:+0300
TZOFFSETTO:+0200
TZNAME:EET
DTSTART:20181028T010000
END:STANDARD
BEGIN:DAYLIGHT
TZOFFSETFROM:+0200
TZOFFSETTO:+0300
TZNAME:EEST
DTSTART:20190331T010000
END:DAYLIGHT
BEGIN:STANDARD
TZOFFSETFROM:+0300
TZOFFSETTO:+0200
TZNAME:EET
DTSTART:20191027T010000
END:STANDARD
END:VTIMEZONE
BEGIN:VEVENT
DTSTART;VALUE=DATE:20180406
DTEND;VALUE=DATE:20180409
DTSTAMP:20260424T235731
CREATED:20170906T113001Z
LAST-MODIFIED:20180626T214559Z
UID:7482-1522972800-1523231999@teatroclasico.inaem.gob.es
SUMMARY:La dama duende - Valladolid
DESCRIPTION:
URL:https://teatroclasico.inaem.gob.es/evento/la-dama-duende-valladolid/
LOCATION:Teatro Calderón\, Calle de las Angustias\, 1\, Valladolid\, 47003\, España
CATEGORIES:En gira,Programación,Temporada 2017 / 2018
ATTACH;FMTTYPE=image/jpeg:https://teatroclasico.inaem.gob.es/wp-content/uploads/2017/09/la-dama-duende.jpg
ORGANIZER;CN="Compa%C3%B1%C3%ADa Nacional de Teatro Cl%C3%A1sico":MAILTO:teatro.clasico@inaem.mcu.es
END:VEVENT
BEGIN:VEVENT
DTSTART;VALUE=DATE:20180413
DTEND;VALUE=DATE:20180604
DTSTAMP:20260424T235731
CREATED:20170906T113008Z
LAST-MODIFIED:20180626T214559Z
UID:7505-1523577600-1528070399@teatroclasico.inaem.gob.es
SUMMARY:El burlador de Sevilla - Madrid
DESCRIPTION:
URL:https://teatroclasico.inaem.gob.es/evento/el-burlador-de-sevilla-madrid/
LOCATION:Teatro de la Comedia\, Madrid\, Madrid\, España
CATEGORIES:Programación,Teatro de la Comedia,Temporada 2017 / 2018
ATTACH;FMTTYPE=image/jpeg:https://teatroclasico.inaem.gob.es/wp-content/uploads/2017/09/el-burlador-de-sevilla.jpg
ORGANIZER;CN="Compa%C3%B1%C3%ADa Nacional de Teatro Cl%C3%A1sico":MAILTO:teatro.clasico@inaem.mcu.es
END:VEVENT
BEGIN:VEVENT
DTSTART;VALUE=DATE:20180420
DTEND;VALUE=DATE:20180423
DTSTAMP:20260424T235731
CREATED:20170906T113056Z
LAST-MODIFIED:20180626T214559Z
UID:7483-1524182400-1524441599@teatroclasico.inaem.gob.es
SUMMARY:La dama duende - Murcia
DESCRIPTION:
URL:https://teatroclasico.inaem.gob.es/evento/la-dama-duende-murcia/
LOCATION:Teatro Romea\, Plaza de Julián Romea\, s/n\, Murcia\, Murcia\, 30001\, España
CATEGORIES:En gira,Programación,Temporada 2017 / 2018
ATTACH;FMTTYPE=image/jpeg:https://teatroclasico.inaem.gob.es/wp-content/uploads/2017/09/la-dama-duende.jpg
ORGANIZER;CN="Compa%C3%B1%C3%ADa Nacional de Teatro Cl%C3%A1sico":MAILTO:teatro.clasico@inaem.mcu.es
END:VEVENT
BEGIN:VEVENT
DTSTART;VALUE=DATE:20180426
DTEND;VALUE=DATE:20180430
DTSTAMP:20260424T235731
CREATED:20170906T113043Z
LAST-MODIFIED:20180626T214559Z
UID:7485-1524700800-1525046399@teatroclasico.inaem.gob.es
SUMMARY:La dama duende - Valencia
DESCRIPTION:
URL:https://teatroclasico.inaem.gob.es/evento/la-dama-duende-valencia/
LOCATION:Teatro Principal de Valencia\, Carrer de les Barques\, 15\, Valencia\, 46002
CATEGORIES:En gira,Programación,Temporada 2017 / 2018
ATTACH;FMTTYPE=image/jpeg:https://teatroclasico.inaem.gob.es/wp-content/uploads/2017/09/la-dama-duende.jpg
ORGANIZER;CN="Compa%C3%B1%C3%ADa Nacional de Teatro Cl%C3%A1sico":MAILTO:teatro.clasico@inaem.mcu.es
END:VEVENT
END:VCALENDAR