BEGIN:VCALENDAR
VERSION:2.0
PRODID:-//Compañía Nacional de Teatro Clásico - ECPv6.15.16//NONSGML v1.0//EN
CALSCALE:GREGORIAN
METHOD:PUBLISH
X-ORIGINAL-URL:https://teatroclasico.inaem.gob.es
X-WR-CALDESC:Eventos para Compañía Nacional de Teatro Clásico
REFRESH-INTERVAL;VALUE=DURATION:PT1H
X-Robots-Tag:noindex
X-PUBLISHED-TTL:PT1H
BEGIN:VTIMEZONE
TZID:Europe/Helsinki
BEGIN:DAYLIGHT
TZOFFSETFROM:+0200
TZOFFSETTO:+0300
TZNAME:EEST
DTSTART:20190331T010000
END:DAYLIGHT
BEGIN:STANDARD
TZOFFSETFROM:+0300
TZOFFSETTO:+0200
TZNAME:EET
DTSTART:20191027T010000
END:STANDARD
BEGIN:DAYLIGHT
TZOFFSETFROM:+0200
TZOFFSETTO:+0300
TZNAME:EEST
DTSTART:20200329T010000
END:DAYLIGHT
BEGIN:STANDARD
TZOFFSETFROM:+0300
TZOFFSETTO:+0200
TZNAME:EET
DTSTART:20201025T010000
END:STANDARD
BEGIN:DAYLIGHT
TZOFFSETFROM:+0200
TZOFFSETTO:+0300
TZNAME:EEST
DTSTART:20210328T010000
END:DAYLIGHT
BEGIN:STANDARD
TZOFFSETFROM:+0300
TZOFFSETTO:+0200
TZNAME:EET
DTSTART:20211031T010000
END:STANDARD
END:VTIMEZONE
BEGIN:VEVENT
DTSTART;VALUE=DATE:20200214
DTEND;VALUE=DATE:20200309
DTSTAMP:20260423T170631
CREATED:20190617T110056Z
LAST-MODIFIED:20190617T063407Z
UID:11192-1581638400-1583711999@teatroclasico.inaem.gob.es
SUMMARY:Andanzas y entremeses de Juan Rana - Madrid
DESCRIPTION:
URL:https://teatroclasico.inaem.gob.es/evento/andanzas-y-entremeses-de-juan-rana-madrid/
LOCATION:Teatro de la Comedia\, Madrid\, Madrid\, España
CATEGORIES:Programación,Teatro de la Comedia,Temporada 2019 / 2020
ATTACH;FMTTYPE=image/jpeg:https://teatroclasico.inaem.gob.es/wp-content/uploads/2019/06/Andanzas-y-entremeses-de-juan-rana.jpg
ORGANIZER;CN="Compa%C3%B1%C3%ADa Nacional de Teatro Cl%C3%A1sico":MAILTO:teatro.clasico@inaem.mcu.es
END:VEVENT
BEGIN:VEVENT
DTSTART;VALUE=DATE:20200305
DTEND;VALUE=DATE:20200308
DTSTAMP:20260423T170631
CREATED:20190617T110015Z
LAST-MODIFIED:20191216T120429Z
UID:11167-1583366400-1583625599@teatroclasico.inaem.gob.es
SUMMARY:El castigo sin venganza - Valencia
DESCRIPTION:
URL:https://teatroclasico.inaem.gob.es/evento/el-castigo-sin-venganza-valencia/
LOCATION:Teatro Principal de Valencia\, Carrer de les Barques\, 15\, Valencia\, 46002
CATEGORIES:En gira,Programación,Temporada 2019 / 2020
ATTACH;FMTTYPE=image/jpeg:https://teatroclasico.inaem.gob.es/wp-content/uploads/2019/06/El-castigo-sin-venganza.jpg
ORGANIZER;CN="Compa%C3%B1%C3%ADa Nacional de Teatro Cl%C3%A1sico":MAILTO:teatro.clasico@inaem.mcu.es
END:VEVENT
BEGIN:VEVENT
DTSTART;VALUE=DATE:20200318
DTEND;VALUE=DATE:20200427
DTSTAMP:20260423T170631
CREATED:20190617T110031Z
LAST-MODIFIED:20190617T063428Z
UID:11195-1584489600-1587945599@teatroclasico.inaem.gob.es
SUMMARY:Sueño de una noche de verano - Madrid
DESCRIPTION:
URL:https://teatroclasico.inaem.gob.es/evento/sueno-de-una-noche-de-verano-madrid/
LOCATION:Teatro de la Comedia\, Madrid\, Madrid\, España
CATEGORIES:Programación,Teatro de la Comedia,Temporada 2019 / 2020
ATTACH;FMTTYPE=image/jpeg:https://teatroclasico.inaem.gob.es/wp-content/uploads/2019/06/Sueño-de-una-noche-de-verano.jpg
ORGANIZER;CN="Compa%C3%B1%C3%ADa Nacional de Teatro Cl%C3%A1sico":MAILTO:teatro.clasico@inaem.mcu.es
END:VEVENT
BEGIN:VEVENT
DTSTART;VALUE=DATE:20200325
DTEND;VALUE=DATE:20200504
DTSTAMP:20260423T170631
CREATED:20190617T110035Z
LAST-MODIFIED:20190617T063435Z
UID:11207-1585094400-1588550399@teatroclasico.inaem.gob.es
SUMMARY:El enfermo imaginario - Madrid
DESCRIPTION:
URL:https://teatroclasico.inaem.gob.es/evento/el-enfermo-imaginario-madrid/
LOCATION:Teatro de la Comedia\, Madrid\, Madrid\, España
CATEGORIES:Programación,Teatro de la Comedia,Temporada 2019 / 2020
ATTACH;FMTTYPE=image/jpeg:https://teatroclasico.inaem.gob.es/wp-content/uploads/2019/06/El-enfermo-imaginario.jpg
ORGANIZER;CN="Compa%C3%B1%C3%ADa Nacional de Teatro Cl%C3%A1sico":MAILTO:teatro.clasico@inaem.mcu.es
END:VEVENT
END:VCALENDAR