BEGIN:VCALENDAR
VERSION:2.0
PRODID:-//Compañía Nacional de Teatro Clásico - ECPv6.15.16//NONSGML v1.0//EN
CALSCALE:GREGORIAN
METHOD:PUBLISH
X-WR-CALNAME:Compañía Nacional de Teatro Clásico
X-ORIGINAL-URL:https://teatroclasico.inaem.gob.es
X-WR-CALDESC:Eventos para Compañía Nacional de Teatro Clásico
REFRESH-INTERVAL;VALUE=DURATION:PT1H
X-Robots-Tag:noindex
X-PUBLISHED-TTL:PT1H
BEGIN:VTIMEZONE
TZID:Europe/Helsinki
BEGIN:DAYLIGHT
TZOFFSETFROM:+0200
TZOFFSETTO:+0300
TZNAME:EEST
DTSTART:20190331T010000
END:DAYLIGHT
BEGIN:STANDARD
TZOFFSETFROM:+0300
TZOFFSETTO:+0200
TZNAME:EET
DTSTART:20191027T010000
END:STANDARD
BEGIN:DAYLIGHT
TZOFFSETFROM:+0200
TZOFFSETTO:+0300
TZNAME:EEST
DTSTART:20200329T010000
END:DAYLIGHT
BEGIN:STANDARD
TZOFFSETFROM:+0300
TZOFFSETTO:+0200
TZNAME:EET
DTSTART:20201025T010000
END:STANDARD
BEGIN:DAYLIGHT
TZOFFSETFROM:+0200
TZOFFSETTO:+0300
TZNAME:EEST
DTSTART:20210328T010000
END:DAYLIGHT
BEGIN:STANDARD
TZOFFSETFROM:+0300
TZOFFSETTO:+0200
TZNAME:EET
DTSTART:20211031T010000
END:STANDARD
END:VTIMEZONE
BEGIN:VEVENT
DTSTART;VALUE=DATE:20200325
DTEND;VALUE=DATE:20200504
DTSTAMP:20260423T143133
CREATED:20190617T110035Z
LAST-MODIFIED:20190617T063435Z
UID:11207-1585094400-1588550399@teatroclasico.inaem.gob.es
SUMMARY:El enfermo imaginario - Madrid
DESCRIPTION:
URL:https://teatroclasico.inaem.gob.es/evento/el-enfermo-imaginario-madrid/
LOCATION:Teatro de la Comedia\, Madrid\, Madrid\, España
CATEGORIES:Programación,Teatro de la Comedia,Temporada 2019 / 2020
ATTACH;FMTTYPE=image/jpeg:https://teatroclasico.inaem.gob.es/wp-content/uploads/2019/06/El-enfermo-imaginario.jpg
ORGANIZER;CN="Compa%C3%B1%C3%ADa Nacional de Teatro Cl%C3%A1sico":MAILTO:teatro.clasico@inaem.mcu.es
END:VEVENT
BEGIN:VEVENT
DTSTART;VALUE=DATE:20200423
DTEND;VALUE=DATE:20200701
DTSTAMP:20260423T143133
CREATED:20200605T095711Z
LAST-MODIFIED:20200610T101925Z
UID:12652-1587600000-1593561599@teatroclasico.inaem.gob.es
SUMMARY:En compañía de los clásicos
DESCRIPTION:Campaña para mantener el contacto con los espectadores a través de nuestras redes sociales\, ofreciendo entrevistas a profesionales del teatro\, declaraciones de actores y directores\, encuentros Instagram\, Masterclass\, así como creaciones exclusivas desarrolladas en estos días en los que los teatros permanecen cerrados.
URL:https://teatroclasico.inaem.gob.es/evento/en-compania-de-los-clasicos/
LOCATION:RRSS de la CNTC (Facebook\, Twitter\, Instagram y Youtube)
CATEGORIES:Teatro de la Comedia
ATTACH;FMTTYPE=image/jpeg:https://teatroclasico.inaem.gob.es/wp-content/uploads/2020/04/encompañiadelosclasicoscuad.jpg
END:VEVENT
BEGIN:VEVENT
DTSTART;VALUE=DATE:20200430
DTEND;VALUE=DATE:20200502
DTSTAMP:20260423T143133
CREATED:20190617T110031Z
LAST-MODIFIED:20190617T063449Z
UID:11173-1588204800-1588377599@teatroclasico.inaem.gob.es
SUMMARY:La señora y la criada - Logroño
DESCRIPTION:
URL:https://teatroclasico.inaem.gob.es/evento/la-senora-y-la-criada-logrono/
LOCATION:Teatro Bretón de los Herreros\, Calle Bretón de lso Herreros\, 11\, Logroño\, La Rioja\, 26001\, España
CATEGORIES:En gira,Programación,Temporada 2019 / 2020
ATTACH;FMTTYPE=image/jpeg:https://teatroclasico.inaem.gob.es/wp-content/uploads/2019/06/La-señora-y-la-criada.jpg
ORGANIZER;CN="Compa%C3%B1%C3%ADa Nacional de Teatro Cl%C3%A1sico":MAILTO:teatro.clasico@inaem.mcu.es
END:VEVENT
BEGIN:VEVENT
DTSTART;VALUE=DATE:20200430
DTEND;VALUE=DATE:20200502
DTSTAMP:20260423T143133
CREATED:20190617T110045Z
LAST-MODIFIED:20200218T091106Z
UID:11199-1588204800-1588377599@teatroclasico.inaem.gob.es
SUMMARY:Sueño de una noche de verano - Logroño
DESCRIPTION:
URL:https://teatroclasico.inaem.gob.es/evento/sueno-de-una-noche-de-verano-logrono/
LOCATION:Teatro Bretón de los Herreros\, Calle Bretón de lso Herreros\, 11\, Logroño\, La Rioja\, 26001\, España
ATTACH;FMTTYPE=image/jpeg:https://teatroclasico.inaem.gob.es/wp-content/uploads/2019/06/Sueño-de-una-noche-de-verano.jpg
ORGANIZER;CN="Compa%C3%B1%C3%ADa Nacional de Teatro Cl%C3%A1sico":MAILTO:teatro.clasico@inaem.mcu.es
END:VEVENT
BEGIN:VEVENT
DTSTART;VALUE=DATE:20200508
DTEND;VALUE=DATE:20200510
DTSTAMP:20260423T143133
CREATED:20190617T110017Z
LAST-MODIFIED:20200218T091732Z
UID:11175-1588896000-1589068799@teatroclasico.inaem.gob.es
SUMMARY:La señora y la criada - A Coruña
DESCRIPTION:
URL:https://teatroclasico.inaem.gob.es/evento/la-senora-y-la-criada-a-coruna/
LOCATION:Teatro Rosalía de Castro\, Calle del Riego de Agua\, 37\, La Coruña\, La Coruña\, 15003\, España
ATTACH;FMTTYPE=image/jpeg:https://teatroclasico.inaem.gob.es/wp-content/uploads/2019/06/La-señora-y-la-criada.jpg
ORGANIZER;CN="Compa%C3%B1%C3%ADa Nacional de Teatro Cl%C3%A1sico":MAILTO:teatro.clasico@inaem.mcu.es
END:VEVENT
BEGIN:VEVENT
DTSTART;VALUE=DATE:20200508
DTEND;VALUE=DATE:20200510
DTSTAMP:20260423T143133
CREATED:20190617T110043Z
LAST-MODIFIED:20190617T063456Z
UID:11197-1588896000-1589068799@teatroclasico.inaem.gob.es
SUMMARY:Sueño de una noche de verano - A Coruña
DESCRIPTION:
URL:https://teatroclasico.inaem.gob.es/evento/sueno-de-una-noche-de-verano-a-coruna/
LOCATION:Teatro Rosalía de Castro\, Calle del Riego de Agua\, 37\, La Coruña\, La Coruña\, 15003\, España
CATEGORIES:En gira,Programación,Temporada 2019 / 2020
ATTACH;FMTTYPE=image/jpeg:https://teatroclasico.inaem.gob.es/wp-content/uploads/2019/06/Sueño-de-una-noche-de-verano.jpg
ORGANIZER;CN="Compa%C3%B1%C3%ADa Nacional de Teatro Cl%C3%A1sico":MAILTO:teatro.clasico@inaem.mcu.es
END:VEVENT
BEGIN:VEVENT
DTSTART;VALUE=DATE:20200515
DTEND;VALUE=DATE:20200517
DTSTAMP:20260423T143133
CREATED:20190617T110019Z
LAST-MODIFIED:20190617T063519Z
UID:11177-1589500800-1589673599@teatroclasico.inaem.gob.es
SUMMARY:La señora y la criada - Ourense
DESCRIPTION:
URL:https://teatroclasico.inaem.gob.es/evento/la-senora-y-la-criada-ourense/
LOCATION:Teatro Principal Ourense\, Rúa da Paz\, 9\, Ourense\, La Coruña\, 32005\, España
CATEGORIES:En gira,Programación,Temporada 2019 / 2020
ATTACH;FMTTYPE=image/jpeg:https://teatroclasico.inaem.gob.es/wp-content/uploads/2019/06/La-señora-y-la-criada.jpg
ORGANIZER;CN="Compa%C3%B1%C3%ADa Nacional de Teatro Cl%C3%A1sico":MAILTO:teatro.clasico@inaem.mcu.es
END:VEVENT
BEGIN:VEVENT
DTSTART;VALUE=DATE:20200515
DTEND;VALUE=DATE:20200517
DTSTAMP:20260423T143133
CREATED:20190617T110040Z
LAST-MODIFIED:20190617T063510Z
UID:11201-1589500800-1589673599@teatroclasico.inaem.gob.es
SUMMARY:Sueño de una noche de verano - Ourense
DESCRIPTION:
URL:https://teatroclasico.inaem.gob.es/evento/sueno-de-una-noche-de-verano-ourense/
LOCATION:Teatro Principal Ourense\, Rúa da Paz\, 9\, Ourense\, La Coruña\, 32005\, España
CATEGORIES:En gira,Programación,Temporada 2019 / 2020
ATTACH;FMTTYPE=image/jpeg:https://teatroclasico.inaem.gob.es/wp-content/uploads/2019/06/Sueño-de-una-noche-de-verano.jpg
ORGANIZER;CN="Compa%C3%B1%C3%ADa Nacional de Teatro Cl%C3%A1sico":MAILTO:teatro.clasico@inaem.mcu.es
END:VEVENT
BEGIN:VEVENT
DTSTART;VALUE=DATE:20200519
DTEND;VALUE=DATE:20200531
DTSTAMP:20260423T143133
CREATED:20190617T110013Z
LAST-MODIFIED:20200605T094914Z
UID:11214-1589846400-1590883199@teatroclasico.inaem.gob.es
SUMMARY:El vergonzoso en palacio - Madrid
DESCRIPTION:
URL:https://teatroclasico.inaem.gob.es/evento/el-vergonzoso-en-palacio-madrid/
LOCATION:Teatro de la Comedia\, Madrid\, Madrid\, España
CATEGORIES:Programación,Teatro de la Comedia,Temporada 2019 / 2020
ATTACH;FMTTYPE=image/jpeg:https://teatroclasico.inaem.gob.es/wp-content/uploads/2019/06/El-vergonzoso-en-palacio.jpg
ORGANIZER;CN="Compa%C3%B1%C3%ADa Nacional de Teatro Cl%C3%A1sico":MAILTO:teatro.clasico@inaem.mcu.es
END:VEVENT
BEGIN:VEVENT
DTSTART;VALUE=DATE:20200522
DTEND;VALUE=DATE:20200524
DTSTAMP:20260423T143133
CREATED:20190617T110033Z
LAST-MODIFIED:20200218T092657Z
UID:11182-1590105600-1590278399@teatroclasico.inaem.gob.es
SUMMARY:La señora y la criada - Pamplona
DESCRIPTION:
URL:https://teatroclasico.inaem.gob.es/evento/la-senora-y-la-criada-pamplona/
LOCATION:Teatro Gayarre\, Av de Carlos III\, 1\, Pamplona\, Navarra\, 31002\, España
ATTACH;FMTTYPE=image/jpeg:https://teatroclasico.inaem.gob.es/wp-content/uploads/2019/06/La-señora-y-la-criada.jpg
ORGANIZER;CN="Compa%C3%B1%C3%ADa Nacional de Teatro Cl%C3%A1sico":MAILTO:teatro.clasico@inaem.mcu.es
END:VEVENT
BEGIN:VEVENT
DTSTART;VALUE=DATE:20200522
DTEND;VALUE=DATE:20200524
DTSTAMP:20260423T143133
CREATED:20190617T110041Z
LAST-MODIFIED:20190617T063532Z
UID:11202-1590105600-1590278399@teatroclasico.inaem.gob.es
SUMMARY:Sueño de una noche de verano - Pamplona
DESCRIPTION:
URL:https://teatroclasico.inaem.gob.es/evento/sueno-de-una-noche-de-verano-pamplona/
LOCATION:Teatro Gayarre\, Av de Carlos III\, 1\, Pamplona\, Navarra\, 31002\, España
CATEGORIES:En gira,Programación,Temporada 2019 / 2020
ATTACH;FMTTYPE=image/jpeg:https://teatroclasico.inaem.gob.es/wp-content/uploads/2019/06/Sueño-de-una-noche-de-verano.jpg
ORGANIZER;CN="Compa%C3%B1%C3%ADa Nacional de Teatro Cl%C3%A1sico":MAILTO:teatro.clasico@inaem.mcu.es
END:VEVENT
BEGIN:VEVENT
DTSTART;VALUE=DATE:20200528
DTEND;VALUE=DATE:20200530
DTSTAMP:20260423T143133
CREATED:20190617T110011Z
LAST-MODIFIED:20200218T091455Z
UID:11184-1590624000-1590796799@teatroclasico.inaem.gob.es
SUMMARY:La señora y la criada - Úbeda
DESCRIPTION:
URL:https://teatroclasico.inaem.gob.es/evento/la-senora-y-la-criada-ubeda/
LOCATION:Hospital de Santiago\, Calle Obispo Cobos\, 28\, Úbeda\, Jaén\, 23400\, España
ATTACH;FMTTYPE=image/jpeg:https://teatroclasico.inaem.gob.es/wp-content/uploads/2019/06/La-señora-y-la-criada.jpg
ORGANIZER;CN="Compa%C3%B1%C3%ADa Nacional de Teatro Cl%C3%A1sico":MAILTO:teatro.clasico@inaem.mcu.es
END:VEVENT
BEGIN:VEVENT
DTSTART;VALUE=DATE:20200528
DTEND;VALUE=DATE:20200530
DTSTAMP:20260423T143133
CREATED:20190617T110032Z
LAST-MODIFIED:20190617T063546Z
UID:11204-1590624000-1590796799@teatroclasico.inaem.gob.es
SUMMARY:Sueño de una noche de verano - Úbeda
DESCRIPTION:
URL:https://teatroclasico.inaem.gob.es/evento/sueno-de-una-noche-de-verano-ubeda/
LOCATION:Hospital de Santiago\, Calle Obispo Cobos\, 28\, Úbeda\, Jaén\, 23400\, España
CATEGORIES:En gira,Programación,Temporada 2019 / 2020
ATTACH;FMTTYPE=image/jpeg:https://teatroclasico.inaem.gob.es/wp-content/uploads/2019/06/Sueño-de-una-noche-de-verano.jpg
ORGANIZER;CN="Compa%C3%B1%C3%ADa Nacional de Teatro Cl%C3%A1sico":MAILTO:teatro.clasico@inaem.mcu.es
END:VEVENT
END:VCALENDAR