BEGIN:VCALENDAR
VERSION:2.0
PRODID:-//Compañía Nacional de Teatro Clásico - ECPv6.15.16//NONSGML v1.0//EN
CALSCALE:GREGORIAN
METHOD:PUBLISH
X-WR-CALNAME:Compañía Nacional de Teatro Clásico
X-ORIGINAL-URL:https://teatroclasico.inaem.gob.es
X-WR-CALDESC:Eventos para Compañía Nacional de Teatro Clásico
REFRESH-INTERVAL;VALUE=DURATION:PT1H
X-Robots-Tag:noindex
X-PUBLISHED-TTL:PT1H
BEGIN:VTIMEZONE
TZID:Europe/Helsinki
BEGIN:DAYLIGHT
TZOFFSETFROM:+0200
TZOFFSETTO:+0300
TZNAME:EEST
DTSTART:20190331T010000
END:DAYLIGHT
BEGIN:STANDARD
TZOFFSETFROM:+0300
TZOFFSETTO:+0200
TZNAME:EET
DTSTART:20191027T010000
END:STANDARD
BEGIN:DAYLIGHT
TZOFFSETFROM:+0200
TZOFFSETTO:+0300
TZNAME:EEST
DTSTART:20200329T010000
END:DAYLIGHT
BEGIN:STANDARD
TZOFFSETFROM:+0300
TZOFFSETTO:+0200
TZNAME:EET
DTSTART:20201025T010000
END:STANDARD
BEGIN:DAYLIGHT
TZOFFSETFROM:+0200
TZOFFSETTO:+0300
TZNAME:EEST
DTSTART:20210328T010000
END:DAYLIGHT
BEGIN:STANDARD
TZOFFSETFROM:+0300
TZOFFSETTO:+0200
TZNAME:EET
DTSTART:20211031T010000
END:STANDARD
END:VTIMEZONE
BEGIN:VEVENT
DTSTART;VALUE=DATE:20200929
DTEND;VALUE=DATE:20201102
DTSTAMP:20260421T085813
CREATED:20200909T114525Z
LAST-MODIFIED:20200926T164720Z
UID:12983-1601337600-1604275199@teatroclasico.inaem.gob.es
SUMMARY:El vergonzoso en palacio - Madrid
DESCRIPTION:Descargar programa
URL:https://teatroclasico.inaem.gob.es/evento/el-vergonzoso-en-palacio-madrid-2/
LOCATION:Teatro de la Comedia\, Madrid\, Madrid\, España
CATEGORIES:Programación,Teatro de la Comedia,Temporada 2020 / 2021
ATTACH;FMTTYPE=image/png:https://teatroclasico.inaem.gob.es/wp-content/uploads/2020/09/01.png
END:VEVENT
END:VCALENDAR