BEGIN:VCALENDAR
VERSION:2.0
PRODID:-//Compañía Nacional de Teatro Clásico - ECPv6.15.16//NONSGML v1.0//EN
CALSCALE:GREGORIAN
METHOD:PUBLISH
X-ORIGINAL-URL:https://teatroclasico.inaem.gob.es
X-WR-CALDESC:Eventos para Compañía Nacional de Teatro Clásico
REFRESH-INTERVAL;VALUE=DURATION:PT1H
X-Robots-Tag:noindex
X-PUBLISHED-TTL:PT1H
BEGIN:VTIMEZONE
TZID:Europe/Helsinki
BEGIN:DAYLIGHT
TZOFFSETFROM:+0200
TZOFFSETTO:+0300
TZNAME:EEST
DTSTART:20200329T010000
END:DAYLIGHT
BEGIN:STANDARD
TZOFFSETFROM:+0300
TZOFFSETTO:+0200
TZNAME:EET
DTSTART:20201025T010000
END:STANDARD
BEGIN:DAYLIGHT
TZOFFSETFROM:+0200
TZOFFSETTO:+0300
TZNAME:EEST
DTSTART:20210328T010000
END:DAYLIGHT
BEGIN:STANDARD
TZOFFSETFROM:+0300
TZOFFSETTO:+0200
TZNAME:EET
DTSTART:20211031T010000
END:STANDARD
BEGIN:DAYLIGHT
TZOFFSETFROM:+0200
TZOFFSETTO:+0300
TZNAME:EEST
DTSTART:20220327T010000
END:DAYLIGHT
BEGIN:STANDARD
TZOFFSETFROM:+0300
TZOFFSETTO:+0200
TZNAME:EET
DTSTART:20221030T010000
END:STANDARD
END:VTIMEZONE
BEGIN:VEVENT
DTSTART;VALUE=DATE:20210416
DTEND;VALUE=DATE:20210614
DTSTAMP:20260420T203514
CREATED:20200909T114524Z
LAST-MODIFIED:20210414T152846Z
UID:13132-1618531200-1623628799@teatroclasico.inaem.gob.es
SUMMARY:Castelvines y monteses - Madrid
DESCRIPTION:Descargar porgrama
URL:https://teatroclasico.inaem.gob.es/evento/castelvines-y-monteses-madrid/
LOCATION:Teatro de la Comedia\, Madrid\, Madrid\, España
CATEGORIES:Programación,Teatro de la Comedia,Temporada 2020 / 2021
ATTACH;FMTTYPE=image/jpeg:https://teatroclasico.inaem.gob.es/wp-content/uploads/2020/09/Cartel-castelvines.jpg
ORGANIZER;CN="Compa%C3%B1%C3%ADa Nacional de Teatro Cl%C3%A1sico":MAILTO:teatro.clasico@inaem.mcu.es
END:VEVENT
BEGIN:VEVENT
DTSTART;VALUE=DATE:20210605
DTEND;VALUE=DATE:20210614
DTSTAMP:20260420T203514
CREATED:20210419T055227Z
LAST-MODIFIED:20210601T092429Z
UID:14655-1622851200-1623628799@teatroclasico.inaem.gob.es
SUMMARY:Lope sobre ruedas - Madrid
DESCRIPTION:Descargar programa
URL:https://teatroclasico.inaem.gob.es/evento/lope-sobre-ruedas-madrid/
LOCATION:Teatro de la Comedia\, Madrid\, Madrid\, España
CATEGORIES:Programación,Teatro de la Comedia,Temporada 2020 / 2021
ATTACH;FMTTYPE=image/jpeg:https://teatroclasico.inaem.gob.es/wp-content/uploads/2020/09/slide_web_2000x960.jpg
END:VEVENT
BEGIN:VEVENT
DTSTART;VALUE=DATE:20210619
DTEND;VALUE=DATE:20210620
DTSTAMP:20260420T203514
CREATED:20200909T114502Z
LAST-MODIFIED:20200908T155849Z
UID:13175-1624060800-1624147199@teatroclasico.inaem.gob.es
SUMMARY:Castelvines y monteses - Cáceres
DESCRIPTION:
URL:https://teatroclasico.inaem.gob.es/evento/castelvines-y-monteses-caceres/
LOCATION:Lugar sin nombre\, Madrid
CATEGORIES:En gira,Programación,Temporada 2020 / 2021
ATTACH;FMTTYPE=image/jpeg:https://teatroclasico.inaem.gob.es/wp-content/uploads/2020/09/Cartel-castelvines.jpg
ORGANIZER;CN="Compa%C3%B1%C3%ADa Nacional de Teatro Cl%C3%A1sico":MAILTO:teatro.clasico@inaem.mcu.es
END:VEVENT
END:VCALENDAR