BEGIN:VCALENDAR
VERSION:2.0
PRODID:-//Compañía Nacional de Teatro Clásico - ECPv6.15.16//NONSGML v1.0//EN
CALSCALE:GREGORIAN
METHOD:PUBLISH
X-WR-CALNAME:Compañía Nacional de Teatro Clásico
X-ORIGINAL-URL:https://teatroclasico.inaem.gob.es
X-WR-CALDESC:Eventos para Compañía Nacional de Teatro Clásico
REFRESH-INTERVAL;VALUE=DURATION:PT1H
X-Robots-Tag:noindex
X-PUBLISHED-TTL:PT1H
BEGIN:VTIMEZONE
TZID:Europe/Helsinki
BEGIN:DAYLIGHT
TZOFFSETFROM:+0200
TZOFFSETTO:+0300
TZNAME:EEST
DTSTART:20210328T010000
END:DAYLIGHT
BEGIN:STANDARD
TZOFFSETFROM:+0300
TZOFFSETTO:+0200
TZNAME:EET
DTSTART:20211031T010000
END:STANDARD
BEGIN:DAYLIGHT
TZOFFSETFROM:+0200
TZOFFSETTO:+0300
TZNAME:EEST
DTSTART:20220327T010000
END:DAYLIGHT
BEGIN:STANDARD
TZOFFSETFROM:+0300
TZOFFSETTO:+0200
TZNAME:EET
DTSTART:20221030T010000
END:STANDARD
BEGIN:DAYLIGHT
TZOFFSETFROM:+0200
TZOFFSETTO:+0300
TZNAME:EEST
DTSTART:20230326T010000
END:DAYLIGHT
BEGIN:STANDARD
TZOFFSETFROM:+0300
TZOFFSETTO:+0200
TZNAME:EET
DTSTART:20231029T010000
END:STANDARD
END:VTIMEZONE
BEGIN:VEVENT
DTSTART;VALUE=DATE:20220330
DTEND;VALUE=DATE:20220404
DTSTAMP:20260420T065640
CREATED:20210609T093934Z
LAST-MODIFIED:20210607T212346Z
UID:15126-1648598400-1649030399@teatroclasico.inaem.gob.es
SUMMARY:Alma y palabra - Madrid
DESCRIPTION:
URL:https://teatroclasico.inaem.gob.es/evento/alma-y-palabra-madrid/
LOCATION:Teatro de la Comedia\, Madrid\, Madrid\, España
CATEGORIES:Programación,Teatro de la Comedia,Temporada 2021 / 2022
ATTACH;FMTTYPE=image/jpeg:https://teatroclasico.inaem.gob.es/wp-content/uploads/2021/06/post_RRSS_almaypalabra.jpg
ORGANIZER;CN="Compa%C3%B1%C3%ADa Nacional de Teatro Cl%C3%A1sico":MAILTO:teatro.clasico@inaem.mcu.es
END:VEVENT
BEGIN:VEVENT
DTSTART;VALUE=DATE:20220401
DTEND;VALUE=DATE:20220403
DTSTAMP:20260420T065640
CREATED:20210609T093755Z
LAST-MODIFIED:20220309T124337Z
UID:15138-1648771200-1648943999@teatroclasico.inaem.gob.es
SUMMARY:Lo fingido verdadero - A Coruña (Teatro Rosalía de Castro)
DESCRIPTION:
URL:https://teatroclasico.inaem.gob.es/evento/lo-fingido-verdadero-a-coruna/
LOCATION:Teatro Rosalía de Castro\, Calle del Riego de Agua\, 37\, La Coruña\, La Coruña\, 15003\, España
CATEGORIES:En gira,Programación,Temporada 2021 / 2022
ATTACH;FMTTYPE=image/jpeg:https://teatroclasico.inaem.gob.es/wp-content/uploads/2021/05/post_RRSS_lofingidoverdadero.jpg
END:VEVENT
BEGIN:VEVENT
DTSTART;VALUE=DATE:20220402
DTEND;VALUE=DATE:20220403
DTSTAMP:20260420T065640
CREATED:20210608T180220Z
LAST-MODIFIED:20210613T094256Z
UID:15312-1648857600-1648943999@teatroclasico.inaem.gob.es
SUMMARY:Castelvines y monteses - Santiago
DESCRIPTION:
URL:https://teatroclasico.inaem.gob.es/evento/castelvines-y-monteses-santiago/
LOCATION:Lugar sin nombre\, Madrid
CATEGORIES:En gira,Programación,Temporada 2020 / 2021
ATTACH;FMTTYPE=image/jpeg:https://teatroclasico.inaem.gob.es/wp-content/uploads/2020/09/Cartel-castelvines.jpg
ORGANIZER;CN="Compa%C3%B1%C3%ADa Nacional de Teatro Cl%C3%A1sico":MAILTO:teatro.clasico@inaem.mcu.es
END:VEVENT
BEGIN:VEVENT
DTSTART;VALUE=DATE:20220408
DTEND;VALUE=DATE:20220409
DTSTAMP:20260420T065640
CREATED:20210609T093927Z
LAST-MODIFIED:20210916T123727Z
UID:15127-1649376000-1649462399@teatroclasico.inaem.gob.es
SUMMARY:Alma y palabra - Córdoba
DESCRIPTION:
URL:https://teatroclasico.inaem.gob.es/evento/alma-y-palabra-cordoba/
LOCATION:Lugar sin nombre\, Madrid
CATEGORIES:En gira,Programación,Temporada 2021 / 2022
ATTACH;FMTTYPE=image/jpeg:https://teatroclasico.inaem.gob.es/wp-content/uploads/2021/06/post_RRSS_almaypalabra.jpg
ORGANIZER;CN="Compa%C3%B1%C3%ADa Nacional de Teatro Cl%C3%A1sico":MAILTO:teatro.clasico@inaem.mcu.es
END:VEVENT
BEGIN:VEVENT
DTSTART;VALUE=DATE:20220408
DTEND;VALUE=DATE:20220410
DTSTAMP:20260420T065640
CREATED:20210609T093727Z
LAST-MODIFIED:20220309T125131Z
UID:15141-1649376000-1649548799@teatroclasico.inaem.gob.es
SUMMARY:Lo fingido verdadero - Santander (Palacio de Festivales)
DESCRIPTION:
URL:https://teatroclasico.inaem.gob.es/evento/lo-fingido-verdadero-santander/
LOCATION:Palacio de Festivales\, Madrid
CATEGORIES:En gira,Programación,Temporada 2021 / 2022
ATTACH;FMTTYPE=image/jpeg:https://teatroclasico.inaem.gob.es/wp-content/uploads/2021/05/post_RRSS_lofingidoverdadero.jpg
END:VEVENT
BEGIN:VEVENT
DTSTART;VALUE=DATE:20220414
DTEND;VALUE=DATE:20220606
DTSTAMP:20260420T065640
CREATED:20210609T094034Z
LAST-MODIFIED:20240208T101133Z
UID:14991-1649894400-1654473599@teatroclasico.inaem.gob.es
SUMMARY:El diablo cojuelo - Madrid
DESCRIPTION:
URL:https://teatroclasico.inaem.gob.es/evento/el-diablo-cojuelo-madrid/
LOCATION:Teatro de la Comedia\, Madrid\, Madrid\, España
CATEGORIES:En gira,Programación,Teatro de la Comedia,Temporada 2021 / 2022
ATTACH;FMTTYPE=image/jpeg:https://teatroclasico.inaem.gob.es/wp-content/uploads/2021/05/post_RRSS_eldiablocojuelo.jpg
ORGANIZER;CN="Compa%C3%B1%C3%ADa Nacional de Teatro Cl%C3%A1sico":MAILTO:teatro.clasico@inaem.mcu.es
END:VEVENT
BEGIN:VEVENT
DTSTART;VALUE=DATE:20220415
DTEND;VALUE=DATE:20220606
DTSTAMP:20260420T065640
CREATED:20210609T094111Z
LAST-MODIFIED:20210613T101351Z
UID:15158-1649980800-1654473599@teatroclasico.inaem.gob.es
SUMMARY:El disfraz\, Las cartas y La suerte - Madrid
DESCRIPTION:
URL:https://teatroclasico.inaem.gob.es/evento/el-disfraz-las-cartas-y-la-suerte-madrid/
LOCATION:Teatro de la Comedia\, Madrid\, Madrid\, España
CATEGORIES:En gira,Programación,Teatro de la Comedia,Temporada 2021 / 2022
ATTACH;FMTTYPE=image/jpeg:https://teatroclasico.inaem.gob.es/wp-content/uploads/2021/05/post_RRSS_dcs.jpg
ORGANIZER;CN="Compa%C3%B1%C3%ADa Nacional de Teatro Cl%C3%A1sico":MAILTO:teatro.clasico@inaem.mcu.es
END:VEVENT
BEGIN:VEVENT
DTSTART;VALUE=DATE:20220422
DTEND;VALUE=DATE:20220424
DTSTAMP:20260420T065640
CREATED:20210609T093706Z
LAST-MODIFIED:20220309T125333Z
UID:15143-1650585600-1650758399@teatroclasico.inaem.gob.es
SUMMARY:Lo fingido verdadero - Vitoria (Teatro Principal Antzokia)
DESCRIPTION:
URL:https://teatroclasico.inaem.gob.es/evento/lo-fingido-verdadero-zaragoza/
LOCATION:Teatro Principal Antzokia\, Madrid
CATEGORIES:En gira,Programación,Temporada 2021 / 2022
ATTACH;FMTTYPE=image/jpeg:https://teatroclasico.inaem.gob.es/wp-content/uploads/2021/05/post_RRSS_lofingidoverdadero.jpg
ORGANIZER;CN="Compa%C3%B1%C3%ADa Nacional de Teatro Cl%C3%A1sico":MAILTO:teatro.clasico@inaem.mcu.es
END:VEVENT
BEGIN:VEVENT
DTSTART;VALUE=DATE:20220423
DTEND;VALUE=DATE:20220424
DTSTAMP:20260420T065640
CREATED:20210608T180359Z
LAST-MODIFIED:20210613T094155Z
UID:15315-1650672000-1650758399@teatroclasico.inaem.gob.es
SUMMARY:Castelvines y monteses - Móstoles
DESCRIPTION:
URL:https://teatroclasico.inaem.gob.es/evento/castelvines-y-monteses-mostoles/
LOCATION:Lugar sin nombre\, Madrid
CATEGORIES:En gira,Programación,Temporada 2020 / 2021
ATTACH;FMTTYPE=image/jpeg:https://teatroclasico.inaem.gob.es/wp-content/uploads/2020/09/Cartel-castelvines.jpg
ORGANIZER;CN="Compa%C3%B1%C3%ADa Nacional de Teatro Cl%C3%A1sico":MAILTO:teatro.clasico@inaem.mcu.es
END:VEVENT
BEGIN:VEVENT
DTSTART;VALUE=DATE:20220429
DTEND;VALUE=DATE:20220501
DTSTAMP:20260420T065640
CREATED:20210609T093708Z
LAST-MODIFIED:20220309T125531Z
UID:15145-1651190400-1651363199@teatroclasico.inaem.gob.es
SUMMARY:Lo fingido verdadero - Logroño (Teatro Bretón de los Herreros)
DESCRIPTION:
URL:https://teatroclasico.inaem.gob.es/evento/lo-fingido-verdadero-logrono/
LOCATION:Teatro  Bretón de los Herreros\, Logroño\, Madrid
CATEGORIES:En gira,Programación,Temporada 2021 / 2022
ATTACH;FMTTYPE=image/jpeg:https://teatroclasico.inaem.gob.es/wp-content/uploads/2021/05/post_RRSS_lofingidoverdadero.jpg
ORGANIZER;CN="Compa%C3%B1%C3%ADa Nacional de Teatro Cl%C3%A1sico":MAILTO:teatro.clasico@inaem.mcu.es
END:VEVENT
END:VCALENDAR